{"text_format":"1","workbook":"xlsx","n_sheets":12,"sheets":["Demonstrator","Start","Einzelbetrachtung","Berechnung","Daten Diagramm","Rüstzeitmatrix 1","Rüstzeitmatrix 2","Rüstzeitmatrix 3","Rüstzeitmatrix 4","Rüstzeitmatrix 5","Rüstzeitmatrix 6","Rüstzeitklassen"],"not_rendered":{"charts":10,"images":62,"macros":1,"external_links":1,"defined_names":2,"comments":0,"pivot_tables":0},"unopened":[],"bounds":{"document_bytes":16777216,"sheet_cells":100000,"rows_first":2000,"rows_last":500,"rows_between":2000,"halvings":0,"cell_chars":16384,"cell_head_chars":4096},"cells_cut":0,"cells_raw":0,"read":"whole","date_system":"1900"}

{"sheet":"Demonstrator","index":0,"n_rows":42,"n_cols":33,"rows_kept":42,"cut":false,"hidden":true,"merged":[[21,1,21,2],[19,31,19,32],[21,31,21,32],[22,31,22,32],[19,1,19,2],[20,1,20,2],[16,28,16,29],[20,24,21,25],[20,5,21,6],[4,11,5,12],[33,11,34,12],[4,18,5,19],[33,18,34,19]]}
[]
[]
[]
[]
[null,null,null,null,null,null,null,null,null,null,null,"AS 2",null,null,null,null,null,null,"AS 3"]
[]
[]
[null,null,null,null,null,null,null,null,null,null,null,"Parameter",null,null,null,null,null,null,"Parameter"]
[null,null,null,null,null,null,null,null,null,null,null,"Durchlaufzeit",12,null,null,null,null,null,"Durchlaufzeit",0.4]
[null,null,null,null,null,null,null,null,null,null,null,"Leistung",1,null,null,null,null,null,"Leistung",5]
[null,null,null,null,null,null,null,null,null,null,null,"Bestand",12,null,null,null,null,null,"Bestand",2]
[null,null,null,null,null,null,null,null,null,null,null,"gesp. RZ / BKT",17.473729630721088,null,null,null,null,null,"gesp. RZ / BKT",21.267928187501781]
[null,null,null,null,null,null,null,null,null,null,null,"RZ-Potential",0.70255829996846475,null,null,null,null,null,"RZ-Potential",0.3364549028672561]
[]
[]
[]
[null,null,null,null,null,null,null,null,null,null,null,null,null,null,null,null,null,null,null,null,null,null,null,null,null,null,null,null,"Sicherheitzeit Puffer (SZ)"]
[null,null,null,null,null,null,null,null,null,null,null,null,null,null,null,null,null,null,null,null,null,null,null,null,null,null,null,null,13,"BKT"]
[null,null,null,null,null,null,null,null,null,0.19999999999999996]
[null,"Systemeingang",null,null,null,null,null,null,null,null,null,null,null,null,null,null,null,null,null,null,null,null,null,null,null,null,null,null,null,null,null,"Systemausgang"]
[null,"reihenfolgebedingte",null,null,null,"AS 1",null,null,null,null,null,null,null,null,null,null,null,null,null,null,null,null,null,null,"AS 6"]
[null,"Standardabweichung",null,null,null,null,null,null,null,null,null,null,null,null,null,null,null,null,null,null,null,null,null,null,null,null,null,null,null,null,null,"Termineinhaltung "]
[null,9,"BKT",null,null,null,null,null,null,null,null,null,null,null,null,null,null,null,null,null,null,null,null,null,null,null,null,null,null,null,null,{"$f":"_xlfn.NORM.DIST(AC18,0,Berechnung!B10,TRUE)","v":0.8716061080549744}]
[null,"TT ± 5 BKT",{"$f":"'Daten Diagramm'!C28-'Daten Diagramm'!C18","v":0.42148527849205614},null,null,"Parameter",null,null,null,0.8,null,null,null,null,null,null,null,null,null,null,null,null,null,null,"Parameter",null,null,null,null,null,null,"TT [-5;5+SZ]",{"$f":"INDIRECT(\"'Daten Diagramm'!Q\"&28+ROUNDDOWN(AC18,0))+(INDIRECT(\"'Daten Diagramm'!Q\"&28+ROUNDUP(AC18,0))- INDIRECT(\"'Daten Diagramm'!Q\"&28+ROUNDDOWN(AC18,0)))*ROUND((AC18-ROUNDDOWN(AC18,0)),1)-'Daten Diagramm'!Q18","v":0.61045262842971837}]
[null,"TT ± 10 BKT",{"$f":"'Daten Diagramm'!C33-'Daten Diagramm'!C13","v":0.73347947419498905},null,null,"Durchlaufzeit",5,null,null,null,null,null,null,null,null,null,null,null,null,null,null,null,null,null,"Durchlaufzeit",5,null,null,null,null,null,"TT [-10;10+SZ]",{"$f":"INDIRECT(\"'Daten Diagramm'!Q\"&33+ROUNDDOWN(AC18,0))+(INDIRECT(\"'Daten Diagramm'!Q\"&33+ROUNDUP(AC18,0))- INDIRECT(\"'Daten Diagramm'!Q\"&33+ROUNDDOWN(AC18,0)))*ROUND((AC18-ROUNDDOWN(AC18,0)),1)-'Daten Diagramm'!Q13","v":0.78607291749586539}]
[null,"TT ± 15 BKT",{"$f":"'Daten Diagramm'!C38-'Daten Diagramm'!C8","v":0.90441929545437061},null,null,"Leistung",2,null,null,null,null,null,null,null,null,null,null,null,null,null,null,null,null,null,"Leistung",5]
[null,null,null,null,null,"Bestand",10,null,null,null,null,null,null,null,null,null,null,null,null,null,null,null,null,null,"Bestand",25]
[null,null,null,null,null,"gesp. RZ / BKT",18.874983037565745,null,null,null,null,null,null,null,null,null,null,null,null,null,null,null,null,null,"gesp. RZ / BKT",93.206327160251291]
[null,null,null,null,null,"RZ-Potential",0.79183468804644375,null,null,null,null,null,null,null,null,null,null,null,null,null,null,null,null,null,"RZ-Potential",0.92676557385445724]
[]
[]
[]
[]
[null,null,null,null,null,null,null,null,null,null,null,"AS 4",null,null,null,null,null,null,"AS 5"]
[]
[]
[null,null,null,null,null,null,null,null,null,null,null,"Parameter",null,null,null,null,null,null,"Parameter"]
[null,null,null,null,null,null,null,null,null,null,null,"Durchlaufzeit",4,null,null,null,null,null,"Durchlaufzeit",2]
[null,null,null,null,null,null,null,null,null,null,null,"Leistung",2.5,null,null,null,null,null,"Leistung",5]
[null,null,null,null,null,null,null,null,null,null,null,"Bestand",10,null,null,null,null,null,"Bestand",10]
[null,null,null,null,null,null,null,null,null,null,null,"gesp. RZ / BKT",24.99947455330912,null,null,null,null,null,"gesp. RZ / BKT",47.697465811602584]
[null,null,null,null,null,null,null,null,null,null,null,"RZ-Potential",0.78083026574601222,null,null,null,null,null,"RZ-Potential",0.82276936562446279]

{"sheet":"Start","index":1,"n_rows":0,"n_cols":0,"rows_kept":0,"cut":false,"hidden":false,"merged":[]}

{"sheet":"Einzelbetrachtung","index":2,"n_rows":30,"n_cols":14,"rows_kept":30,"cut":false,"hidden":true,"merged":[[29,4,29,5],[25,4,25,5],[1,1,1,18],[26,4,26,5],[27,4,27,5],[28,4,28,5]]}
[]
[null,"Terminabweichungssäulendiagramm Einzelsysteme"]
[]
[]
[]
[]
[]
[]
[]
[]
[]
[]
[]
[]
[]
[]
[]
[]
[]
[]
[]
[]
[]
[]
[null,null,null,null,"Kennzahlen",null,null,null,null,null,null,null,"Eingang","Ausgang"]
[null,null,null,null,"Arbeitssystem",null,2,null,null,null,"Stdabw. TA  [Tagen]",null,9,{"$f":"TAA(M26,INDIRECT(\"Berechnung!M\" & 1+G26),G29,G27)","v":14.594519519326424}]
[null,null,null,null,"mittlere Bestand [Auftr.]",null,12,null,null,null,"Termintreue für ± 5 BKT",null,{"$f":"IFERROR(NORMDIST(5,0,M26,TRUE)-NORMDIST(-5,0,M26,TRUE),1)","v":0.42148527849205614},{"$f":"IFERROR(NORMDIST(5,0,N26,TRUE)-NORMDIST(-5,0,N26,TRUE),1)","v":0.26809635052811731}]
[null,null,null,null,"Mittlere Leistung [Auftr./Tag]",null,1,null,null,null,"Termintreue für ± 10 BKT",null,{"$f":"IFERROR(NORMDIST(10,0,M26,TRUE)-NORMDIST(-10,0,M26,TRUE),1)","v":0.73347947419498905},{"$f":"IFERROR(NORMDIST(10,0,N26,TRUE)-NORMDIST(-10,0,N26,TRUE),1)","v":0.50677515265718998}]
[null,null,null,null,"vir. Durchlaufzeit/WIP [Tagen]",null,12,null,null,null,"Termintreue für ± 15 BKT",null,{"$f":"IFERROR(NORMDIST(15,0,M26,TRUE)-NORMDIST(-15,0,M26,TRUE),1)","v":0.90441929545437061},{"$f":"IFERROR(NORMDIST(15,0,N26,TRUE)-NORMDIST(-15,0,N26,TRUE),1)","v":0.69594811575575743}]
[null,null,null,null,"gesparte RZ pro BKT [Min/Tag]",null,14.656521369358671]

{"sheet":"Berechnung","index":3,"n_rows":84,"n_cols":24,"rows_kept":84,"cut":false,"hidden":true,"merged":[]}
[null,null,null,null,"FIFO",null,"Gleichverteilung",null,"Arbeitssystem","FIFO","FPA","Rüst","Reihenfolgeregel",null,null,null,"Max Durchlaufzeit",null,null,"Knoten 6",null,null,{"$f":"'Daten Diagramm'!T24*('Daten Diagramm'!A24^2)","v":4.069648933210069E-2},{"$f":"'Daten Diagramm'!T3","v":5.1402296891185865E-3}]
["Knoten ","Streuung",null,null,"FPA",null,"Erlang-1",null,"AS1",true,false,false,{"$f":"IF(J2,\"FIFO\",IF(K2,\"FPA\",\"Rüstoptimiert\"))","v":"FIFO"},null,null,{"$f":"Demonstrator!G25+Demonstrator!M9+Demonstrator!T9+Demonstrator!Z25+Demonstrator!AC18","v":35.4},{"$f":"MAX(P2:P3)","v":35.4},null,null,false,null,null,{"$f":"'Daten Diagramm'!T25*('Daten Diagramm'!A25^2)","v":0.1600463517272516}]
[0,{"$f":"Demonstrator!B23","v":9},null,null,"Rüstoptimiert",null,"Erlang-2",null,"AS2",false,false,true,"Rüstoptimiert",null,null,{"$f":"Demonstrator!G25+Demonstrator!M38+Demonstrator!T38+Demonstrator!Z25+Demonstrator!AC18","v":29},null,null,null,true,null,null,{"$f":"'Daten Diagramm'!T26*('Daten Diagramm'!A26^2)","v":0.35007245514506191}]
[1,{"$f":"TAA(B3,M2,Demonstrator!G25,Demonstrator!G27)","v":9},null,null,null,null,"Normalverteilung",null,"AS3",false,false,true,"Rüstoptimiert",null,null,null,null,null,null,null,null,null,{"$f":"'Daten Diagramm'!T27*('Daten Diagramm'!A27^2)","v":0.59825820145076558}]
[2,{"$f":"TAA(B4,M3,Demonstrator!M9,Demonstrator!M11)","v":14.594519519326424},null,null,null,null,null,null,"AS4",true,false,false,"FIFO",null,null,null,null,null,null,null,null,null,{"$f":"'Daten Diagramm'!T28*('Daten Diagramm'!A28^2)","v":0.88862463047031914}]
[3,{"$f":"TAA(B5,M4,Demonstrator!T9,Demonstrator!T11)","v":14.597260016866178},null,null,null,null,null,null,"AS5",true,false,false,"FIFO",null,null,null,null,null,null,null,null,null,{"$f":"'Daten Diagramm'!T29*('Daten Diagramm'!A29^2)","v":1.2030692692293956}]
[4,{"$f":"TAA(B4,M5,Demonstrator!M38,Demonstrator!M40)","v":9},null,null,null,null,null,null,"AS6",false,false,true,"Rüstoptimiert",null,null,null,null,null,null,null,null,null,{"$f":"'Daten Diagramm'!T30*('Daten Diagramm'!A30^2)","v":1.5228249230406197}]
[5,{"$f":"TAA(B7,M6,Demonstrator!T38,Demonstrator!T40)","v":9},null,null,null,null,null,null,null,null,null,null,null,null,null,null,null,null,null,null,null,null,{"$f":"'Daten Diagramm'!T31*('Daten Diagramm'!A31^2)","v":1.8298902636390686}]
[6,{"$f":"SQRT(B6^2*Demonstrator!J19+Demonstrator!J24*B8^2)","v":10.36416904532148},{"$f":"IFERROR(SQRT(2*SUM(W:W)),0)","v":10.36416853149426},null,null,null,null,null,null,null,null,null,null,null,null,null,null,null,null,null,null,null,{"$f":"'Daten Diagramm'!T32*('Daten Diagramm'!A32^2)","v":2.1082958684099111}]
[7,{"$f":"TAA(B9,M7,Demonstrator!Z25,Demonstrator!Z27)","v":11.463681782045416},null,null,null,null,null,null,null,null,null,null,null,null,null,null,null,null,null,null,null,null,{"$f":"'Daten Diagramm'!T33*('Daten Diagramm'!A33^2)","v":2.3450966885394764}]
["Knoten 8",null,null,null,null,null,null,null,null,null,null,null,null,null,null,null,null,null,null,null,null,null,{"$f":"'Daten Diagramm'!T34*('Daten Diagramm'!A34^2)","v":2.531020119350579}]
[null,null,null,null,null,null,null,null,null,null,null,null,null,null,null,null,null,null,null,null,null,null,{"$f":"'Daten Diagramm'!T35*('Daten Diagramm'!A35^2)","v":2.6607420760495653}]
[null,null,null,null,null,null,null,null,null,null,null,null,null,null,null,null,null,null,null,null,null,null,{"$f":"'Daten Diagramm'!T36*('Daten Diagramm'!A36^2)","v":2.7328057050001346}]
[null,null,null,null,null,null,null,null,null,null,null,null,null,null,null,null,null,null,null,null,null,null,{"$f":"'Daten Diagramm'!T37*('Daten Diagramm'!A37^2)","v":2.7492332770674706}]
[null,null,null,null,null,null,null,null,null,null,null,null,null,null,null,null,null,null,null,null,null,null,{"$f":"'Daten Diagramm'!T38*('Daten Diagramm'!A38^2)","v":2.7149075603172088}]
[null,null,null,null,null,null,null,null,null,null,null,null,null,null,null,null,null,null,null,null,null,null,{"$f":"'Daten Diagramm'!T39*('Daten Diagramm'!A39^2)","v":2.6368125616817104}]
[null,null,null,null,null,null,null,null,null,null,null,null,null,null,null,null,null,null,null,null,null,null,{"$f":"'Daten Diagramm'!T40*('Daten Diagramm'!A40^2)","v":2.5232248949068801}]
[null,null,null,null,null,null,null,null,null,null,null,null,null,null,null,null,null,null,null,null,null,null,{"$f":"'Daten Diagramm'!T41*('Daten Diagramm'!A41^2)","v":2.3829377852912397}]
[null,null,null,null,null,null,null,null,null,null,null,null,null,null,null,null,null,null,null,null,null,null,{"$f":"'Daten Diagramm'!T42*('Daten Diagramm'!A42^2)","v":2.2245826671593756}]
[null,null,null,null,null,null,null,null,null,null,null,null,null,null,null,null,null,null,null,null,null,null,{"$f":"'Daten Diagramm'!T43*('Daten Diagramm'!A43^2)","v":2.0560918756474345}]
[null,null,null,null,null,null,null,null,null,null,null,null,null,null,null,null,null,null,null,null,null,null,{"$f":"'Daten Diagramm'!T44*('Daten Diagramm'!A44^2)","v":1.8843234958193167}]
[null,null,null,null,null,null,null,null,null,null,null,null,null,null,null,null,null,null,null,null,null,null,{"$f":"'Daten Diagramm'!T45*('Daten Diagramm'!A45^2)","v":1.7148489390156776}]
[null,null,null,null,null,null,null,null,null,null,null,null,null,null,null,null,null,null,null,null,null,null,{"$f":"'Daten Diagramm'!T46*('Daten Diagramm'!A46^2)","v":1.5518873826830271}]
[null,null,null,null,null,null,null,null,null,null,null,null,null,null,null,null,null,null,null,null,null,null,{"$f":"'Daten Diagramm'!T47*('Daten Diagramm'!A47^2)","v":1.3983599921329612}]
[null,null,null,null,null,null,null,null,null,null,null,null,null,null,null,null,null,null,null,null,null,null,{"$f":"'Daten Diagramm'!T48*('Daten Diagramm'!A48^2)","v":1.2560310717294729}]
[null,null,null,null,null,null,null,null,null,null,null,null,null,null,null,null,null,null,null,null,null,null,{"$f":"'Daten Diagramm'!T49*('Daten Diagramm'!A49^2)","v":1.1257024400534523}]
[null,null,null,null,null,null,null,null,null,null,null,null,null,null,null,null,null,null,null,null,null,null,{"$f":"'Daten Diagramm'!T50*('Daten Diagramm'!A50^2)","v":1.0074303436960601}]
[null,null,null,null,null,null,null,null,null,null,null,null,null,null,null,null,null,null,null,null,null,null,{"$f":"'Daten Diagramm'!T51*('Daten Diagramm'!A51^2)","v":0.90073982179839074}]
[null,null,null,null,null,null,null,null,null,null,null,null,null,null,null,null,null,null,null,null,null,null,{"$f":"'Daten Diagramm'!T52*('Daten Diagramm'!A52^2)","v":0.8048183016042002}]
[null,null,null,null,null,null,null,null,null,null,null,null,null,null,null,null,null,null,null,null,null,null,{"$f":"'Daten Diagramm'!T53*('Daten Diagramm'!A53^2)","v":0.71867720882864006}]
[null,null,null,null,null,null,null,null,null,null,null,null,null,null,null,null,null,null,null,null,null,null,{"$f":"'Daten Diagramm'!T54*('Daten Diagramm'!A54^2)","v":0.6412766623576367}]
[null,null,null,null,null,null,null,null,null,null,null,null,null,null,null,null,null,null,null,null,null,null,{"$f":"'Daten Diagramm'!T55*('Daten Diagramm'!A55^2)","v":0.57161335987983819}]
[null,null,null,null,null,null,null,null,null,null,null,null,null,null,null,null,null,null,null,null,null,null,{"$f":"'Daten Diagramm'!T56*('Daten Diagramm'!A56^2)","v":0.50877532369125511}]
[null,null,null,null,null,null,null,null,null,null,null,null,null,null,null,null,null,null,null,null,null,null,{"$f":"'Daten Diagramm'!T57*('Daten Diagramm'!A57^2)","v":0.45196928673767706}]
[null,null,null,null,null,null,null,null,null,null,null,null,null,null,null,null,null,null,null,null,null,null,{"$f":"'Daten Diagramm'!T58*('Daten Diagramm'!A58^2)","v":0.40052735329596428}]
[null,null,null,null,null,null,null,null,null,null,null,null,null,null,null,null,null,null,null,null,null,null,{"$f":"'Daten Diagramm'!T59*('Daten Diagramm'!A59^2)","v":0.35389945673306789}]
[null,null,null,null,null,null,null,null,null,null,null,null,null,null,null,null,null,null,null,null,null,null,{"$f":"'Daten Diagramm'!T60*('Daten Diagramm'!A60^2)","v":0.31163737611138032}]
[null,null,null,null,null,null,null,null,null,null,null,null,null,null,null,null,null,null,null,null,null,null,{"$f":"'Daten Diagramm'!T61*('Daten Diagramm'!A61^2)","v":0.27337495884956575}]
[null,null,null,null,null,null,null,null,null,null,null,null,null,null,null,null,null,null,null,null,null,null,{"$f":"'Daten Diagramm'!T62*('Daten Diagramm'!A62^2)","v":0.2388079693681277}]
[null,null,null,null,null,null,null,null,null,null,null,null,null,null,null,null,null,null,null,null,null,null,{"$f":"'Daten Diagramm'!T63*('Daten Diagramm'!A63^2)","v":0.20767581787545802}]
[null,null,null,null,null,null,null,null,null,null,null,null,null,null,null,null,null,null,null,null,null,null,{"$f":"'Daten Diagramm'!T64*('Daten Diagramm'!A64^2)","v":0.17974642685216727}]
[null,null,null,null,null,null,null,null,null,null,null,null,null,null,null,null,null,null,null,null,null,null,{"$f":"'Daten Diagramm'!T65*('Daten Diagramm'!A65^2)","v":0.15480471581555977}]
[null,null,null,null,null,null,null,null,null,null,null,null,null,null,null,null,null,null,null,null,null,null,{"$f":"'Daten Diagramm'!T66*('Daten Diagramm'!A66^2)","v":0.13264463462190104}]
[null,null,null,null,null,null,null,null,null,null,null,null,null,null,null,null,null,null,null,null,null,null,{"$f":"'Daten Diagramm'!T67*('Daten Diagramm'!A67^2)","v":0.11306433019759607}]
[null,null,null,null,null,null,null,null,null,null,null,null,null,null,null,null,null,null,null,null,null,null,{"$f":"'Daten Diagramm'!T68*('Daten Diagramm'!A68^2)","v":9.5863853919704617E-2}]
[null,null,null,null,null,null,null,null,null,null,null,null,null,null,null,null,null,null,null,null,null,null,{"$f":"'Daten Diagramm'!T69*('Daten Diagramm'!A69^2)","v":8.0844764383325163E-2}]
[null,null,null,null,null,null,null,null,null,null,null,null,null,null,null,null,null,null,null,null,null,null,{"$f":"'Daten Diagramm'!T70*('Daten Diagramm'!A70^2)","v":6.7811012350453809E-2}]
[null,null,null,null,null,null,null,null,null,null,null,null,null,null,null,null,null,null,null,null,null,null,{"$f":"'Daten Diagramm'!T71*('Daten Diagramm'!A71^2)","v":5.6570576620934732E-2}]
[null,null,null,null,null,null,null,null,null,null,null,null,null,null,null,null,null,null,null,null,null,null,{"$f":"'Daten Diagramm'!T72*('Daten Diagramm'!A72^2)","v":4.6937424504812468E-2}]
[null,null,null,null,null,null,null,null,null,null,null,null,null,null,null,null,null,null,null,null,null,null,{"$f":"'Daten Diagramm'!T73*('Daten Diagramm'!A73^2)","v":3.8733479450142834E-2}]
[null,null,null,null,null,null,null,null,null,null,null,null,null,null,null,null,null,null,null,null,null,null,{"$f":"'Daten Diagramm'!T74*('Daten Diagramm'!A74^2)","v":3.17903790507192E-2}]
[null,null,null,null,null,null,null,null,null,null,null,null,null,null,null,null,null,null,null,null,null,null,{"$f":"'Daten Diagramm'!T75*('Daten Diagramm'!A75^2)","v":2.595089250508353E-2}]
[null,null,null,null,null,null,null,null,null,null,null,null,null,null,null,null,null,null,null,null,null,null,{"$f":"'Daten Diagramm'!T76*('Daten Diagramm'!A76^2)","v":2.1069935037327178E-2}]
[null,null,null,null,null,null,null,null,null,null,null,null,null,null,null,null,null,null,null,null,null,null,{"$f":"'Daten Diagramm'!T77*('Daten Diagramm'!A77^2)","v":1.7015167925814412E-2}]
[null,null,null,null,null,null,null,null,null,null,null,null,null,null,null,null,null,null,null,null,null,null,{"$f":"'Daten Diagramm'!T78*('Daten Diagramm'!A78^2)","v":1.3667208316916807E-2}]
[null,null,null,null,null,null,null,null,null,null,null,null,null,null,null,null,null,null,null,null,null,null,{"$f":"'Daten Diagramm'!T79*('Daten Diagramm'!A79^2)","v":1.0919495407179949E-2}]
[null,null,null,null,null,null,null,null,null,null,null,null,null,null,null,null,null,null,null,null,null,null,{"$f":"'Daten Diagramm'!T80*('Daten Diagramm'!A80^2)","v":8.6778715650036933E-3}]
[null,null,null,null,null,null,null,null,null,null,null,null,null,null,null,null,null,null,null,null,null,null,{"$f":"'Daten Diagramm'!T81*('Daten Diagramm'!A81^2)","v":6.8599411195512877E-3}]
[null,null,null,null,null,null,null,null,null,null,null,null,null,null,null,null,null,null,null,null,null,null,{"$f":"'Daten Diagramm'!T82*('Daten Diagramm'!A82^2)","v":5.3942681530070738E-3}]
[null,null,null,null,null,null,null,null,null,null,null,null,null,null,null,null,null,null,null,null,null,null,{"$f":"'Daten Diagramm'!T83*('Daten Diagramm'!A83^2)","v":4.2194695923290721E-3}]
[null,null,null,null,null,null,null,null,null,null,null,null,null,null,null,null,null,null,null,null,null,null,{"$f":"'Daten Diagramm'!T84*('Daten Diagramm'!A84^2)","v":3.283252715619793E-3}]
[null,null,null,null,null,null,null,null,null,null,null,null,null,null,null,null,null,null,null,null,null,null,{"$f":"'Daten Diagramm'!T85*('Daten Diagramm'!A85^2)","v":2.541438010298078E-3}]
[null,null,null,null,null,null,null,null,null,null,null,null,null,null,null,null,null,null,null,null,null,null,{"$f":"'Daten Diagramm'!T86*('Daten Diagramm'!A86^2)","v":1.9569999743682814E-3}]
[null,null,null,null,null,null,null,null,null,null,null,null,null,null,null,null,null,null,null,null,null,null,{"$f":"'Daten Diagramm'!T87*('Daten Diagramm'!A87^2)","v":1.4991505060801781E-3}]
[null,null,null,null,null,null,null,null,null,null,null,null,null,null,null,null,null,null,null,null,null,null,{"$f":"'Daten Diagramm'!T88*('Daten Diagramm'!A88^2)","v":1.142482340522555E-3}]
[null,null,null,null,null,null,null,null,null,null,null,null,null,null,null,null,null,null,null,null,null,null,{"$f":"'Daten Diagramm'!T89*('Daten Diagramm'!A89^2)","v":8.6618376271861155E-4}]
[null,null,null,null,null,null,null,null,null,null,null,null,null,null,null,null,null,null,null,null,null,null,{"$f":"'Daten Diagramm'!T90*('Daten Diagramm'!A90^2)","v":6.5333063432227606E-4}]
[null,null,null,null,null,null,null,null,null,null,null,null,null,null,null,null,null,null,null,null,null,null,{"$f":"'Daten Diagramm'!T91*('Daten Diagramm'!A91^2)","v":4.9025760821196855E-4}]
[null,null,null,null,null,null,null,null,null,null,null,null,null,null,null,null,null,null,null,null,null,null,{"$f":"'Daten Diagramm'!T92*('Daten Diagramm'!A92^2)","v":3.6600720751790537E-4}]
[null,null,null,null,null,null,null,null,null,null,null,null,null,null,null,null,null,null,null,null,null,null,{"$f":"'Daten Diagramm'!T93*('Daten Diagramm'!A93^2)","v":2.7185311248373767E-4}]
[null,null,null,null,null,null,null,null,null,null,null,null,null,null,null,null,null,null,null,null,null,null,{"$f":"'Daten Diagramm'!T94*('Daten Diagramm'!A94^2)","v":2.008924107979309E-4}]
[null,null,null,null,null,null,null,null,null,null,null,null,null,null,null,null,null,null,null,null,null,null,{"$f":"'Daten Diagramm'!T95*('Daten Diagramm'!A95^2)","v":1.4770059918903065E-4}]
[null,null,null,null,null,null,null,null,null,null,null,null,null,null,null,null,null,null,null,null,null,null,{"$f":"'Daten Diagramm'!T96*('Daten Diagramm'!A96^2)","v":1.0804265357056905E-4}]
[null,null,null,null,null,null,null,null,null,null,null,null,null,null,null,null,null,null,null,null,null,null,{"$f":"'Daten Diagramm'!T97*('Daten Diagramm'!A97^2)","v":7.8633398191446752E-5}]
[null,null,null,null,null,null,null,null,null,null,null,null,null,null,null,null,null,null,null,null,null,null,{"$f":"'Daten Diagramm'!T98*('Daten Diagramm'!A98^2)","v":5.694060008423421E-5}]
[null,null,null,null,null,null,null,null,null,null,null,null,null,null,null,null,null,null,null,null,null,null,{"$f":"'Daten Diagramm'!T99*('Daten Diagramm'!A99^2)","v":4.1024607088938513E-5}]
[null,null,null,null,null,null,null,null,null,null,null,null,null,null,null,null,null,null,null,null,null,null,{"$f":"'Daten Diagramm'!T100*('Daten Diagramm'!A100^2)","v":2.940886429786102E-5}]
[null,null,null,null,null,null,null,null,null,null,null,null,null,null,null,null,null,null,null,null,null,null,{"$f":"'Daten Diagramm'!T101*('Daten Diagramm'!A101^2)","v":2.0976227769062238E-5}]
[null,null,null,null,null,null,null,null,null,null,null,null,null,null,null,null,null,null,null,null,null,null,{"$f":"'Daten Diagramm'!T102*('Daten Diagramm'!A102^2)","v":1.4886601860690192E-5}]
[null,null,null,null,null,null,null,null,null,null,null,null,null,null,null,null,null,null,null,null,null,null,{"$f":"'Daten Diagramm'!T103*('Daten Diagramm'!A103^2)","v":1.0512025245280335E-5}]
[null,null,null,null,null,null,null,null,null,null,null,null,null,null,null,null,null,null,null,null,null,null,{"$f":"'Daten Diagramm'!T104*('Daten Diagramm'!A104^2)","v":7.3858981356150226E-6}]
[null,null,null,null,null,null,null,null,null,null,null,null,null,null,null,null,null,null,null,null,null,null,{"$f":"'Daten Diagramm'!T105*('Daten Diagramm'!A105^2)","v":5.1635651344972227E-6}]
[null,null,null,null,null,null,null,null,null,null,null,null,null,null,null,null,null,null,null,null,null,null,{"$f":"'Daten Diagramm'!T106*('Daten Diagramm'!A106^2)","v":3.5919364385583604E-6}]
[null,null,null,null,null,null,null,null,null,null,null,null,null,null,null,null,null,null,null,null,null,null,{"$f":"'Daten Diagramm'!T107*('Daten Diagramm'!A107^2)","v":2.4862417664957702E-6}]

{"sheet":"Daten Diagramm","index":4,"n_rows":149,"n_cols":21,"rows_kept":149,"cut":false,"hidden":true,"merged":[]}
["x","Eingang",null,"Knoten 1",null,"Knoten 2",null,"Knoten 3",null,"Knoten 4",null,"Knoten 5",null,"Knoten 6",null,"Knoten 7",null,"Knoten 8",null,"Knoten 6 neu"]
[null,"einzel","kumuliert","einzel","kumuliert","einzel","kumuliert","einzel","kumuliert","einzel","kumuliert","einzel","kumuliert","einzel","kumuliert","einzel","kumuliert","einzel","kumuliert","einzel","kumuliert"]
[-20,{"$f":"IF(AND($A3=0,Berechnung!$B$3=0),1,IF(Berechnung!$B$3<>0,_xlfn.NORM.DIST($A3,0,Berechnung!$B$3,FALSE),0))","v":3.7526278928078482E-3},{"$f":"IF(AND($A3>=0,Berechnung!$B$3=0),1,IF(Berechnung!$B$3<>0,_xlfn.NORM.DIST($A3,0,Berechnung!$B$3,TRUE),0))","v":1.3134145691021117E-2},{"$f":"IF(AND($A3=0,Berechnung!$B$4=0),1,IF(Berechnung!$B$4<>0,_xlfn.NORM.DIST($A3,0,Berechnung!$B$4,FALSE),0))","v":3.7526278928078482E-3},{"$f":"IF(AND($A3>=0,Berechnung!$B$4=0),1,IF(Berechnung!$B$4<>0,_xlfn.NORM.DIST($A3,0,Berechnung!$B$4,TRUE),0))","v":1.3134145691021117E-2},{"$f":"IF(AND($A3=0,Berechnung!$B$5=0),1,IF(Berechnung!$B$5<>0,_xlfn.NORM.DIST($A3,0,Berechnung!$B$5,FALSE),0))","v":1.0688875489702473E-2},{"$f":"IF(AND($A3>=0,Berechnung!$B$5=0),1,IF(Berechnung!$B$5<>0,_xlfn.NORM.DIST($A3,0,Berechnung!$B$5,TRUE),0))","v":8.5284558505392322E-2},{"$f":"IF(AND($A3=0,Berechnung!$B$6=0),1,IF(Berechnung!$B$6<>0,_xlfn.NORM.DIST($A3,0,Berechnung!$B$6,FALSE),0))","v":1.0690636874361538E-2},{"$f":"IF(AND($A3>=0,Berechnung!$B$6=0),1,IF(Berechnung!$B$6<>0,_xlfn.NORM.DIST($A3,0,Berechnung!$B$6,TRUE),0))","v":8.5324700286847022E-2},{"$f":"IF(AND($A3=0,Berechnung!$B$7=0),1,IF(Berechnung!$B$7<>0,_xlfn.NORM.DIST($A3,0,Berechnung!$B$7,FALSE),0))","v":3.7526278928078482E-3},{"$f":"IF(AND($A3>=0,Berechnung!$B$7=0),1,IF(Berechnung!$B$7<>0,_xlfn.NORM.DIST($A3,0,Berechnung!$B$7,TRUE),0))","v":1.3134145691021117E-2},{"$f":"IF(AND($A3=0,Berechnung!$B$8=0),1,IF(Berechnung!$B$8<>0,_xlfn.NORM.DIST($A3,0,Berechnung!$B$8,FALSE),0))","v":3.7526278928078482E-3},{"$f":"IF(AND($A3>=0,Berechnung!$B$8=0),1,IF(Berechnung!$B$8<>0,_xlfn.NORM.DIST($A3,0,Berechnung!$B$8,TRUE),0))","v":1.3134145691021117E-2},{"$f":"IF(AND($A3=0,Berechnung!$B$9=0),1,IF(Berechnung!$B$9<>0,_xlfn.NORM.DIST($A3,0,Berechnung!$B$9,FALSE),0))","v":5.9807271674384857E-3},{"$f":"IF(AND($A3>=0,Berechnung!$B$9=0),1,IF(Berechnung!$B$9<>0,_xlfn.NORM.DIST($A3,0,Berechnung!$B$9,TRUE),0))","v":2.6820437056426536E-2},{"$f":"IF(AND($A3=0,Berechnung!$B$10=0),1,IF(Berechnung!$B$10<>0,_xlfn.NORM.DIST($A3,0,Berechnung!$B$10,FALSE),0))","v":7.5969595773970333E-3},{"$f":"IF(AND($A3>=0,Berechnung!$B$10=0),1,IF(Berechnung!$B$10<>0,_xlfn.NORM.DIST($A3,0,Berechnung!$B$10,TRUE),0))","v":4.0523759900677324E-2},{"$f":"IF(AND($A3=0,Berechnung!$B$11=0),1,IF(Berechnung!$B$11<>0,_xlfn.NORM.DIST($A3,0,Berechnung!$B$11,FALSE),0))","v":0},{"$f":"IF(AND($A3>=0,Berechnung!$B$11=0),1,IF(Berechnung!$B$11<>0,_xlfn.NORM.DIST($A3,0,Berechnung!$B$11,TRUE),0))","v":0},{"$f":"Demonstrator!$J$19*'Daten Diagramm'!H3+Demonstrator!$J$24*'Daten Diagramm'!L3","v":5.1402296891185865E-3},{"$f":"Demonstrator!$J$19*'Daten Diagramm'!I3+Demonstrator!$J$24*'Daten Diagramm'!M3","v":2.7572256610186294E-2}]
[-19,{"$f":"IF(AND(A4=0,Berechnung!$B$3=0),1,IF(Berechnung!$B$3<>0,_xlfn.NORM.DIST(A4,0,Berechnung!$B$3,FALSE),0))","v":4.7740600515508011E-3},{"$f":"IF(AND($A4>=0,Berechnung!$B$3=0),1,IF(Berechnung!$B$3<>0,_xlfn.NORM.DIST($A4,0,Berechnung!$B$3,TRUE),0))","v":1.7381381311114216E-2},{"$f":"IF(AND($A4=0,Berechnung!$B$4=0),1,IF(Berechnung!$B$4<>0,_xlfn.NORM.DIST($A4,0,Berechnung!$B$4,FALSE),0))","v":4.7740600515508011E-3},{"$f":"IF(AND($A4>=0,Berechnung!$B$4=0),1,IF(Berechnung!$B$4<>0,_xlfn.NORM.DIST($A4,0,Berechnung!$B$4,TRUE),0))","v":1.7381381311114216E-2},{"$f":"IF(AND($A4=0,Berechnung!$B$5=0),1,IF(Berechnung!$B$5<>0,_xlfn.NORM.DIST($A4,0,Berechnung!$B$5,FALSE),0))","v":1.1713626503653854E-2},{"$f":"IF(AND($A4>=0,Berechnung!$B$5=0),1,IF(Berechnung!$B$5<>0,_xlfn.NORM.DIST($A4,0,Berechnung!$B$5,TRUE),0))","v":9.6482372351978388E-2},{"$f":"IF(AND($A4=0,Berechnung!$B$6=0),1,IF(Berechnung!$B$6<>0,_xlfn.NORM.DIST($A4,0,Berechnung!$B$6,FALSE),0))","v":1.171515407578261E-2},{"$f":"IF(AND($A4>=0,Berechnung!$B$6=0),1,IF(Berechnung!$B$6<>0,_xlfn.NORM.DIST($A4,0,Berechnung!$B$6,TRUE),0))","v":9.6524162329451282E-2},{"$f":"IF(AND($A4=0,Berechnung!$B$7=0),1,IF(Berechnung!$B$7<>0,_xlfn.NORM.DIST($A4,0,Berechnung!$B$7,FALSE),0))","v":4.7740600515508011E-3},{"$f":"IF(AND($A4>=0,Berechnung!$B$7=0),1,IF(Berechnung!$B$7<>0,_xlfn.NORM.DIST($A4,0,Berechnung!$B$7,TRUE),0))","v":1.7381381311114216E-2},{"$f":"IF(AND($A4=0,Berechnung!$B$8=0),1,IF(Berechnung!$B$8<>0,_xlfn.NORM.DIST($A4,0,Berechnung!$B$8,FALSE),0))","v":4.7740600515508011E-3},{"$f":"IF(AND($A4>=0,Berechnung!$B$8=0),1,IF(Berechnung!$B$8<>0,_xlfn.NORM.DIST($A4,0,Berechnung!$B$8,TRUE),0))","v":1.7381381311114216E-2},{"$f":"IF(AND($A4=0,Berechnung!$B$9=0),1,IF(Berechnung!$B$9<>0,_xlfn.NORM.DIST($A4,0,Berechnung!$B$9,FALSE),0))","v":7.1712455875589595E-3},{"$f":"IF(AND($A4>=0,Berechnung!$B$9=0),1,IF(Berechnung!$B$9<>0,_xlfn.NORM.DIST($A4,0,Berechnung!$B$9,TRUE),0))","v":3.3383510297134524E-2},{"$f":"IF(AND($A4=0,Berechnung!$B$10=0),1,IF(Berechnung!$B$10<>0,_xlfn.NORM.DIST($A4,0,Berechnung!$B$10,FALSE),0))","v":8.8121536927488232E-3},{"$f":"IF(AND($A4>=0,Berechnung!$B$10=0),1,IF(Berechnung!$B$10<>0,_xlfn.NORM.DIST($A4,0,Berechnung!$B$10,TRUE),0))","v":4.871848899898959E-2},{"$f":"IF(AND($A4=0,Berechnung!$B$11=0),1,IF(Berechnung!$B$11<>0,_xlfn.NORM.DIST($A4,0,Berechnung!$B$11,FALSE),0))","v":0},{"$f":"IF(AND($A4>=0,Berechnung!$B$11=0),1,IF(Berechnung!$B$11<>0,_xlfn.NORM.DIST($A4,0,Berechnung!$B$11,TRUE),0))","v":0},{"$f":"Demonstrator!$J$19*'Daten Diagramm'!H4+Demonstrator!$J$24*'Daten Diagramm'!L4","v":6.1622788563971626E-3},{"$f":"Demonstrator!$J$19*'Daten Diagramm'!I4+Demonstrator!$J$24*'Daten Diagramm'!M4","v":3.3209937514781622E-2}]
[-18,{"$f":"IF(AND(A5=0,Berechnung!$B$3=0),1,IF(Berechnung!$B$3<>0,_xlfn.NORM.DIST(A5,0,Berechnung!$B$3,FALSE),0))","v":5.9989962792431177E-3},{"$f":"IF(AND($A5>=0,Berechnung!$B$3=0),1,IF(Berechnung!$B$3<>0,_xlfn.NORM.DIST($A5,0,Berechnung!$B$3,TRUE),0))","v":2.2750131948179191E-2},{"$f":"IF(AND($A5=0,Berechnung!$B$4=0),1,IF(Berechnung!$B$4<>0,_xlfn.NORM.DIST($A5,0,Berechnung!$B$4,FALSE),0))","v":5.9989962792431177E-3},{"$f":"IF(AND($A5>=0,Berechnung!$B$4=0),1,IF(Berechnung!$B$4<>0,_xlfn.NORM.DIST($A5,0,Berechnung!$B$4,TRUE),0))","v":2.2750131948179191E-2},{"$f":"IF(AND($A5=0,Berechnung!$B$5=0),1,IF(Berechnung!$B$5<>0,_xlfn.NORM.DIST($A5,0,Berechnung!$B$5,FALSE),0))","v":1.2776496634853867E-2},{"$f":"IF(AND($A5>=0,Berechnung!$B$5=0),1,IF(Berechnung!$B$5<>0,_xlfn.NORM.DIST($A5,0,Berechnung!$B$5,TRUE),0))","v":0.10872453019597232},{"$f":"IF(AND($A5=0,Berechnung!$B$6=0),1,IF(Berechnung!$B$6<>0,_xlfn.NORM.DIST($A5,0,Berechnung!$B$6,FALSE),0))","v":1.2777746137521964E-2},{"$f":"IF(AND($A5>=0,Berechnung!$B$6=0),1,IF(Berechnung!$B$6<>0,_xlfn.NORM.DIST($A5,0,Berechnung!$B$6,TRUE),0))","v":0.1087677123569798},{"$f":"IF(AND($A5=0,Berechnung!$B$7=0),1,IF(Berechnung!$B$7<>0,_xlfn.NORM.DIST($A5,0,Berechnung!$B$7,FALSE),0))","v":5.9989962792431177E-3},{"$f":"IF(AND($A5>=0,Berechnung!$B$7=0),1,IF(Berechnung!$B$7<>0,_xlfn.NORM.DIST($A5,0,Berechnung!$B$7,TRUE),0))","v":2.2750131948179191E-2},{"$f":"IF(AND($A5=0,Berechnung!$B$8=0),1,IF(Berechnung!$B$8<>0,_xlfn.NORM.DIST($A5,0,Berechnung!$B$8,FALSE),0))","v":5.9989962792431177E-3},{"$f":"IF(AND($A5>=0,Berechnung!$B$8=0),1,IF(Berechnung!$B$8<>0,_xlfn.NORM.DIST($A5,0,Berechnung!$B$8,TRUE),0))","v":2.2750131948179191E-2},{"$f":"IF(AND($A5=0,Berechnung!$B$9=0),1,IF(Berechnung!$B$9<>0,_xlfn.NORM.DIST($A5,0,Berechnung!$B$9,FALSE),0))","v":8.5190681495410855E-3},{"$f":"IF(AND($A5>=0,Berechnung!$B$9=0),1,IF(Berechnung!$B$9<>0,_xlfn.NORM.DIST($A5,0,Berechnung!$B$9,TRUE),0))","v":4.1215403466821579E-2},{"$f":"IF(AND($A5=0,Berechnung!$B$10=0),1,IF(Berechnung!$B$10<>0,_xlfn.NORM.DIST($A5,0,Berechnung!$B$10,FALSE),0))","v":1.0144241504440588E-2},{"$f":"IF(AND($A5>=0,Berechnung!$B$10=0),1,IF(Berechnung!$B$10<>0,_xlfn.NORM.DIST($A5,0,Berechnung!$B$10,TRUE),0))","v":5.8187065472407221E-2},{"$f":"IF(AND($A5=0,Berechnung!$B$11=0),1,IF(Berechnung!$B$11<>0,_xlfn.NORM.DIST($A5,0,Berechnung!$B$11,FALSE),0))","v":0},{"$f":"IF(AND($A5>=0,Berechnung!$B$11=0),1,IF(Berechnung!$B$11<>0,_xlfn.NORM.DIST($A5,0,Berechnung!$B$11,TRUE),0))","v":0},{"$f":"Demonstrator!$J$19*'Daten Diagramm'!H5+Demonstrator!$J$24*'Daten Diagramm'!L5","v":7.3547462508988873E-3},{"$f":"Demonstrator!$J$19*'Daten Diagramm'!I5+Demonstrator!$J$24*'Daten Diagramm'!M5","v":3.9953648029939309E-2}]
[-17,{"$f":"IF(AND(A6=0,Berechnung!$B$3=0),1,IF(Berechnung!$B$3<>0,_xlfn.NORM.DIST(A6,0,Berechnung!$B$3,FALSE),0))","v":7.4457362353844694E-3},{"$f":"IF(AND($A6>=0,Berechnung!$B$3=0),1,IF(Berechnung!$B$3<>0,_xlfn.NORM.DIST($A6,0,Berechnung!$B$3,TRUE),0))","v":2.9453359307830964E-2},{"$f":"IF(AND($A6=0,Berechnung!$B$4=0),1,IF(Berechnung!$B$4<>0,_xlfn.NORM.DIST($A6,0,Berechnung!$B$4,FALSE),0))","v":7.4457362353844694E-3},{"$f":"IF(AND($A6>=0,Berechnung!$B$4=0),1,IF(Berechnung!$B$4<>0,_xlfn.NORM.DIST($A6,0,Berechnung!$B$4,TRUE),0))","v":2.9453359307830964E-2},{"$f":"IF(AND($A6=0,Berechnung!$B$5=0),1,IF(Berechnung!$B$5<>0,_xlfn.NORM.DIST($A6,0,Berechnung!$B$5,FALSE),0))","v":1.387053640110195E-2},{"$f":"IF(AND($A6>=0,Berechnung!$B$5=0),1,IF(Berechnung!$B$5<>0,_xlfn.NORM.DIST($A6,0,Berechnung!$B$5,TRUE),0))","v":0.12204576741526546},{"$f":"IF(AND($A6=0,Berechnung!$B$6=0),1,IF(Berechnung!$B$6<>0,_xlfn.NORM.DIST($A6,0,Berechnung!$B$6,FALSE),0))","v":1.3871465004947937E-2},{"$f":"IF(AND($A6>=0,Berechnung!$B$6=0),1,IF(Berechnung!$B$6<>0,_xlfn.NORM.DIST($A6,0,Berechnung!$B$6,TRUE),0))","v":0.12209004210856507},{"$f":"IF(AND($A6=0,Berechnung!$B$7=0),1,IF(Berechnung!$B$7<>0,_xlfn.NORM.DIST($A6,0,Berechnung!$B$7,FALSE),0))","v":7.4457362353844694E-3},{"$f":"IF(AND($A6>=0,Berechnung!$B$7=0),1,IF(Berechnung!$B$7<>0,_xlfn.NORM.DIST($A6,0,Berechnung!$B$7,TRUE),0))","v":2.9453359307830964E-2},{"$f":"IF(AND($A6=0,Berechnung!$B$8=0),1,IF(Berechnung!$B$8<>0,_xlfn.NORM.DIST($A6,0,Berechnung!$B$8,FALSE),0))","v":7.4457362353844694E-3},{"$f":"IF(AND($A6>=0,Berechnung!$B$8=0),1,IF(Berechnung!$B$8<>0,_xlfn.NORM.DIST($A6,0,Berechnung!$B$8,TRUE),0))","v":2.9453359307830964E-2},{"$f":"IF(AND($A6=0,Berechnung!$B$9=0),1,IF(Berechnung!$B$9<>0,_xlfn.NORM.DIST($A6,0,Berechnung!$B$9,FALSE),0))","v":1.0026433583157858E-2},{"$f":"IF(AND($A6>=0,Berechnung!$B$9=0),1,IF(Berechnung!$B$9<>0,_xlfn.NORM.DIST($A6,0,Berechnung!$B$9,TRUE),0))","v":5.0474876731043852E-2},{"$f":"IF(AND($A6=0,Berechnung!$B$10=0),1,IF(Berechnung!$B$10<>0,_xlfn.NORM.DIST($A6,0,Berechnung!$B$10,FALSE),0))","v":1.1589170870633882E-2},{"$f":"IF(AND($A6>=0,Berechnung!$B$10=0),1,IF(Berechnung!$B$10<>0,_xlfn.NORM.DIST($A6,0,Berechnung!$B$10,TRUE),0))","v":6.9044623106803996E-2},{"$f":"IF(AND($A6=0,Berechnung!$B$11=0),1,IF(Berechnung!$B$11<>0,_xlfn.NORM.DIST($A6,0,Berechnung!$B$11,FALSE),0))","v":0},{"$f":"IF(AND($A6>=0,Berechnung!$B$11=0),1,IF(Berechnung!$B$11<>0,_xlfn.NORM.DIST($A6,0,Berechnung!$B$11,TRUE),0))","v":0},{"$f":"Demonstrator!$J$19*'Daten Diagramm'!H6+Demonstrator!$J$24*'Daten Diagramm'!L6","v":8.7308819892971627E-3},{"$f":"Demonstrator!$J$19*'Daten Diagramm'!I6+Demonstrator!$J$24*'Daten Diagramm'!M6","v":4.7980695867977784E-2}]
[-16,{"$f":"IF(AND(A7=0,Berechnung!$B$3=0),1,IF(Berechnung!$B$3<>0,_xlfn.NORM.DIST(A7,0,Berechnung!$B$3,FALSE),0))","v":9.1279876069339828E-3},{"$f":"IF(AND($A7>=0,Berechnung!$B$3=0),1,IF(Berechnung!$B$3<>0,_xlfn.NORM.DIST($A7,0,Berechnung!$B$3,TRUE),0))","v":3.7720179813400243E-2},{"$f":"IF(AND($A7=0,Berechnung!$B$4=0),1,IF(Berechnung!$B$4<>0,_xlfn.NORM.DIST($A7,0,Berechnung!$B$4,FALSE),0))","v":9.1279876069339828E-3},{"$f":"IF(AND($A7>=0,Berechnung!$B$4=0),1,IF(Berechnung!$B$4<>0,_xlfn.NORM.DIST($A7,0,Berechnung!$B$4,TRUE),0))","v":3.7720179813400243E-2},{"$f":"IF(AND($A7=0,Berechnung!$B$5=0),1,IF(Berechnung!$B$5<>0,_xlfn.NORM.DIST($A7,0,Berechnung!$B$5,FALSE),0))","v":1.4987727443527395E-2},{"$f":"IF(AND($A7>=0,Berechnung!$B$5=0),1,IF(Berechnung!$B$5<>0,_xlfn.NORM.DIST($A7,0,Berechnung!$B$5,TRUE),0))","v":0.13647333128406283},{"$f":"IF(AND($A7=0,Berechnung!$B$6=0),1,IF(Berechnung!$B$6<>0,_xlfn.NORM.DIST($A7,0,Berechnung!$B$6,FALSE),0))","v":1.498829491760998E-2},{"$f":"IF(AND($A7>=0,Berechnung!$B$6=0),1,IF(Berechnung!$B$6<>0,_xlfn.NORM.DIST($A7,0,Berechnung!$B$6,TRUE),0))","v":0.1365183572291194},{"$f":"IF(AND($A7=0,Berechnung!$B$7=0),1,IF(Berechnung!$B$7<>0,_xlfn.NORM.DIST($A7,0,Berechnung!$B$7,FALSE),0))","v":9.1279876069339828E-3},{"$f":"IF(AND($A7>=0,Berechnung!$B$7=0),1,IF(Berechnung!$B$7<>0,_xlfn.NORM.DIST($A7,0,Berechnung!$B$7,TRUE),0))","v":3.7720179813400243E-2},{"$f":"IF(AND($A7=0,Berechnung!$B$8=0),1,IF(Berechnung!$B$8<>0,_xlfn.NORM.DIST($A7,0,Berechnung!$B$8,FALSE),0))","v":9.1279876069339828E-3},{"$f":"IF(AND($A7>=0,Berechnung!$B$8=0),1,IF(Berechnung!$B$8<>0,_xlfn.NORM.DIST($A7,0,Berechnung!$B$8,TRUE),0))","v":3.7720179813400243E-2},{"$f":"IF(AND($A7=0,Berechnung!$B$9=0),1,IF(Berechnung!$B$9<>0,_xlfn.NORM.DIST($A7,0,Berechnung!$B$9,FALSE),0))","v":1.1691164256677712E-2},{"$f":"IF(AND($A7>=0,Berechnung!$B$9=0),1,IF(Berechnung!$B$9<>0,_xlfn.NORM.DIST($A7,0,Berechnung!$B$9,TRUE),0))","v":6.1320782647274939E-2},{"$f":"IF(AND($A7=0,Berechnung!$B$10=0),1,IF(Berechnung!$B$10<>0,_xlfn.NORM.DIST($A7,0,Berechnung!$B$10,FALSE),0))","v":1.3139547877617751E-2},{"$f":"IF(AND($A7>=0,Berechnung!$B$10=0),1,IF(Berechnung!$B$10<>0,_xlfn.NORM.DIST($A7,0,Berechnung!$B$10,TRUE),0))","v":8.1400596322105265E-2},{"$f":"IF(AND($A7=0,Berechnung!$B$11=0),1,IF(Berechnung!$B$11<>0,_xlfn.NORM.DIST($A7,0,Berechnung!$B$11,FALSE),0))","v":0},{"$f":"IF(AND($A7>=0,Berechnung!$B$11=0),1,IF(Berechnung!$B$11<>0,_xlfn.NORM.DIST($A7,0,Berechnung!$B$11,TRUE),0))","v":0},{"$f":"Demonstrator!$J$19*'Daten Diagramm'!H7+Demonstrator!$J$24*'Daten Diagramm'!L7","v":1.0300049069069181E-2},{"$f":"Demonstrator!$J$19*'Daten Diagramm'!I7+Demonstrator!$J$24*'Daten Diagramm'!M7","v":5.7479815296544071E-2}]
[-15,{"$f":"IF(AND(A8=0,Berechnung!$B$3=0),1,IF(Berechnung!$B$3<>0,_xlfn.NORM.DIST(A8,0,Berechnung!$B$3,FALSE),0))","v":1.1053015421416519E-2},{"$f":"IF(AND($A8>=0,Berechnung!$B$3=0),1,IF(Berechnung!$B$3<>0,_xlfn.NORM.DIST($A8,0,Berechnung!$B$3,TRUE),0))","v":4.7790352272814703E-2},{"$f":"IF(AND($A8=0,Berechnung!$B$4=0),1,IF(Berechnung!$B$4<>0,_xlfn.NORM.DIST($A8,0,Berechnung!$B$4,FALSE),0))","v":1.1053015421416519E-2},{"$f":"IF(AND($A8>=0,Berechnung!$B$4=0),1,IF(Berechnung!$B$4<>0,_xlfn.NORM.DIST($A8,0,Berechnung!$B$4,TRUE),0))","v":4.7790352272814703E-2},{"$f":"IF(AND($A8=0,Berechnung!$B$5=0),1,IF(Berechnung!$B$5<>0,_xlfn.NORM.DIST($A8,0,Berechnung!$B$5,FALSE),0))","v":1.6119047525707662E-2},{"$f":"IF(AND($A8>=0,Berechnung!$B$5=0),1,IF(Berechnung!$B$5<>0,_xlfn.NORM.DIST($A8,0,Berechnung!$B$5,TRUE),0))","v":0.15202594212212131},{"$f":"IF(AND($A8=0,Berechnung!$B$6=0),1,IF(Berechnung!$B$6<>0,_xlfn.NORM.DIST($A8,0,Berechnung!$B$6,FALSE),0))","v":1.6119217432494115E-2},{"$f":"IF(AND($A8>=0,Berechnung!$B$6=0),1,IF(Berechnung!$B$6<>0,_xlfn.NORM.DIST($A8,0,Berechnung!$B$6,TRUE),0))","v":0.15207133960457084},{"$f":"IF(AND($A8=0,Berechnung!$B$7=0),1,IF(Berechnung!$B$7<>0,_xlfn.NORM.DIST($A8,0,Berechnung!$B$7,FALSE),0))","v":1.1053015421416519E-2},{"$f":"IF(AND($A8>=0,Berechnung!$B$7=0),1,IF(Berechnung!$B$7<>0,_xlfn.NORM.DIST($A8,0,Berechnung!$B$7,TRUE),0))","v":4.7790352272814703E-2},{"$f":"IF(AND($A8=0,Berechnung!$B$8=0),1,IF(Berechnung!$B$8<>0,_xlfn.NORM.DIST($A8,0,Berechnung!$B$8,FALSE),0))","v":1.1053015421416519E-2},{"$f":"IF(AND($A8>=0,Berechnung!$B$8=0),1,IF(Berechnung!$B$8<>0,_xlfn.NORM.DIST($A8,0,Berechnung!$B$8,TRUE),0))","v":4.7790352272814703E-2},{"$f":"IF(AND($A8=0,Berechnung!$B$9=0),1,IF(Berechnung!$B$9<>0,_xlfn.NORM.DIST($A8,0,Berechnung!$B$9,FALSE),0))","v":1.350597480507615E-2},{"$f":"IF(AND($A8>=0,Berechnung!$B$9=0),1,IF(Berechnung!$B$9<>0,_xlfn.NORM.DIST($A8,0,Berechnung!$B$9,TRUE),0))","v":7.3907295034789849E-2},{"$f":"IF(AND($A8=0,Berechnung!$B$10=0),1,IF(Berechnung!$B$10<>0,_xlfn.NORM.DIST($A8,0,Berechnung!$B$10,FALSE),0))","v":1.47844014483423E-2},{"$f":"IF(AND($A8>=0,Berechnung!$B$10=0),1,IF(Berechnung!$B$10<>0,_xlfn.NORM.DIST($A8,0,Berechnung!$B$10,TRUE),0))","v":9.5355252345311906E-2},{"$f":"IF(AND($A8=0,Berechnung!$B$11=0),1,IF(Berechnung!$B$11<>0,_xlfn.NORM.DIST($A8,0,Berechnung!$B$11,FALSE),0))","v":0},{"$f":"IF(AND($A8>=0,Berechnung!$B$11=0),1,IF(Berechnung!$B$11<>0,_xlfn.NORM.DIST($A8,0,Berechnung!$B$11,TRUE),0))","v":0},{"$f":"Demonstrator!$J$19*'Daten Diagramm'!H8+Demonstrator!$J$24*'Daten Diagramm'!L8","v":1.2066255823632039E-2},{"$f":"Demonstrator!$J$19*'Daten Diagramm'!I8+Demonstrator!$J$24*'Daten Diagramm'!M8","v":6.8646549739165924E-2}]
[-14,{"$f":"IF(AND(A9=0,Berechnung!$B$3=0),1,IF(Berechnung!$B$3<>0,_xlfn.NORM.DIST(A9,0,Berechnung!$B$3,FALSE),0))","v":1.3219798936008503E-2},{"$f":"IF(AND($A9>=0,Berechnung!$B$3=0),1,IF(Berechnung!$B$3<>0,_xlfn.NORM.DIST($A9,0,Berechnung!$B$3,TRUE),0))","v":5.9906907102771828E-2},{"$f":"IF(AND($A9=0,Berechnung!$B$4=0),1,IF(Berechnung!$B$4<>0,_xlfn.NORM.DIST($A9,0,Berechnung!$B$4,FALSE),0))","v":1.3219798936008503E-2},{"$f":"IF(AND($A9>=0,Berechnung!$B$4=0),1,IF(Berechnung!$B$4<>0,_xlfn.NORM.DIST($A9,0,Berechnung!$B$4,TRUE),0))","v":5.9906907102771828E-2},{"$f":"IF(AND($A9=0,Berechnung!$B$5=0),1,IF(Berechnung!$B$5<>0,_xlfn.NORM.DIST($A9,0,Berechnung!$B$5,FALSE),0))","v":1.725456534614354E-2},{"$f":"IF(AND($A9>=0,Berechnung!$B$5=0),1,IF(Berechnung!$B$5<>0,_xlfn.NORM.DIST($A9,0,Berechnung!$B$5,TRUE),0))","v":0.16871283433895451},{"$f":"IF(AND($A9=0,Berechnung!$B$6=0),1,IF(Berechnung!$B$6<>0,_xlfn.NORM.DIST($A9,0,Berechnung!$B$6,FALSE),0))","v":1.7254306221972885E-2},{"$f":"IF(AND($A9>=0,Berechnung!$B$6=0),1,IF(Berechnung!$B$6<>0,_xlfn.NORM.DIST($A9,0,Berechnung!$B$6,TRUE),0))","v":0.16875818959714392},{"$f":"IF(AND($A9=0,Berechnung!$B$7=0),1,IF(Berechnung!$B$7<>0,_xlfn.NORM.DIST($A9,0,Berechnung!$B$7,FALSE),0))","v":1.3219798936008503E-2},{"$f":"IF(AND($A9>=0,Berechnung!$B$7=0),1,IF(Berechnung!$B$7<>0,_xlfn.NORM.DIST($A9,0,Berechnung!$B$7,TRUE),0))","v":5.9906907102771828E-2},{"$f":"IF(AND($A9=0,Berechnung!$B$8=0),1,IF(Berechnung!$B$8<>0,_xlfn.NORM.DIST($A9,0,Berechnung!$B$8,FALSE),0))","v":1.3219798936008503E-2},{"$f":"IF(AND($A9>=0,Berechnung!$B$8=0),1,IF(Berechnung!$B$8<>0,_xlfn.NORM.DIST($A9,0,Berechnung!$B$8,TRUE),0))","v":5.9906907102771828E-2},{"$f":"IF(AND($A9=0,Berechnung!$B$9=0),1,IF(Berechnung!$B$9<>0,_xlfn.NORM.DIST($A9,0,Berechnung!$B$9,FALSE),0))","v":1.5457918039870108E-2},{"$f":"IF(AND($A9>=0,Berechnung!$B$9=0),1,IF(Berechnung!$B$9<>0,_xlfn.NORM.DIST($A9,0,Berechnung!$B$9,TRUE),0))","v":8.8378510398502697E-2},{"$f":"IF(AND($A9=0,Berechnung!$B$10=0),1,IF(Berechnung!$B$10<>0,_xlfn.NORM.DIST($A9,0,Berechnung!$B$10,FALSE),0))","v":1.6509059810976272E-2},{"$f":"IF(AND($A9>=0,Berechnung!$B$10=0),1,IF(Berechnung!$B$10<>0,_xlfn.NORM.DIST($A9,0,Berechnung!$B$10,TRUE),0))","v":0.11099604203096519},{"$f":"IF(AND($A9=0,Berechnung!$B$11=0),1,IF(Berechnung!$B$11<>0,_xlfn.NORM.DIST($A9,0,Berechnung!$B$11,FALSE),0))","v":0},{"$f":"IF(AND($A9>=0,Berechnung!$B$11=0),1,IF(Berechnung!$B$11<>0,_xlfn.NORM.DIST($A9,0,Berechnung!$B$11,TRUE),0))","v":0},{"$f":"Demonstrator!$J$19*'Daten Diagramm'!H9+Demonstrator!$J$24*'Daten Diagramm'!L9","v":1.4026700393201381E-2},{"$f":"Demonstrator!$J$19*'Daten Diagramm'!I9+Demonstrator!$J$24*'Daten Diagramm'!M9","v":8.1677163601646244E-2}]
[-13,{"$f":"IF(AND(A10=0,Berechnung!$B$3=0),1,IF(Berechnung!$B$3<>0,_xlfn.NORM.DIST(A10,0,Berechnung!$B$3,FALSE),0))","v":1.5617347129043833E-2},{"$f":"IF(AND($A10>=0,Berechnung!$B$3=0),1,IF(Berechnung!$B$3<>0,_xlfn.NORM.DIST($A10,0,Berechnung!$B$3,TRUE),0))","v":7.4306998227605878E-2},{"$f":"IF(AND($A10=0,Berechnung!$B$4=0),1,IF(Berechnung!$B$4<>0,_xlfn.NORM.DIST($A10,0,Berechnung!$B$4,FALSE),0))","v":1.5617347129043833E-2},{"$f":"IF(AND($A10>=0,Berechnung!$B$4=0),1,IF(Berechnung!$B$4<>0,_xlfn.NORM.DIST($A10,0,Berechnung!$B$4,TRUE),0))","v":7.4306998227605878E-2},{"$f":"IF(AND($A10=0,Berechnung!$B$5=0),1,IF(Berechnung!$B$5<>0,_xlfn.NORM.DIST($A10,0,Berechnung!$B$5,FALSE),0))","v":1.8383564796911611E-2},{"$f":"IF(AND($A10>=0,Berechnung!$B$5=0),1,IF(Berechnung!$B$5<>0,_xlfn.NORM.DIST($A10,0,Berechnung!$B$5,TRUE),0))","v":0.18653290708633707},{"$f":"IF(AND($A10=0,Berechnung!$B$6=0),1,IF(Berechnung!$B$6<>0,_xlfn.NORM.DIST($A10,0,Berechnung!$B$6,FALSE),0))","v":1.8382851276728052E-2},{"$f":"IF(AND($A10>=0,Berechnung!$B$6=0),1,IF(Berechnung!$B$6<>0,_xlfn.NORM.DIST($A10,0,Berechnung!$B$6,TRUE),0))","v":0.18657777785396207},{"$f":"IF(AND($A10=0,Berechnung!$B$7=0),1,IF(Berechnung!$B$7<>0,_xlfn.NORM.DIST($A10,0,Berechnung!$B$7,FALSE),0))","v":1.5617347129043833E-2},{"$f":"IF(AND($A10>=0,Berechnung!$B$7=0),1,IF(Berechnung!$B$7<>0,_xlfn.NORM.DIST($A10,0,Berechnung!$B$7,TRUE),0))","v":7.4306998227605878E-2},{"$f":"IF(AND($A10=0,Berechnung!$B$8=0),1,IF(Berechnung!$B$8<>0,_xlfn.NORM.DIST($A10,0,Berechnung!$B$8,FALSE),0))","v":1.5617347129043833E-2},{"$f":"IF(AND($A10>=0,Berechnung!$B$8=0),1,IF(Berechnung!$B$8<>0,_xlfn.NORM.DIST($A10,0,Berechnung!$B$8,TRUE),0))","v":7.4306998227605878E-2},{"$f":"IF(AND($A10=0,Berechnung!$B$9=0),1,IF(Berechnung!$B$9<>0,_xlfn.NORM.DIST($A10,0,Berechnung!$B$9,FALSE),0))","v":1.7528023926866247E-2},{"$f":"IF(AND($A10>=0,Berechnung!$B$9=0),1,IF(Berechnung!$B$9<>0,_xlfn.NORM.DIST($A10,0,Berechnung!$B$9,TRUE),0))","v":0.10486258726372434},{"$f":"IF(AND($A10=0,Berechnung!$B$10=0),1,IF(Berechnung!$B$10<>0,_xlfn.NORM.DIST($A10,0,Berechnung!$B$10,FALSE),0))","v":1.8295159690168979E-2},{"$f":"IF(AND($A10>=0,Berechnung!$B$10=0),1,IF(Berechnung!$B$10<>0,_xlfn.NORM.DIST($A10,0,Berechnung!$B$10,TRUE),0))","v":0.12839389194502562},{"$f":"IF(AND($A10=0,Berechnung!$B$11=0),1,IF(Berechnung!$B$11<>0,_xlfn.NORM.DIST($A10,0,Berechnung!$B$11,FALSE),0))","v":0},{"$f":"IF(AND($A10>=0,Berechnung!$B$11=0),1,IF(Berechnung!$B$11<>0,_xlfn.NORM.DIST($A10,0,Berechnung!$B$11,TRUE),0))","v":0},{"$f":"Demonstrator!$J$19*'Daten Diagramm'!H10+Demonstrator!$J$24*'Daten Diagramm'!L10","v":1.6170447958580678E-2},{"$f":"Demonstrator!$J$19*'Daten Diagramm'!I10+Demonstrator!$J$24*'Daten Diagramm'!M10","v":9.6761154152877116E-2}]
[-12,{"$f":"IF(AND(A11=0,Berechnung!$B$3=0),1,IF(Berechnung!$B$3<>0,_xlfn.NORM.DIST(A11,0,Berechnung!$B$3,FALSE),0))","v":1.8223341630665961E-2},{"$f":"IF(AND($A11>=0,Berechnung!$B$3=0),1,IF(Berechnung!$B$3<>0,_xlfn.NORM.DIST($A11,0,Berechnung!$B$3,TRUE),0))","v":9.1211219725867876E-2},{"$f":"IF(AND($A11=0,Berechnung!$B$4=0),1,IF(Berechnung!$B$4<>0,_xlfn.NORM.DIST($A11,0,Berechnung!$B$4,FALSE),0))","v":1.8223341630665961E-2},{"$f":"IF(AND($A11>=0,Berechnung!$B$4=0),1,IF(Berechnung!$B$4<>0,_xlfn.NORM.DIST($A11,0,Berechnung!$B$4,TRUE),0))","v":9.1211219725867876E-2},{"$f":"IF(AND($A11=0,Berechnung!$B$5=0),1,IF(Berechnung!$B$5<>0,_xlfn.NORM.DIST($A11,0,Berechnung!$B$5,FALSE),0))","v":1.9494697273738162E-2},{"$f":"IF(AND($A11>=0,Berechnung!$B$5=0),1,IF(Berechnung!$B$5<>0,_xlfn.NORM.DIST($A11,0,Berechnung!$B$5,TRUE),0))","v":0.20547401335516124},{"$f":"IF(AND($A11=0,Berechnung!$B$6=0),1,IF(Berechnung!$B$6<>0,_xlfn.NORM.DIST($A11,0,Berechnung!$B$6,FALSE),0))","v":1.9493511117946064E-2},{"$f":"IF(AND($A11>=0,Berechnung!$B$6=0),1,IF(Berechnung!$B$6<>0,_xlfn.NORM.DIST($A11,0,Berechnung!$B$6,TRUE),0))","v":0.20551793548320405},{"$f":"IF(AND($A11=0,Berechnung!$B$7=0),1,IF(Berechnung!$B$7<>0,_xlfn.NORM.DIST($A11,0,Berechnung!$B$7,FALSE),0))","v":1.8223341630665961E-2},{"$f":"IF(AND($A11>=0,Berechnung!$B$7=0),1,IF(Berechnung!$B$7<>0,_xlfn.NORM.DIST($A11,0,Berechnung!$B$7,TRUE),0))","v":9.1211219725867876E-2},{"$f":"IF(AND($A11=0,Berechnung!$B$8=0),1,IF(Berechnung!$B$8<>0,_xlfn.NORM.DIST($A11,0,Berechnung!$B$8,FALSE),0))","v":1.8223341630665961E-2},{"$f":"IF(AND($A11>=0,Berechnung!$B$8=0),1,IF(Berechnung!$B$8<>0,_xlfn.NORM.DIST($A11,0,Berechnung!$B$8,TRUE),0))","v":9.1211219725867876E-2},{"$f":"IF(AND($A11=0,Berechnung!$B$9=0),1,IF(Berechnung!$B$9<>0,_xlfn.NORM.DIST($A11,0,Berechnung!$B$9,FALSE),0))","v":1.9691182921169243E-2},{"$f":"IF(AND($A11>=0,Berechnung!$B$9=0),1,IF(Berechnung!$B$9<>0,_xlfn.NORM.DIST($A11,0,Berechnung!$B$9,TRUE),0))","v":0.12346564270525477},{"$f":"IF(AND($A11=0,Berechnung!$B$10=0),1,IF(Berechnung!$B$10<>0,_xlfn.NORM.DIST($A11,0,Berechnung!$B$10,FALSE),0))","v":2.0120804327182502E-2},{"$f":"IF(AND($A11>=0,Berechnung!$B$10=0),1,IF(Berechnung!$B$10<>0,_xlfn.NORM.DIST($A11,0,Berechnung!$B$10,TRUE),0))","v":0.14759957895479275},{"$f":"IF(AND($A11=0,Berechnung!$B$11=0),1,IF(Berechnung!$B$11<>0,_xlfn.NORM.DIST($A11,0,Berechnung!$B$11,FALSE),0))","v":0},{"$f":"IF(AND($A11>=0,Berechnung!$B$11=0),1,IF(Berechnung!$B$11<>0,_xlfn.NORM.DIST($A11,0,Berechnung!$B$11,TRUE),0))","v":0},{"$f":"Demonstrator!$J$19*'Daten Diagramm'!H11+Demonstrator!$J$24*'Daten Diagramm'!L11","v":1.8477375528121981E-2},{"$f":"Demonstrator!$J$19*'Daten Diagramm'!I11+Demonstrator!$J$24*'Daten Diagramm'!M11","v":0.11407256287733511}]
[-11,{"$f":"IF(AND(A12=0,Berechnung!$B$3=0),1,IF(Berechnung!$B$3<>0,_xlfn.NORM.DIST(A12,0,Berechnung!$B$3,FALSE),0))","v":2.1003279415923583E-2},{"$f":"IF(AND($A12>=0,Berechnung!$B$3=0),1,IF(Berechnung!$B$3<>0,_xlfn.NORM.DIST($A12,0,Berechnung!$B$3,TRUE),0))","v":0.11081180122969675},{"$f":"IF(AND($A12=0,Berechnung!$B$4=0),1,IF(Berechnung!$B$4<>0,_xlfn.NORM.DIST($A12,0,Berechnung!$B$4,FALSE),0))","v":2.1003279415923583E-2},{"$f":"IF(AND($A12>=0,Berechnung!$B$4=0),1,IF(Berechnung!$B$4<>0,_xlfn.NORM.DIST($A12,0,Berechnung!$B$4,TRUE),0))","v":0.11081180122969675},{"$f":"IF(AND($A12=0,Berechnung!$B$5=0),1,IF(Berechnung!$B$5<>0,_xlfn.NORM.DIST($A12,0,Berechnung!$B$5,FALSE),0))","v":2.0576159591821738E-2},{"$f":"IF(AND($A12>=0,Berechnung!$B$5=0),1,IF(Berechnung!$B$5<>0,_xlfn.NORM.DIST($A12,0,Berechnung!$B$5,TRUE),0))","v":0.22551241443263875},{"$f":"IF(AND($A12=0,Berechnung!$B$6=0),1,IF(Berechnung!$B$6<>0,_xlfn.NORM.DIST($A12,0,Berechnung!$B$6,FALSE),0))","v":2.0574490573932912E-2},{"$f":"IF(AND($A12>=0,Berechnung!$B$6=0),1,IF(Berechnung!$B$6<>0,_xlfn.NORM.DIST($A12,0,Berechnung!$B$6,TRUE),0))","v":0.22555490947191825},{"$f":"IF(AND($A12=0,Berechnung!$B$7=0),1,IF(Berechnung!$B$7<>0,_xlfn.NORM.DIST($A12,0,Berechnung!$B$7,FALSE),0))","v":2.1003279415923583E-2},{"$f":"IF(AND($A12>=0,Berechnung!$B$7=0),1,IF(Berechnung!$B$7<>0,_xlfn.NORM.DIST($A12,0,Berechnung!$B$7,TRUE),0))","v":0.11081180122969675},{"$f":"IF(AND($A12=0,Berechnung!$B$8=0),1,IF(Berechnung!$B$8<>0,_xlfn.NORM.DIST($A12,0,Berechnung!$B$8,FALSE),0))","v":2.1003279415923583E-2},{"$f":"IF(AND($A12>=0,Berechnung!$B$8=0),1,IF(Berechnung!$B$8<>0,_xlfn.NORM.DIST($A12,0,Berechnung!$B$8,TRUE),0))","v":0.11081180122969675},{"$f":"IF(AND($A12=0,Berechnung!$B$9=0),1,IF(Berechnung!$B$9<>0,_xlfn.NORM.DIST($A12,0,Berechnung!$B$9,FALSE),0))","v":2.1916315704695637E-2},{"$f":"IF(AND($A12>=0,Berechnung!$B$9=0),1,IF(Berechnung!$B$9<>0,_xlfn.NORM.DIST($A12,0,Berechnung!$B$9,TRUE),0))","v":0.1442656724193665},{"$f":"IF(AND($A12=0,Berechnung!$B$10=0),1,IF(Berechnung!$B$10<>0,_xlfn.NORM.DIST($A12,0,Berechnung!$B$10,FALSE),0))","v":2.1960880057105003E-2},{"$f":"IF(AND($A12>=0,Berechnung!$B$10=0),1,IF(Berechnung!$B$10<>0,_xlfn.NORM.DIST($A12,0,Berechnung!$B$10,TRUE),0))","v":0.16864034161107411},{"$f":"IF(AND($A12=0,Berechnung!$B$11=0),1,IF(Berechnung!$B$11<>0,_xlfn.NORM.DIST($A12,0,Berechnung!$B$11,FALSE),0))","v":0},{"$f":"IF(AND($A12>=0,Berechnung!$B$11=0),1,IF(Berechnung!$B$11<>0,_xlfn.NORM.DIST($A12,0,Berechnung!$B$11,TRUE),0))","v":0},{"$f":"Demonstrator!$J$19*'Daten Diagramm'!H12+Demonstrator!$J$24*'Daten Diagramm'!L12","v":2.0917521647525448E-2},{"$f":"Demonstrator!$J$19*'Daten Diagramm'!I12+Demonstrator!$J$24*'Daten Diagramm'!M12","v":0.13376042287814105}]
[-10,{"$f":"IF(AND(A13=0,Berechnung!$B$3=0),1,IF(Berechnung!$B$3<>0,_xlfn.NORM.DIST(A13,0,Berechnung!$B$3,FALSE),0))","v":2.3910273444781228E-2},{"$f":"IF(AND($A13>=0,Berechnung!$B$3=0),1,IF(Berechnung!$B$3<>0,_xlfn.NORM.DIST($A13,0,Berechnung!$B$3,TRUE),0))","v":0.13326026290250542},{"$f":"IF(AND($A13=0,Berechnung!$B$4=0),1,IF(Berechnung!$B$4<>0,_xlfn.NORM.DIST($A13,0,Berechnung!$B$4,FALSE),0))","v":2.3910273444781228E-2},{"$f":"IF(AND($A13>=0,Berechnung!$B$4=0),1,IF(Berechnung!$B$4<>0,_xlfn.NORM.DIST($A13,0,Berechnung!$B$4,TRUE),0))","v":0.13326026290250542},{"$f":"IF(AND($A13=0,Berechnung!$B$5=0),1,IF(Berechnung!$B$5<>0,_xlfn.NORM.DIST($A13,0,Berechnung!$B$5,FALSE),0))","v":2.161589403143719E-2},{"$f":"IF(AND($A13>=0,Berechnung!$B$5=0),1,IF(Berechnung!$B$5<>0,_xlfn.NORM.DIST($A13,0,Berechnung!$B$5,TRUE),0))","v":0.24661242367140501},{"$f":"IF(AND($A13=0,Berechnung!$B$6=0),1,IF(Berechnung!$B$6<>0,_xlfn.NORM.DIST($A13,0,Berechnung!$B$6,FALSE),0))","v":2.1613740647848902E-2},{"$f":"IF(AND($A13>=0,Berechnung!$B$6=0),1,IF(Berechnung!$B$6<>0,_xlfn.NORM.DIST($A13,0,Berechnung!$B$6,TRUE),0))","v":0.24665300725690142},{"$f":"IF(AND($A13=0,Berechnung!$B$7=0),1,IF(Berechnung!$B$7<>0,_xlfn.NORM.DIST($A13,0,Berechnung!$B$7,FALSE),0))","v":2.3910273444781228E-2},{"$f":"IF(AND($A13>=0,Berechnung!$B$7=0),1,IF(Berechnung!$B$7<>0,_xlfn.NORM.DIST($A13,0,Berechnung!$B$7,TRUE),0))","v":0.13326026290250542},{"$f":"IF(AND($A13=0,Berechnung!$B$8=0),1,IF(Berechnung!$B$8<>0,_xlfn.NORM.DIST($A13,0,Berechnung!$B$8,FALSE),0))","v":2.3910273444781228E-2},{"$f":"IF(AND($A13>=0,Berechnung!$B$8=0),1,IF(Berechnung!$B$8<>0,_xlfn.NORM.DIST($A13,0,Berechnung!$B$8,TRUE),0))","v":0.13326026290250542},{"$f":"IF(AND($A13=0,Berechnung!$B$9=0),1,IF(Berechnung!$B$9<>0,_xlfn.NORM.DIST($A13,0,Berechnung!$B$9,FALSE),0))","v":2.4166857492752915E-2},{"$f":"IF(AND($A13>=0,Berechnung!$B$9=0),1,IF(Berechnung!$B$9<>0,_xlfn.NORM.DIST($A13,0,Berechnung!$B$9,TRUE),0))","v":0.16730679616243271},{"$f":"IF(AND($A13=0,Berechnung!$B$10=0),1,IF(Berechnung!$B$10<>0,_xlfn.NORM.DIST($A13,0,Berechnung!$B$10,FALSE),0))","v":2.3787533434116027E-2},{"$f":"IF(AND($A13>=0,Berechnung!$B$10=0),1,IF(Berechnung!$B$10<>0,_xlfn.NORM.DIST($A13,0,Berechnung!$B$10,TRUE),0))","v":0.19151688856700294},{"$f":"IF(AND($A13=0,Berechnung!$B$11=0),1,IF(Berechnung!$B$11<>0,_xlfn.NORM.DIST($A13,0,Berechnung!$B$11,FALSE),0))","v":0},{"$f":"IF(AND($A13>=0,Berechnung!$B$11=0),1,IF(Berechnung!$B$11<>0,_xlfn.NORM.DIST($A13,0,Berechnung!$B$11,TRUE),0))","v":0},{"$f":"Demonstrator!$J$19*'Daten Diagramm'!H13+Demonstrator!$J$24*'Daten Diagramm'!L13","v":2.3450966885394765E-2},{"$f":"Demonstrator!$J$19*'Daten Diagramm'!I13+Demonstrator!$J$24*'Daten Diagramm'!M13","v":0.15593881177338462}]
[-9,{"$f":"IF(AND(A14=0,Berechnung!$B$3=0),1,IF(Berechnung!$B$3<>0,_xlfn.NORM.DIST(A14,0,Berechnung!$B$3,FALSE),0))","v":2.6885636057682596E-2},{"$f":"IF(AND($A14>=0,Berechnung!$B$3=0),1,IF(Berechnung!$B$3<>0,_xlfn.NORM.DIST($A14,0,Berechnung!$B$3,TRUE),0))","v":0.15865525393145699},{"$f":"IF(AND($A14=0,Berechnung!$B$4=0),1,IF(Berechnung!$B$4<>0,_xlfn.NORM.DIST($A14,0,Berechnung!$B$4,FALSE),0))","v":2.6885636057682596E-2},{"$f":"IF(AND($A14>=0,Berechnung!$B$4=0),1,IF(Berechnung!$B$4<>0,_xlfn.NORM.DIST($A14,0,Berechnung!$B$4,TRUE),0))","v":0.15865525393145699},{"$f":"IF(AND($A14=0,Berechnung!$B$5=0),1,IF(Berechnung!$B$5<>0,_xlfn.NORM.DIST($A14,0,Berechnung!$B$5,FALSE),0))","v":2.260180607373655E-2},{"$f":"IF(AND($A14>=0,Berechnung!$B$5=0),1,IF(Berechnung!$B$5<>0,_xlfn.NORM.DIST($A14,0,Berechnung!$B$5,TRUE),0))","v":0.26872625955681401},{"$f":"IF(AND($A14=0,Berechnung!$B$6=0),1,IF(Berechnung!$B$6<>0,_xlfn.NORM.DIST($A14,0,Berechnung!$B$6,FALSE),0))","v":2.2599176041486351E-2},{"$f":"IF(AND($A14>=0,Berechnung!$B$6=0),1,IF(Berechnung!$B$6<>0,_xlfn.NORM.DIST($A14,0,Berechnung!$B$6,TRUE),0))","v":0.26876445039837121},{"$f":"IF(AND($A14=0,Berechnung!$B$7=0),1,IF(Berechnung!$B$7<>0,_xlfn.NORM.DIST($A14,0,Berechnung!$B$7,FALSE),0))","v":2.6885636057682596E-2},{"$f":"IF(AND($A14>=0,Berechnung!$B$7=0),1,IF(Berechnung!$B$7<>0,_xlfn.NORM.DIST($A14,0,Berechnung!$B$7,TRUE),0))","v":0.15865525393145699},{"$f":"IF(AND($A14=0,Berechnung!$B$8=0),1,IF(Berechnung!$B$8<>0,_xlfn.NORM.DIST($A14,0,Berechnung!$B$8,FALSE),0))","v":2.6885636057682596E-2},{"$f":"IF(AND($A14>=0,Berechnung!$B$8=0),1,IF(Berechnung!$B$8<>0,_xlfn.NORM.DIST($A14,0,Berechnung!$B$8,TRUE),0))","v":0.15865525393145699},{"$f":"IF(AND($A14=0,Berechnung!$B$9=0),1,IF(Berechnung!$B$9<>0,_xlfn.NORM.DIST($A14,0,Berechnung!$B$9,FALSE),0))","v":2.6401567145943564E-2},{"$f":"IF(AND($A14>=0,Berechnung!$B$9=0),1,IF(Berechnung!$B$9<>0,_xlfn.NORM.DIST($A14,0,Berechnung!$B$9,TRUE),0))","v":0.19259414988201068},{"$f":"IF(AND($A14=0,Berechnung!$B$10=0),1,IF(Berechnung!$B$10<>0,_xlfn.NORM.DIST($A14,0,Berechnung!$B$10,FALSE),0))","v":2.5570802199657724E-2},{"$f":"IF(AND($A14>=0,Berechnung!$B$10=0),1,IF(Berechnung!$B$10<>0,_xlfn.NORM.DIST($A14,0,Berechnung!$B$10,TRUE),0))","v":0.21620096198069003},{"$f":"IF(AND($A14=0,Berechnung!$B$11=0),1,IF(Berechnung!$B$11<>0,_xlfn.NORM.DIST($A14,0,Berechnung!$B$11,FALSE),0))","v":0},{"$f":"IF(AND($A14>=0,Berechnung!$B$11=0),1,IF(Berechnung!$B$11<>0,_xlfn.NORM.DIST($A14,0,Berechnung!$B$11,TRUE),0))","v":0},{"$f":"Demonstrator!$J$19*'Daten Diagramm'!H14+Demonstrator!$J$24*'Daten Diagramm'!L14","v":2.6028344054443348E-2},{"$f":"Demonstrator!$J$19*'Daten Diagramm'!I14+Demonstrator!$J$24*'Daten Diagramm'!M14","v":0.18067709322483982}]
[-8,{"$f":"IF(AND(A15=0,Berechnung!$B$3=0),1,IF(Berechnung!$B$3<>0,_xlfn.NORM.DIST(A15,0,Berechnung!$B$3,FALSE),0))","v":2.9860317949035996E-2},{"$f":"IF(AND($A15>=0,Berechnung!$B$3=0),1,IF(Berechnung!$B$3<>0,_xlfn.NORM.DIST($A15,0,Berechnung!$B$3,TRUE),0))","v":0.18703139874544125},{"$f":"IF(AND($A15=0,Berechnung!$B$4=0),1,IF(Berechnung!$B$4<>0,_xlfn.NORM.DIST($A15,0,Berechnung!$B$4,FALSE),0))","v":2.9860317949035996E-2},{"$f":"IF(AND($A15>=0,Berechnung!$B$4=0),1,IF(Berechnung!$B$4<>0,_xlfn.NORM.DIST($A15,0,Berechnung!$B$4,TRUE),0))","v":0.18703139874544125},{"$f":"IF(AND($A15=0,Berechnung!$B$5=0),1,IF(Berechnung!$B$5<>0,_xlfn.NORM.DIST($A15,0,Berechnung!$B$5,FALSE),0))","v":2.3521994536072184E-2},{"$f":"IF(AND($A15>=0,Berechnung!$B$5=0),1,IF(Berechnung!$B$5<>0,_xlfn.NORM.DIST($A15,0,Berechnung!$B$5,TRUE),0))","v":0.29179412318234899},{"$f":"IF(AND($A15=0,Berechnung!$B$6=0),1,IF(Berechnung!$B$6<>0,_xlfn.NORM.DIST($A15,0,Berechnung!$B$6,FALSE),0))","v":2.3518905050658255E-2},{"$f":"IF(AND($A15>=0,Berechnung!$B$6=0),1,IF(Berechnung!$B$6<>0,_xlfn.NORM.DIST($A15,0,Berechnung!$B$6,TRUE),0))","v":0.29182945243518776},{"$f":"IF(AND($A15=0,Berechnung!$B$7=0),1,IF(Berechnung!$B$7<>0,_xlfn.NORM.DIST($A15,0,Berechnung!$B$7,FALSE),0))","v":2.9860317949035996E-2},{"$f":"IF(AND($A15>=0,Berechnung!$B$7=0),1,IF(Berechnung!$B$7<>0,_xlfn.NORM.DIST($A15,0,Berechnung!$B$7,TRUE),0))","v":0.18703139874544125},{"$f":"IF(AND($A15=0,Berechnung!$B$8=0),1,IF(Berechnung!$B$8<>0,_xlfn.NORM.DIST($A15,0,Berechnung!$B$8,FALSE),0))","v":2.9860317949035996E-2},{"$f":"IF(AND($A15>=0,Berechnung!$B$8=0),1,IF(Berechnung!$B$8<>0,_xlfn.NORM.DIST($A15,0,Berechnung!$B$8,TRUE),0))","v":0.18703139874544125},{"$f":"IF(AND($A15=0,Berechnung!$B$9=0),1,IF(Berechnung!$B$9<>0,_xlfn.NORM.DIST($A15,0,Berechnung!$B$9,FALSE),0))","v":2.8575650397398358E-2},{"$f":"IF(AND($A15>=0,Berechnung!$B$9=0),1,IF(Berechnung!$B$9<>0,_xlfn.NORM.DIST($A15,0,Berechnung!$B$9,TRUE),0))","v":0.22008974583326038},{"$f":"IF(AND($A15=0,Berechnung!$B$10=0),1,IF(Berechnung!$B$10<>0,_xlfn.NORM.DIST($A15,0,Berechnung!$B$10,FALSE),0))","v":2.72793842526198E-2},{"$f":"IF(AND($A15>=0,Berechnung!$B$10=0),1,IF(Berechnung!$B$10<>0,_xlfn.NORM.DIST($A15,0,Berechnung!$B$10,TRUE),0))","v":0.24263360258830213},{"$f":"IF(AND($A15=0,Berechnung!$B$11=0),1,IF(Berechnung!$B$11<>0,_xlfn.NORM.DIST($A15,0,Berechnung!$B$11,FALSE),0))","v":0},{"$f":"IF(AND($A15>=0,Berechnung!$B$11=0),1,IF(Berechnung!$B$11<>0,_xlfn.NORM.DIST($A15,0,Berechnung!$B$11,TRUE),0))","v":0},{"$f":"Demonstrator!$J$19*'Daten Diagramm'!H15+Demonstrator!$J$24*'Daten Diagramm'!L15","v":2.8592035369360447E-2},{"$f":"Demonstrator!$J$19*'Daten Diagramm'!I15+Demonstrator!$J$24*'Daten Diagramm'!M15","v":0.20799100948339055}]
[-7,{"$f":"IF(AND(A16=0,Berechnung!$B$3=0),1,IF(Berechnung!$B$3<>0,_xlfn.NORM.DIST(A16,0,Berechnung!$B$3,FALSE),0))","v":3.2757208103875238E-2},{"$f":"IF(AND($A16>=0,Berechnung!$B$3=0),1,IF(Berechnung!$B$3<>0,_xlfn.NORM.DIST($A16,0,Berechnung!$B$3,TRUE),0))","v":0.21835001536137882},{"$f":"IF(AND($A16=0,Berechnung!$B$4=0),1,IF(Berechnung!$B$4<>0,_xlfn.NORM.DIST($A16,0,Berechnung!$B$4,FALSE),0))","v":3.2757208103875238E-2},{"$f":"IF(AND($A16>=0,Berechnung!$B$4=0),1,IF(Berechnung!$B$4<>0,_xlfn.NORM.DIST($A16,0,Berechnung!$B$4,TRUE),0))","v":0.21835001536137882},{"$f":"IF(AND($A16=0,Berechnung!$B$5=0),1,IF(Berechnung!$B$5<>0,_xlfn.NORM.DIST($A16,0,Berechnung!$B$5,FALSE),0))","v":2.4364988120819824E-2},{"$f":"IF(AND($A16>=0,Berechnung!$B$5=0),1,IF(Berechnung!$B$5<>0,_xlfn.NORM.DIST($A16,0,Berechnung!$B$5,TRUE),0))","v":0.31574450959005851},{"$f":"IF(AND($A16=0,Berechnung!$B$6=0),1,IF(Berechnung!$B$6<>0,_xlfn.NORM.DIST($A16,0,Berechnung!$B$6,FALSE),0))","v":2.4361465853950038E-2},{"$f":"IF(AND($A16>=0,Berechnung!$B$6=0),1,IF(Berechnung!$B$6<>0,_xlfn.NORM.DIST($A16,0,Berechnung!$B$6,TRUE),0))","v":0.31577653035439368},{"$f":"IF(AND($A16=0,Berechnung!$B$7=0),1,IF(Berechnung!$B$7<>0,_xlfn.NORM.DIST($A16,0,Berechnung!$B$7,FALSE),0))","v":3.2757208103875238E-2},{"$f":"IF(AND($A16>=0,Berechnung!$B$7=0),1,IF(Berechnung!$B$7<>0,_xlfn.NORM.DIST($A16,0,Berechnung!$B$7,TRUE),0))","v":0.21835001536137882},{"$f":"IF(AND($A16=0,Berechnung!$B$8=0),1,IF(Berechnung!$B$8<>0,_xlfn.NORM.DIST($A16,0,Berechnung!$B$8,FALSE),0))","v":3.2757208103875238E-2},{"$f":"IF(AND($A16>=0,Berechnung!$B$8=0),1,IF(Berechnung!$B$8<>0,_xlfn.NORM.DIST($A16,0,Berechnung!$B$8,TRUE),0))","v":0.21835001536137882},{"$f":"IF(AND($A16=0,Berechnung!$B$9=0),1,IF(Berechnung!$B$9<>0,_xlfn.NORM.DIST($A16,0,Berechnung!$B$9,FALSE),0))","v":3.0642164058900814E-2},{"$f":"IF(AND($A16>=0,Berechnung!$B$9=0),1,IF(Berechnung!$B$9<>0,_xlfn.NORM.DIST($A16,0,Berechnung!$B$9,TRUE),0))","v":0.24970960011625243},{"$f":"IF(AND($A16=0,Berechnung!$B$10=0),1,IF(Berechnung!$B$10<>0,_xlfn.NORM.DIST($A16,0,Berechnung!$B$10,FALSE),0))","v":2.8881519810612342E-2},{"$f":"IF(AND($A16>=0,Berechnung!$B$10=0),1,IF(Berechnung!$B$10<>0,_xlfn.NORM.DIST($A16,0,Berechnung!$B$10,TRUE),0))","v":0.27072424276772888},{"$f":"IF(AND($A16=0,Berechnung!$B$11=0),1,IF(Berechnung!$B$11<>0,_xlfn.NORM.DIST($A16,0,Berechnung!$B$11,FALSE),0))","v":0},{"$f":"IF(AND($A16>=0,Berechnung!$B$11=0),1,IF(Berechnung!$B$11<>0,_xlfn.NORM.DIST($A16,0,Berechnung!$B$11,TRUE),0))","v":0},{"$f":"Demonstrator!$J$19*'Daten Diagramm'!H16+Demonstrator!$J$24*'Daten Diagramm'!L16","v":3.1078059653890197E-2},{"$f":"Demonstrator!$J$19*'Daten Diagramm'!I16+Demonstrator!$J$24*'Daten Diagramm'!M16","v":0.23783531835998178}]
[-6,{"$f":"IF(AND(A17=0,Berechnung!$B$3=0),1,IF(Berechnung!$B$3<>0,_xlfn.NORM.DIST(A17,0,Berechnung!$B$3,FALSE),0))","v":3.5494222835816915E-2},{"$f":"IF(AND($A17>=0,Berechnung!$B$3=0),1,IF(Berechnung!$B$3<>0,_xlfn.NORM.DIST($A17,0,Berechnung!$B$3,TRUE),0))","v":0.25249253754692291},{"$f":"IF(AND($A17=0,Berechnung!$B$4=0),1,IF(Berechnung!$B$4<>0,_xlfn.NORM.DIST($A17,0,Berechnung!$B$4,FALSE),0))","v":3.5494222835816915E-2},{"$f":"IF(AND($A17>=0,Berechnung!$B$4=0),1,IF(Berechnung!$B$4<>0,_xlfn.NORM.DIST($A17,0,Berechnung!$B$4,TRUE),0))","v":0.25249253754692291},{"$f":"IF(AND($A17=0,Berechnung!$B$5=0),1,IF(Berechnung!$B$5<>0,_xlfn.NORM.DIST($A17,0,Berechnung!$B$5,FALSE),0))","v":2.5119981890225653E-2},{"$f":"IF(AND($A17>=0,Berechnung!$B$5=0),1,IF(Berechnung!$B$5<>0,_xlfn.NORM.DIST($A17,0,Berechnung!$B$5,TRUE),0))","v":0.34049475617861219},{"$f":"IF(AND($A17=0,Berechnung!$B$6=0),1,IF(Berechnung!$B$6<>0,_xlfn.NORM.DIST($A17,0,Berechnung!$B$6,FALSE),0))","v":2.5116062716370617E-2},{"$f":"IF(AND($A17>=0,Berechnung!$B$6=0),1,IF(Berechnung!$B$6<>0,_xlfn.NORM.DIST($A17,0,Berechnung!$B$6,TRUE),0))","v":0.34052305286194573},{"$f":"IF(AND($A17=0,Berechnung!$B$7=0),1,IF(Berechnung!$B$7<>0,_xlfn.NORM.DIST($A17,0,Berechnung!$B$7,FALSE),0))","v":3.5494222835816915E-2},{"$f":"IF(AND($A17>=0,Berechnung!$B$7=0),1,IF(Berechnung!$B$7<>0,_xlfn.NORM.DIST($A17,0,Berechnung!$B$7,TRUE),0))","v":0.25249253754692291},{"$f":"IF(AND($A17=0,Berechnung!$B$8=0),1,IF(Berechnung!$B$8<>0,_xlfn.NORM.DIST($A17,0,Berechnung!$B$8,FALSE),0))","v":3.5494222835816915E-2},{"$f":"IF(AND($A17>=0,Berechnung!$B$8=0),1,IF(Berechnung!$B$8<>0,_xlfn.NORM.DIST($A17,0,Berechnung!$B$8,TRUE),0))","v":0.25249253754692291},{"$f":"IF(AND($A17=0,Berechnung!$B$9=0),1,IF(Berechnung!$B$9<>0,_xlfn.NORM.DIST($A17,0,Berechnung!$B$9,FALSE),0))","v":3.2553645890923751E-2},{"$f":"IF(AND($A17>=0,Berechnung!$B$9=0),1,IF(Berechnung!$B$9<>0,_xlfn.NORM.DIST($A17,0,Berechnung!$B$9,TRUE),0))","v":0.28132238274168597},{"$f":"IF(AND($A17=0,Berechnung!$B$10=0),1,IF(Berechnung!$B$10<>0,_xlfn.NORM.DIST($A17,0,Berechnung!$B$10,FALSE),0))","v":3.0345953794414984E-2},{"$f":"IF(AND($A17>=0,Berechnung!$B$10=0),1,IF(Berechnung!$B$10<>0,_xlfn.NORM.DIST($A17,0,Berechnung!$B$10,TRUE),0))","v":0.3003507249287013},{"$f":"IF(AND($A17=0,Berechnung!$B$11=0),1,IF(Berechnung!$B$11<>0,_xlfn.NORM.DIST($A17,0,Berechnung!$B$11,FALSE),0))","v":0},{"$f":"IF(AND($A17>=0,Berechnung!$B$11=0),1,IF(Berechnung!$B$11<>0,_xlfn.NORM.DIST($A17,0,Berechnung!$B$11,TRUE),0))","v":0},{"$f":"Demonstrator!$J$19*'Daten Diagramm'!H17+Demonstrator!$J$24*'Daten Diagramm'!L17","v":3.3418590811927655E-2},{"$f":"Demonstrator!$J$19*'Daten Diagramm'!I17+Demonstrator!$J$24*'Daten Diagramm'!M17","v":0.2700986406099275}]
[-5,{"$f":"IF(AND(A18=0,Berechnung!$B$3=0),1,IF(Berechnung!$B$3<>0,_xlfn.NORM.DIST(A18,0,Berechnung!$B$3,FALSE),0))","v":3.7988032685125468E-2},{"$f":"IF(AND($A18>=0,Berechnung!$B$3=0),1,IF(Berechnung!$B$3<>0,_xlfn.NORM.DIST($A18,0,Berechnung!$B$3,TRUE),0))","v":0.28925736075397196},{"$f":"IF(AND($A18=0,Berechnung!$B$4=0),1,IF(Berechnung!$B$4<>0,_xlfn.NORM.DIST($A18,0,Berechnung!$B$4,FALSE),0))","v":3.7988032685125468E-2},{"$f":"IF(AND($A18>=0,Berechnung!$B$4=0),1,IF(Berechnung!$B$4<>0,_xlfn.NORM.DIST($A18,0,Berechnung!$B$4,TRUE),0))","v":0.28925736075397196},{"$f":"IF(AND($A18=0,Berechnung!$B$5=0),1,IF(Berechnung!$B$5<>0,_xlfn.NORM.DIST($A18,0,Berechnung!$B$5,FALSE),0))","v":2.5777066903059757E-2},{"$f":"IF(AND($A18>=0,Berechnung!$B$5=0),1,IF(Berechnung!$B$5<>0,_xlfn.NORM.DIST($A18,0,Berechnung!$B$5,TRUE),0))","v":0.36595182473594134},{"$f":"IF(AND($A18=0,Berechnung!$B$6=0),1,IF(Berechnung!$B$6<>0,_xlfn.NORM.DIST($A18,0,Berechnung!$B$6,FALSE),0))","v":2.5772795353561962E-2},{"$f":"IF(AND($A18>=0,Berechnung!$B$6=0),1,IF(Berechnung!$B$6<>0,_xlfn.NORM.DIST($A18,0,Berechnung!$B$6,TRUE),0))","v":0.36597602200536494},{"$f":"IF(AND($A18=0,Berechnung!$B$7=0),1,IF(Berechnung!$B$7<>0,_xlfn.NORM.DIST($A18,0,Berechnung!$B$7,FALSE),0))","v":3.7988032685125468E-2},{"$f":"IF(AND($A18>=0,Berechnung!$B$7=0),1,IF(Berechnung!$B$7<>0,_xlfn.NORM.DIST($A18,0,Berechnung!$B$7,TRUE),0))","v":0.28925736075397196},{"$f":"IF(AND($A18=0,Berechnung!$B$8=0),1,IF(Berechnung!$B$8<>0,_xlfn.NORM.DIST($A18,0,Berechnung!$B$8,FALSE),0))","v":3.7988032685125468E-2},{"$f":"IF(AND($A18>=0,Berechnung!$B$8=0),1,IF(Berechnung!$B$8<>0,_xlfn.NORM.DIST($A18,0,Berechnung!$B$8,TRUE),0))","v":0.28925736075397196},{"$f":"IF(AND($A18=0,Berechnung!$B$9=0),1,IF(Berechnung!$B$9<>0,_xlfn.NORM.DIST($A18,0,Berechnung!$B$9,FALSE),0))","v":3.4263894855404008E-2},{"$f":"IF(AND($A18>=0,Berechnung!$B$9=0),1,IF(Berechnung!$B$9<>0,_xlfn.NORM.DIST($A18,0,Berechnung!$B$9,TRUE),0))","v":0.31474977976841517},{"$f":"IF(AND($A18=0,Berechnung!$B$10=0),1,IF(Berechnung!$B$10<>0,_xlfn.NORM.DIST($A18,0,Berechnung!$B$10,FALSE),0))","v":3.1642938761035654E-2},{"$f":"IF(AND($A18>=0,Berechnung!$B$10=0),1,IF(Berechnung!$B$10<>0,_xlfn.NORM.DIST($A18,0,Berechnung!$B$10,TRUE),0))","v":0.33136030609787437},{"$f":"IF(AND($A18=0,Berechnung!$B$11=0),1,IF(Berechnung!$B$11<>0,_xlfn.NORM.DIST($A18,0,Berechnung!$B$11,FALSE),0))","v":0},{"$f":"IF(AND($A18>=0,Berechnung!$B$11=0),1,IF(Berechnung!$B$11<>0,_xlfn.NORM.DIST($A18,0,Berechnung!$B$11,TRUE),0))","v":0},{"$f":"Demonstrator!$J$19*'Daten Diagramm'!H18+Demonstrator!$J$24*'Daten Diagramm'!L18","v":3.5544985218812768E-2},{"$f":"Demonstrator!$J$19*'Daten Diagramm'!I18+Demonstrator!$J$24*'Daten Diagramm'!M18","v":0.30460109300425053}]
[-4,{"$f":"IF(AND(A19=0,Berechnung!$B$3=0),1,IF(Berechnung!$B$3<>0,_xlfn.NORM.DIST(A19,0,Berechnung!$B$3,FALSE),0))","v":4.0158203320304835E-2},{"$f":"IF(AND($A19>=0,Berechnung!$B$3=0),1,IF(Berechnung!$B$3<>0,_xlfn.NORM.DIST($A19,0,Berechnung!$B$3,TRUE),0))","v":0.32836064328188519},{"$f":"IF(AND($A19=0,Berechnung!$B$4=0),1,IF(Berechnung!$B$4<>0,_xlfn.NORM.DIST($A19,0,Berechnung!$B$4,FALSE),0))","v":4.0158203320304835E-2},{"$f":"IF(AND($A19>=0,Berechnung!$B$4=0),1,IF(Berechnung!$B$4<>0,_xlfn.NORM.DIST($A19,0,Berechnung!$B$4,TRUE),0))","v":0.32836064328188519},{"$f":"IF(AND($A19=0,Berechnung!$B$5=0),1,IF(Berechnung!$B$5<>0,_xlfn.NORM.DIST($A19,0,Berechnung!$B$5,FALSE),0))","v":2.6327446218346592E-2},{"$f":"IF(AND($A19>=0,Berechnung!$B$5=0),1,IF(Berechnung!$B$5<>0,_xlfn.NORM.DIST($A19,0,Berechnung!$B$5,TRUE),0))","v":0.39201330685282149},{"$f":"IF(AND($A19=0,Berechnung!$B$6=0),1,IF(Berechnung!$B$6<>0,_xlfn.NORM.DIST($A19,0,Berechnung!$B$6,FALSE),0))","v":2.6322874672144909E-2},{"$f":"IF(AND($A19>=0,Berechnung!$B$6=0),1,IF(Berechnung!$B$6<>0,_xlfn.NORM.DIST($A19,0,Berechnung!$B$6,TRUE),0))","v":0.39203307790854813},{"$f":"IF(AND($A19=0,Berechnung!$B$7=0),1,IF(Berechnung!$B$7<>0,_xlfn.NORM.DIST($A19,0,Berechnung!$B$7,FALSE),0))","v":4.0158203320304835E-2},{"$f":"IF(AND($A19>=0,Berechnung!$B$7=0),1,IF(Berechnung!$B$7<>0,_xlfn.NORM.DIST($A19,0,Berechnung!$B$7,TRUE),0))","v":0.32836064328188519},{"$f":"IF(AND($A19=0,Berechnung!$B$8=0),1,IF(Berechnung!$B$8<>0,_xlfn.NORM.DIST($A19,0,Berechnung!$B$8,FALSE),0))","v":4.0158203320304835E-2},{"$f":"IF(AND($A19>=0,Berechnung!$B$8=0),1,IF(Berechnung!$B$8<>0,_xlfn.NORM.DIST($A19,0,Berechnung!$B$8,TRUE),0))","v":0.32836064328188519},{"$f":"IF(AND($A19=0,Berechnung!$B$9=0),1,IF(Berechnung!$B$9<>0,_xlfn.NORM.DIST($A19,0,Berechnung!$B$9,FALSE),0))","v":3.5729810627224648E-2},{"$f":"IF(AND($A19>=0,Berechnung!$B$9=0),1,IF(Berechnung!$B$9<>0,_xlfn.NORM.DIST($A19,0,Berechnung!$B$9,TRUE),0))","v":0.34976867343504697},{"$f":"IF(AND($A19=0,Berechnung!$B$10=0),1,IF(Berechnung!$B$10<>0,_xlfn.NORM.DIST($A19,0,Berechnung!$B$10,FALSE),0))","v":3.274523402631907E-2},{"$f":"IF(AND($A19>=0,Berechnung!$B$10=0),1,IF(Berechnung!$B$10<>0,_xlfn.NORM.DIST($A19,0,Berechnung!$B$10,TRUE),0))","v":0.36357166736098739},{"$f":"IF(AND($A19=0,Berechnung!$B$11=0),1,IF(Berechnung!$B$11<>0,_xlfn.NORM.DIST($A19,0,Berechnung!$B$11,FALSE),0))","v":0},{"$f":"IF(AND($A19>=0,Berechnung!$B$11=0),1,IF(Berechnung!$B$11<>0,_xlfn.NORM.DIST($A19,0,Berechnung!$B$11,TRUE),0))","v":0},{"$f":"Demonstrator!$J$19*'Daten Diagramm'!H19+Demonstrator!$J$24*'Daten Diagramm'!L19","v":3.7391137590672849E-2},{"$f":"Demonstrator!$J$19*'Daten Diagramm'!I19+Demonstrator!$J$24*'Daten Diagramm'!M19","v":0.34109513020721782}]
[-3,{"$f":"IF(AND(A20=0,Berechnung!$B$3=0),1,IF(Berechnung!$B$3<>0,_xlfn.NORM.DIST(A20,0,Berechnung!$B$3,FALSE),0))","v":4.1931469743665906E-2},{"$f":"IF(AND($A20>=0,Berechnung!$B$3=0),1,IF(Berechnung!$B$3<>0,_xlfn.NORM.DIST($A20,0,Berechnung!$B$3,TRUE),0))","v":0.36944134018176361},{"$f":"IF(AND($A20=0,Berechnung!$B$4=0),1,IF(Berechnung!$B$4<>0,_xlfn.NORM.DIST($A20,0,Berechnung!$B$4,FALSE),0))","v":4.1931469743665906E-2},{"$f":"IF(AND($A20>=0,Berechnung!$B$4=0),1,IF(Berechnung!$B$4<>0,_xlfn.NORM.DIST($A20,0,Berechnung!$B$4,TRUE),0))","v":0.36944134018176361},{"$f":"IF(AND($A20=0,Berechnung!$B$5=0),1,IF(Berechnung!$B$5<>0,_xlfn.NORM.DIST($A20,0,Berechnung!$B$5,FALSE),0))","v":2.6763630697855999E-2},{"$f":"IF(AND($A20>=0,Berechnung!$B$5=0),1,IF(Berechnung!$B$5<>0,_xlfn.NORM.DIST($A20,0,Berechnung!$B$5,TRUE),0))","v":0.41856863577067632},{"$f":"IF(AND($A20=0,Berechnung!$B$6=0),1,IF(Berechnung!$B$6<>0,_xlfn.NORM.DIST($A20,0,Berechnung!$B$6,FALSE),0))","v":2.6758818328148547E-2},{"$f":"IF(AND($A20>=0,Berechnung!$B$6=0),1,IF(Berechnung!$B$6<>0,_xlfn.NORM.DIST($A20,0,Berechnung!$B$6,TRUE),0))","v":0.41858370968623881},{"$f":"IF(AND($A20=0,Berechnung!$B$7=0),1,IF(Berechnung!$B$7<>0,_xlfn.NORM.DIST($A20,0,Berechnung!$B$7,FALSE),0))","v":4.1931469743665906E-2},{"$f":"IF(AND($A20>=0,Berechnung!$B$7=0),1,IF(Berechnung!$B$7<>0,_xlfn.NORM.DIST($A20,0,Berechnung!$B$7,TRUE),0))","v":0.36944134018176361},{"$f":"IF(AND($A20=0,Berechnung!$B$8=0),1,IF(Berechnung!$B$8<>0,_xlfn.NORM.DIST($A20,0,Berechnung!$B$8,FALSE),0))","v":4.1931469743665906E-2},{"$f":"IF(AND($A20>=0,Berechnung!$B$8=0),1,IF(Berechnung!$B$8<>0,_xlfn.NORM.DIST($A20,0,Berechnung!$B$8,TRUE),0))","v":0.36944134018176361},{"$f":"IF(AND($A20=0,Berechnung!$B$9=0),1,IF(Berechnung!$B$9<>0,_xlfn.NORM.DIST($A20,0,Berechnung!$B$9,FALSE),0))","v":3.6913191195030906E-2},{"$f":"IF(AND($A20>=0,Berechnung!$B$9=0),1,IF(Berechnung!$B$9<>0,_xlfn.NORM.DIST($A20,0,Berechnung!$B$9,TRUE),0))","v":0.38611514951827486},{"$f":"IF(AND($A20=0,Berechnung!$B$10=0),1,IF(Berechnung!$B$10<>0,_xlfn.NORM.DIST($A20,0,Berechnung!$B$10,FALSE),0))","v":3.3629054408670193E-2},{"$f":"IF(AND($A20>=0,Berechnung!$B$10=0),1,IF(Berechnung!$B$10<>0,_xlfn.NORM.DIST($A20,0,Berechnung!$B$10,TRUE),0))","v":0.39677790113938338},{"$f":"IF(AND($A20=0,Berechnung!$B$11=0),1,IF(Berechnung!$B$11<>0,_xlfn.NORM.DIST($A20,0,Berechnung!$B$11,FALSE),0))","v":0},{"$f":"IF(AND($A20>=0,Berechnung!$B$11=0),1,IF(Berechnung!$B$11<>0,_xlfn.NORM.DIST($A20,0,Berechnung!$B$11,TRUE),0))","v":0},{"$f":"Demonstrator!$J$19*'Daten Diagramm'!H20+Demonstrator!$J$24*'Daten Diagramm'!L20","v":3.8896939460562434E-2},{"$f":"Demonstrator!$J$19*'Daten Diagramm'!I20+Demonstrator!$J$24*'Daten Diagramm'!M20","v":0.37926981408265864}]
[-2,{"$f":"IF(AND(A21=0,Berechnung!$B$3=0),1,IF(Berechnung!$B$3<>0,_xlfn.NORM.DIST(A21,0,Berechnung!$B$3,FALSE),0))","v":4.3245829907971815E-2},{"$f":"IF(AND($A21>=0,Berechnung!$B$3=0),1,IF(Berechnung!$B$3<>0,_xlfn.NORM.DIST($A21,0,Berechnung!$B$3,TRUE),0))","v":0.4120704478709426},{"$f":"IF(AND($A21=0,Berechnung!$B$4=0),1,IF(Berechnung!$B$4<>0,_xlfn.NORM.DIST($A21,0,Berechnung!$B$4,FALSE),0))","v":4.3245829907971815E-2},{"$f":"IF(AND($A21>=0,Berechnung!$B$4=0),1,IF(Berechnung!$B$4<>0,_xlfn.NORM.DIST($A21,0,Berechnung!$B$4,TRUE),0))","v":0.4120704478709426},{"$f":"IF(AND($A21=0,Berechnung!$B$5=0),1,IF(Berechnung!$B$5<>0,_xlfn.NORM.DIST($A21,0,Berechnung!$B$5,FALSE),0))","v":2.707960852127482E-2},{"$f":"IF(AND($A21>=0,Berechnung!$B$5=0),1,IF(Berechnung!$B$5<>0,_xlfn.NORM.DIST($A21,0,Berechnung!$B$5,TRUE),0))","v":0.44550048136873743},{"$f":"IF(AND($A21=0,Berechnung!$B$6=0),1,IF(Berechnung!$B$6<>0,_xlfn.NORM.DIST($A21,0,Berechnung!$B$6,FALSE),0))","v":2.7074620027177244E-2},{"$f":"IF(AND($A21>=0,Berechnung!$B$6=0),1,IF(Berechnung!$B$6<>0,_xlfn.NORM.DIST($A21,0,Berechnung!$B$6,TRUE),0))","v":0.44551064926754286},{"$f":"IF(AND($A21=0,Berechnung!$B$7=0),1,IF(Berechnung!$B$7<>0,_xlfn.NORM.DIST($A21,0,Berechnung!$B$7,FALSE),0))","v":4.3245829907971815E-2},{"$f":"IF(AND($A21>=0,Berechnung!$B$7=0),1,IF(Berechnung!$B$7<>0,_xlfn.NORM.DIST($A21,0,Berechnung!$B$7,TRUE),0))","v":0.4120704478709426},{"$f":"IF(AND($A21=0,Berechnung!$B$8=0),1,IF(Berechnung!$B$8<>0,_xlfn.NORM.DIST($A21,0,Berechnung!$B$8,FALSE),0))","v":4.3245829907971815E-2},{"$f":"IF(AND($A21>=0,Berechnung!$B$8=0),1,IF(Berechnung!$B$8<>0,_xlfn.NORM.DIST($A21,0,Berechnung!$B$8,TRUE),0))","v":0.4120704478709426},{"$f":"IF(AND($A21=0,Berechnung!$B$9=0),1,IF(Berechnung!$B$9<>0,_xlfn.NORM.DIST($A21,0,Berechnung!$B$9,FALSE),0))","v":3.7782384378584485E-2},{"$f":"IF(AND($A21>=0,Berechnung!$B$9=0),1,IF(Berechnung!$B$9<>0,_xlfn.NORM.DIST($A21,0,Berechnung!$B$9,TRUE),0))","v":0.42349023785537726},{"$f":"IF(AND($A21=0,Berechnung!$B$10=0),1,IF(Berechnung!$B$10<>0,_xlfn.NORM.DIST($A21,0,Berechnung!$B$10,FALSE),0))","v":3.4274922579357117E-2},{"$f":"IF(AND($A21>=0,Berechnung!$B$10=0),1,IF(Berechnung!$B$10<>0,_xlfn.NORM.DIST($A21,0,Berechnung!$B$10,TRUE),0))","v":0.43075040274944737},{"$f":"IF(AND($A21=0,Berechnung!$B$11=0),1,IF(Berechnung!$B$11<>0,_xlfn.NORM.DIST($A21,0,Berechnung!$B$11,FALSE),0))","v":0},{"$f":"IF(AND($A21>=0,Berechnung!$B$11=0),1,IF(Berechnung!$B$11<>0,_xlfn.NORM.DIST($A21,0,Berechnung!$B$11,TRUE),0))","v":0},{"$f":"Demonstrator!$J$19*'Daten Diagramm'!H21+Demonstrator!$J$24*'Daten Diagramm'!L21","v":4.0011587931812899E-2},{"$f":"Demonstrator!$J$19*'Daten Diagramm'!I21+Demonstrator!$J$24*'Daten Diagramm'!M21","v":0.41875848815026268}]
[-1,{"$f":"IF(AND(A22=0,Berechnung!$B$3=0),1,IF(Berechnung!$B$3<>0,_xlfn.NORM.DIST(A22,0,Berechnung!$B$3,FALSE),0))","v":4.4054139861676445E-2},{"$f":"IF(AND($A22>=0,Berechnung!$B$3=0),1,IF(Berechnung!$B$3<>0,_xlfn.NORM.DIST($A22,0,Berechnung!$B$3,TRUE),0))","v":0.4557641189546886},{"$f":"IF(AND($A22=0,Berechnung!$B$4=0),1,IF(Berechnung!$B$4<>0,_xlfn.NORM.DIST($A22,0,Berechnung!$B$4,FALSE),0))","v":4.4054139861676445E-2},{"$f":"IF(AND($A22>=0,Berechnung!$B$4=0),1,IF(Berechnung!$B$4<>0,_xlfn.NORM.DIST($A22,0,Berechnung!$B$4,TRUE),0))","v":0.4557641189546886},{"$f":"IF(AND($A22=0,Berechnung!$B$5=0),1,IF(Berechnung!$B$5<>0,_xlfn.NORM.DIST($A22,0,Berechnung!$B$5,FALSE),0))","v":2.7270983052811001E-2},{"$f":"IF(AND($A22>=0,Berechnung!$B$5=0),1,IF(Berechnung!$B$5<>0,_xlfn.NORM.DIST($A22,0,Berechnung!$B$5,TRUE),0))","v":0.47268629925267769},{"$f":"IF(AND($A22=0,Berechnung!$B$6=0),1,IF(Berechnung!$B$6<>0,_xlfn.NORM.DIST($A22,0,Berechnung!$B$6,FALSE),0))","v":2.726588721379768E-2},{"$f":"IF(AND($A22>=0,Berechnung!$B$6=0),1,IF(Berechnung!$B$6<>0,_xlfn.NORM.DIST($A22,0,Berechnung!$B$6,TRUE),0))","v":0.47269141912413382},{"$f":"IF(AND($A22=0,Berechnung!$B$7=0),1,IF(Berechnung!$B$7<>0,_xlfn.NORM.DIST($A22,0,Berechnung!$B$7,FALSE),0))","v":4.4054139861676445E-2},{"$f":"IF(AND($A22>=0,Berechnung!$B$7=0),1,IF(Berechnung!$B$7<>0,_xlfn.NORM.DIST($A22,0,Berechnung!$B$7,TRUE),0))","v":0.4557641189546886},{"$f":"IF(AND($A22=0,Berechnung!$B$8=0),1,IF(Berechnung!$B$8<>0,_xlfn.NORM.DIST($A22,0,Berechnung!$B$8,FALSE),0))","v":4.4054139861676445E-2},{"$f":"IF(AND($A22>=0,Berechnung!$B$8=0),1,IF(Berechnung!$B$8<>0,_xlfn.NORM.DIST($A22,0,Berechnung!$B$8,TRUE),0))","v":0.4557641189546886},{"$f":"IF(AND($A22=0,Berechnung!$B$9=0),1,IF(Berechnung!$B$9<>0,_xlfn.NORM.DIST($A22,0,Berechnung!$B$9,FALSE),0))","v":3.8313693784990943E-2},{"$f":"IF(AND($A22>=0,Berechnung!$B$9=0),1,IF(Berechnung!$B$9<>0,_xlfn.NORM.DIST($A22,0,Berechnung!$B$9,TRUE),0))","v":0.4615671894918934},{"$f":"IF(AND($A22=0,Berechnung!$B$10=0),1,IF(Berechnung!$B$10<>0,_xlfn.NORM.DIST($A22,0,Berechnung!$B$10,FALSE),0))","v":3.4668382412020436E-2},{"$f":"IF(AND($A22>=0,Berechnung!$B$10=0),1,IF(Berechnung!$B$10<>0,_xlfn.NORM.DIST($A22,0,Berechnung!$B$10,TRUE),0))","v":0.46524354814667335},{"$f":"IF(AND($A22=0,Berechnung!$B$11=0),1,IF(Berechnung!$B$11<>0,_xlfn.NORM.DIST($A22,0,Berechnung!$B$11,FALSE),0))","v":0},{"$f":"IF(AND($A22>=0,Berechnung!$B$11=0),1,IF(Berechnung!$B$11<>0,_xlfn.NORM.DIST($A22,0,Berechnung!$B$11,TRUE),0))","v":0},{"$f":"Demonstrator!$J$19*'Daten Diagramm'!H22+Demonstrator!$J$24*'Daten Diagramm'!L22","v":4.069648933210069E-2},{"$f":"Demonstrator!$J$19*'Daten Diagramm'!I22+Demonstrator!$J$24*'Daten Diagramm'!M22","v":0.45914957898857767}]
[0,{"$f":"IF(AND(A23=0,Berechnung!$B$3=0),1,IF(Berechnung!$B$3<>0,_xlfn.NORM.DIST(A23,0,Berechnung!$B$3,FALSE),0))","v":4.4326920044603632E-2},{"$f":"IF(AND($A23>=0,Berechnung!$B$3=0),1,IF(Berechnung!$B$3<>0,_xlfn.NORM.DIST($A23,0,Berechnung!$B$3,TRUE),0))","v":0.5},{"$f":"IF(AND($A23=0,Berechnung!$B$4=0),1,IF(Berechnung!$B$4<>0,_xlfn.NORM.DIST($A23,0,Berechnung!$B$4,FALSE),0))","v":4.4326920044603632E-2},{"$f":"IF(AND($A23>=0,Berechnung!$B$4=0),1,IF(Berechnung!$B$4<>0,_xlfn.NORM.DIST($A23,0,Berechnung!$B$4,TRUE),0))","v":0.5},{"$f":"IF(AND($A23=0,Berechnung!$B$5=0),1,IF(Berechnung!$B$5<>0,_xlfn.NORM.DIST($A23,0,Berechnung!$B$5,FALSE),0))","v":2.7335074640391106E-2},{"$f":"IF(AND($A23>=0,Berechnung!$B$5=0),1,IF(Berechnung!$B$5<>0,_xlfn.NORM.DIST($A23,0,Berechnung!$B$5,TRUE),0))","v":0.5},{"$f":"IF(AND($A23=0,Berechnung!$B$6=0),1,IF(Berechnung!$B$6<>0,_xlfn.NORM.DIST($A23,0,Berechnung!$B$6,FALSE),0))","v":2.73299427386017E-2},{"$f":"IF(AND($A23>=0,Berechnung!$B$6=0),1,IF(Berechnung!$B$6<>0,_xlfn.NORM.DIST($A23,0,Berechnung!$B$6,TRUE),0))","v":0.5},{"$f":"IF(AND($A23=0,Berechnung!$B$7=0),1,IF(Berechnung!$B$7<>0,_xlfn.NORM.DIST($A23,0,Berechnung!$B$7,FALSE),0))","v":4.4326920044603632E-2},{"$f":"IF(AND($A23>=0,Berechnung!$B$7=0),1,IF(Berechnung!$B$7<>0,_xlfn.NORM.DIST($A23,0,Berechnung!$B$7,TRUE),0))","v":0.5},{"$f":"IF(AND($A23=0,Berechnung!$B$8=0),1,IF(Berechnung!$B$8<>0,_xlfn.NORM.DIST($A23,0,Berechnung!$B$8,FALSE),0))","v":4.4326920044603632E-2},{"$f":"IF(AND($A23>=0,Berechnung!$B$8=0),1,IF(Berechnung!$B$8<>0,_xlfn.NORM.DIST($A23,0,Berechnung!$B$8,TRUE),0))","v":0.5},{"$f":"IF(AND($A23=0,Berechnung!$B$9=0),1,IF(Berechnung!$B$9<>0,_xlfn.NORM.DIST($A23,0,Berechnung!$B$9,FALSE),0))","v":3.8492452087272776E-2},{"$f":"IF(AND($A23>=0,Berechnung!$B$9=0),1,IF(Berechnung!$B$9<>0,_xlfn.NORM.DIST($A23,0,Berechnung!$B$9,TRUE),0))","v":0.5},{"$f":"IF(AND($A23=0,Berechnung!$B$10=0),1,IF(Berechnung!$B$10<>0,_xlfn.NORM.DIST($A23,0,Berechnung!$B$10,FALSE),0))","v":3.4800536859481028E-2},{"$f":"IF(AND($A23>=0,Berechnung!$B$10=0),1,IF(Berechnung!$B$10<>0,_xlfn.NORM.DIST($A23,0,Berechnung!$B$10,TRUE),0))","v":0.5},{"$f":"IF(AND($A23=0,Berechnung!$B$11=0),1,IF(Berechnung!$B$11<>0,_xlfn.NORM.DIST($A23,0,Berechnung!$B$11,FALSE),0))","v":1},{"$f":"IF(AND($A23>=0,Berechnung!$B$11=0),1,IF(Berechnung!$B$11<>0,_xlfn.NORM.DIST($A23,0,Berechnung!$B$11,TRUE),0))","v":1},{"$f":"Demonstrator!$J$19*'Daten Diagramm'!H23+Demonstrator!$J$24*'Daten Diagramm'!L23","v":4.0927524583403249E-2},{"$f":"Demonstrator!$J$19*'Daten Diagramm'!I23+Demonstrator!$J$24*'Daten Diagramm'!M23","v":0.5}]
[1,{"$f":"IF(AND(A24=0,Berechnung!$B$3=0),1,IF(Berechnung!$B$3<>0,_xlfn.NORM.DIST(A24,0,Berechnung!$B$3,FALSE),0))","v":4.4054139861676445E-2},{"$f":"IF(AND($A24>=0,Berechnung!$B$3=0),1,IF(Berechnung!$B$3<>0,_xlfn.NORM.DIST($A24,0,Berechnung!$B$3,TRUE),0))","v":0.5442358810453114},{"$f":"IF(AND($A24=0,Berechnung!$B$4=0),1,IF(Berechnung!$B$4<>0,_xlfn.NORM.DIST($A24,0,Berechnung!$B$4,FALSE),0))","v":4.4054139861676445E-2},{"$f":"IF(AND($A24>=0,Berechnung!$B$4=0),1,IF(Berechnung!$B$4<>0,_xlfn.NORM.DIST($A24,0,Berechnung!$B$4,TRUE),0))","v":0.5442358810453114},{"$f":"IF(AND($A24=0,Berechnung!$B$5=0),1,IF(Berechnung!$B$5<>0,_xlfn.NORM.DIST($A24,0,Berechnung!$B$5,FALSE),0))","v":2.7270983052811001E-2},{"$f":"IF(AND($A24>=0,Berechnung!$B$5=0),1,IF(Berechnung!$B$5<>0,_xlfn.NORM.DIST($A24,0,Berechnung!$B$5,TRUE),0))","v":0.52731370074732231},{"$f":"IF(AND($A24=0,Berechnung!$B$6=0),1,IF(Berechnung!$B$6<>0,_xlfn.NORM.DIST($A24,0,Berechnung!$B$6,FALSE),0))","v":2.726588721379768E-2},{"$f":"IF(AND($A24>=0,Berechnung!$B$6=0),1,IF(Berechnung!$B$6<>0,_xlfn.NORM.DIST($A24,0,Berechnung!$B$6,TRUE),0))","v":0.52730858087586618},{"$f":"IF(AND($A24=0,Berechnung!$B$7=0),1,IF(Berechnung!$B$7<>0,_xlfn.NORM.DIST($A24,0,Berechnung!$B$7,FALSE),0))","v":4.4054139861676445E-2},{"$f":"IF(AND($A24>=0,Berechnung!$B$7=0),1,IF(Berechnung!$B$7<>0,_xlfn.NORM.DIST($A24,0,Berechnung!$B$7,TRUE),0))","v":0.5442358810453114},{"$f":"IF(AND($A24=0,Berechnung!$B$8=0),1,IF(Berechnung!$B$8<>0,_xlfn.NORM.DIST($A24,0,Berechnung!$B$8,FALSE),0))","v":4.4054139861676445E-2},{"$f":"IF(AND($A24>=0,Berechnung!$B$8=0),1,IF(Berechnung!$B$8<>0,_xlfn.NORM.DIST($A24,0,Berechnung!$B$8,TRUE),0))","v":0.5442358810453114},{"$f":"IF(AND($A24=0,Berechnung!$B$9=0),1,IF(Berechnung!$B$9<>0,_xlfn.NORM.DIST($A24,0,Berechnung!$B$9,FALSE),0))","v":3.8313693784990943E-2},{"$f":"IF(AND($A24>=0,Berechnung!$B$9=0),1,IF(Berechnung!$B$9<>0,_xlfn.NORM.DIST($A24,0,Berechnung!$B$9,TRUE),0))","v":0.53843281050810665},{"$f":"IF(AND($A24=0,Berechnung!$B$10=0),1,IF(Berechnung!$B$10<>0,_xlfn.NORM.DIST($A24,0,Berechnung!$B$10,FALSE),0))","v":3.4668382412020436E-2},{"$f":"IF(AND($A24>=0,Berechnung!$B$10=0),1,IF(Berechnung!$B$10<>0,_xlfn.NORM.DIST($A24,0,Berechnung!$B$10,TRUE),0))","v":0.53475645185332665},{"$f":"IF(AND($A24=0,Berechnung!$B$11=0),1,IF(Berechnung!$B$11<>0,_xlfn.NORM.DIST($A24,0,Berechnung!$B$11,FALSE),0))","v":0},{"$f":"IF(AND($A24>=0,Berechnung!$B$11=0),1,IF(Berechnung!$B$11<>0,_xlfn.NORM.DIST($A24,0,Berechnung!$B$11,TRUE),0))","v":1},{"$f":"Demonstrator!$J$19*'Daten Diagramm'!H24+Demonstrator!$J$24*'Daten Diagramm'!L24","v":4.069648933210069E-2},{"$f":"Demonstrator!$J$19*'Daten Diagramm'!I24+Demonstrator!$J$24*'Daten Diagramm'!M24","v":0.54085042101142233}]
[2,{"$f":"IF(AND(A25=0,Berechnung!$B$3=0),1,IF(Berechnung!$B$3<>0,_xlfn.NORM.DIST(A25,0,Berechnung!$B$3,FALSE),0))","v":4.3245829907971815E-2},{"$f":"IF(AND($A25>=0,Berechnung!$B$3=0),1,IF(Berechnung!$B$3<>0,_xlfn.NORM.DIST($A25,0,Berechnung!$B$3,TRUE),0))","v":0.5879295521290574},{"$f":"IF(AND($A25=0,Berechnung!$B$4=0),1,IF(Berechnung!$B$4<>0,_xlfn.NORM.DIST($A25,0,Berechnung!$B$4,FALSE),0))","v":4.3245829907971815E-2},{"$f":"IF(AND($A25>=0,Berechnung!$B$4=0),1,IF(Berechnung!$B$4<>0,_xlfn.NORM.DIST($A25,0,Berechnung!$B$4,TRUE),0))","v":0.5879295521290574},{"$f":"IF(AND($A25=0,Berechnung!$B$5=0),1,IF(Berechnung!$B$5<>0,_xlfn.NORM.DIST($A25,0,Berechnung!$B$5,FALSE),0))","v":2.707960852127482E-2},{"$f":"IF(AND($A25>=0,Berechnung!$B$5=0),1,IF(Berechnung!$B$5<>0,_xlfn.NORM.DIST($A25,0,Berechnung!$B$5,TRUE),0))","v":0.55449951863126257},{"$f":"IF(AND($A25=0,Berechnung!$B$6=0),1,IF(Berechnung!$B$6<>0,_xlfn.NORM.DIST($A25,0,Berechnung!$B$6,FALSE),0))","v":2.7074620027177244E-2},{"$f":"IF(AND($A25>=0,Berechnung!$B$6=0),1,IF(Berechnung!$B$6<>0,_xlfn.NORM.DIST($A25,0,Berechnung!$B$6,TRUE),0))","v":0.55448935073245709},{"$f":"IF(AND($A25=0,Berechnung!$B$7=0),1,IF(Berechnung!$B$7<>0,_xlfn.NORM.DIST($A25,0,Berechnung!$B$7,FALSE),0))","v":4.3245829907971815E-2},{"$f":"IF(AND($A25>=0,Berechnung!$B$7=0),1,IF(Berechnung!$B$7<>0,_xlfn.NORM.DIST($A25,0,Berechnung!$B$7,TRUE),0))","v":0.5879295521290574},{"$f":"IF(AND($A25=0,Berechnung!$B$8=0),1,IF(Berechnung!$B$8<>0,_xlfn.NORM.DIST($A25,0,Berechnung!$B$8,FALSE),0))","v":4.3245829907971815E-2},{"$f":"IF(AND($A25>=0,Berechnung!$B$8=0),1,IF(Berechnung!$B$8<>0,_xlfn.NORM.DIST($A25,0,Berechnung!$B$8,TRUE),0))","v":0.5879295521290574},{"$f":"IF(AND($A25=0,Berechnung!$B$9=0),1,IF(Berechnung!$B$9<>0,_xlfn.NORM.DIST($A25,0,Berechnung!$B$9,FALSE),0))","v":3.7782384378584485E-2},{"$f":"IF(AND($A25>=0,Berechnung!$B$9=0),1,IF(Berechnung!$B$9<>0,_xlfn.NORM.DIST($A25,0,Berechnung!$B$9,TRUE),0))","v":0.57650976214462268},{"$f":"IF(AND($A25=0,Berechnung!$B$10=0),1,IF(Berechnung!$B$10<>0,_xlfn.NORM.DIST($A25,0,Berechnung!$B$10,FALSE),0))","v":3.4274922579357117E-2},{"$f":"IF(AND($A25>=0,Berechnung!$B$10=0),1,IF(Berechnung!$B$10<>0,_xlfn.NORM.DIST($A25,0,Berechnung!$B$10,TRUE),0))","v":0.56924959725055269},{"$f":"IF(AND($A25=0,Berechnung!$B$11=0),1,IF(Berechnung!$B$11<>0,_xlfn.NORM.DIST($A25,0,Berechnung!$B$11,FALSE),0))","v":0},{"$f":"IF(AND($A25>=0,Berechnung!$B$11=0),1,IF(Berechnung!$B$11<>0,_xlfn.NORM.DIST($A25,0,Berechnung!$B$11,TRUE),0))","v":1},{"$f":"Demonstrator!$J$19*'Daten Diagramm'!H25+Demonstrator!$J$24*'Daten Diagramm'!L25","v":4.0011587931812899E-2},{"$f":"Demonstrator!$J$19*'Daten Diagramm'!I25+Demonstrator!$J$24*'Daten Diagramm'!M25","v":0.58124151184973738}]
[3,{"$f":"IF(AND(A26=0,Berechnung!$B$3=0),1,IF(Berechnung!$B$3<>0,_xlfn.NORM.DIST(A26,0,Berechnung!$B$3,FALSE),0))","v":4.1931469743665906E-2},{"$f":"IF(AND($A26>=0,Berechnung!$B$3=0),1,IF(Berechnung!$B$3<>0,_xlfn.NORM.DIST($A26,0,Berechnung!$B$3,TRUE),0))","v":0.63055865981823644},{"$f":"IF(AND($A26=0,Berechnung!$B$4=0),1,IF(Berechnung!$B$4<>0,_xlfn.NORM.DIST($A26,0,Berechnung!$B$4,FALSE),0))","v":4.1931469743665906E-2},{"$f":"IF(AND($A26>=0,Berechnung!$B$4=0),1,IF(Berechnung!$B$4<>0,_xlfn.NORM.DIST($A26,0,Berechnung!$B$4,TRUE),0))","v":0.63055865981823644},{"$f":"IF(AND($A26=0,Berechnung!$B$5=0),1,IF(Berechnung!$B$5<>0,_xlfn.NORM.DIST($A26,0,Berechnung!$B$5,FALSE),0))","v":2.6763630697855999E-2},{"$f":"IF(AND($A26>=0,Berechnung!$B$5=0),1,IF(Berechnung!$B$5<>0,_xlfn.NORM.DIST($A26,0,Berechnung!$B$5,TRUE),0))","v":0.58143136422932362},{"$f":"IF(AND($A26=0,Berechnung!$B$6=0),1,IF(Berechnung!$B$6<>0,_xlfn.NORM.DIST($A26,0,Berechnung!$B$6,FALSE),0))","v":2.6758818328148547E-2},{"$f":"IF(AND($A26>=0,Berechnung!$B$6=0),1,IF(Berechnung!$B$6<>0,_xlfn.NORM.DIST($A26,0,Berechnung!$B$6,TRUE),0))","v":0.58141629031376119},{"$f":"IF(AND($A26=0,Berechnung!$B$7=0),1,IF(Berechnung!$B$7<>0,_xlfn.NORM.DIST($A26,0,Berechnung!$B$7,FALSE),0))","v":4.1931469743665906E-2},{"$f":"IF(AND($A26>=0,Berechnung!$B$7=0),1,IF(Berechnung!$B$7<>0,_xlfn.NORM.DIST($A26,0,Berechnung!$B$7,TRUE),0))","v":0.63055865981823644},{"$f":"IF(AND($A26=0,Berechnung!$B$8=0),1,IF(Berechnung!$B$8<>0,_xlfn.NORM.DIST($A26,0,Berechnung!$B$8,FALSE),0))","v":4.1931469743665906E-2},{"$f":"IF(AND($A26>=0,Berechnung!$B$8=0),1,IF(Berechnung!$B$8<>0,_xlfn.NORM.DIST($A26,0,Berechnung!$B$8,TRUE),0))","v":0.63055865981823644},{"$f":"IF(AND($A26=0,Berechnung!$B$9=0),1,IF(Berechnung!$B$9<>0,_xlfn.NORM.DIST($A26,0,Berechnung!$B$9,FALSE),0))","v":3.6913191195030906E-2},{"$f":"IF(AND($A26>=0,Berechnung!$B$9=0),1,IF(Berechnung!$B$9<>0,_xlfn.NORM.DIST($A26,0,Berechnung!$B$9,TRUE),0))","v":0.61388485048172514},{"$f":"IF(AND($A26=0,Berechnung!$B$10=0),1,IF(Berechnung!$B$10<>0,_xlfn.NORM.DIST($A26,0,Berechnung!$B$10,FALSE),0))","v":3.3629054408670193E-2},{"$f":"IF(AND($A26>=0,Berechnung!$B$10=0),1,IF(Berechnung!$B$10<>0,_xlfn.NORM.DIST($A26,0,Berechnung!$B$10,TRUE),0))","v":0.60322209886061662},{"$f":"IF(AND($A26=0,Berechnung!$B$11=0),1,IF(Berechnung!$B$11<>0,_xlfn.NORM.DIST($A26,0,Berechnung!$B$11,FALSE),0))","v":0},{"$f":"IF(AND($A26>=0,Berechnung!$B$11=0),1,IF(Berechnung!$B$11<>0,_xlfn.NORM.DIST($A26,0,Berechnung!$B$11,TRUE),0))","v":1},{"$f":"Demonstrator!$J$19*'Daten Diagramm'!H26+Demonstrator!$J$24*'Daten Diagramm'!L26","v":3.8896939460562434E-2},{"$f":"Demonstrator!$J$19*'Daten Diagramm'!I26+Demonstrator!$J$24*'Daten Diagramm'!M26","v":0.62073018591734141}]
[4,{"$f":"IF(AND(A27=0,Berechnung!$B$3=0),1,IF(Berechnung!$B$3<>0,_xlfn.NORM.DIST(A27,0,Berechnung!$B$3,FALSE),0))","v":4.0158203320304835E-2},{"$f":"IF(AND($A27>=0,Berechnung!$B$3=0),1,IF(Berechnung!$B$3<>0,_xlfn.NORM.DIST($A27,0,Berechnung!$B$3,TRUE),0))","v":0.67163935671811481},{"$f":"IF(AND($A27=0,Berechnung!$B$4=0),1,IF(Berechnung!$B$4<>0,_xlfn.NORM.DIST($A27,0,Berechnung!$B$4,FALSE),0))","v":4.0158203320304835E-2},{"$f":"IF(AND($A27>=0,Berechnung!$B$4=0),1,IF(Berechnung!$B$4<>0,_xlfn.NORM.DIST($A27,0,Berechnung!$B$4,TRUE),0))","v":0.67163935671811481},{"$f":"IF(AND($A27=0,Berechnung!$B$5=0),1,IF(Berechnung!$B$5<>0,_xlfn.NORM.DIST($A27,0,Berechnung!$B$5,FALSE),0))","v":2.6327446218346592E-2},{"$f":"IF(AND($A27>=0,Berechnung!$B$5=0),1,IF(Berechnung!$B$5<>0,_xlfn.NORM.DIST($A27,0,Berechnung!$B$5,TRUE),0))","v":0.60798669314717846},{"$f":"IF(AND($A27=0,Berechnung!$B$6=0),1,IF(Berechnung!$B$6<>0,_xlfn.NORM.DIST($A27,0,Berechnung!$B$6,FALSE),0))","v":2.6322874672144909E-2},{"$f":"IF(AND($A27>=0,Berechnung!$B$6=0),1,IF(Berechnung!$B$6<>0,_xlfn.NORM.DIST($A27,0,Berechnung!$B$6,TRUE),0))","v":0.60796692209145187},{"$f":"IF(AND($A27=0,Berechnung!$B$7=0),1,IF(Berechnung!$B$7<>0,_xlfn.NORM.DIST($A27,0,Berechnung!$B$7,FALSE),0))","v":4.0158203320304835E-2},{"$f":"IF(AND($A27>=0,Berechnung!$B$7=0),1,IF(Berechnung!$B$7<>0,_xlfn.NORM.DIST($A27,0,Berechnung!$B$7,TRUE),0))","v":0.67163935671811481},{"$f":"IF(AND($A27=0,Berechnung!$B$8=0),1,IF(Berechnung!$B$8<>0,_xlfn.NORM.DIST($A27,0,Berechnung!$B$8,FALSE),0))","v":4.0158203320304835E-2},{"$f":"IF(AND($A27>=0,Berechnung!$B$8=0),1,IF(Berechnung!$B$8<>0,_xlfn.NORM.DIST($A27,0,Berechnung!$B$8,TRUE),0))","v":0.67163935671811481},{"$f":"IF(AND($A27=0,Berechnung!$B$9=0),1,IF(Berechnung!$B$9<>0,_xlfn.NORM.DIST($A27,0,Berechnung!$B$9,FALSE),0))","v":3.5729810627224648E-2},{"$f":"IF(AND($A27>=0,Berechnung!$B$9=0),1,IF(Berechnung!$B$9<>0,_xlfn.NORM.DIST($A27,0,Berechnung!$B$9,TRUE),0))","v":0.65023132656495308},{"$f":"IF(AND($A27=0,Berechnung!$B$10=0),1,IF(Berechnung!$B$10<>0,_xlfn.NORM.DIST($A27,0,Berechnung!$B$10,FALSE),0))","v":3.274523402631907E-2},{"$f":"IF(AND($A27>=0,Berechnung!$B$10=0),1,IF(Berechnung!$B$10<>0,_xlfn.NORM.DIST($A27,0,Berechnung!$B$10,TRUE),0))","v":0.63642833263901255},{"$f":"IF(AND($A27=0,Berechnung!$B$11=0),1,IF(Berechnung!$B$11<>0,_xlfn.NORM.DIST($A27,0,Berechnung!$B$11,FALSE),0))","v":0},{"$f":"IF(AND($A27>=0,Berechnung!$B$11=0),1,IF(Berechnung!$B$11<>0,_xlfn.NORM.DIST($A27,0,Berechnung!$B$11,TRUE),0))","v":1},{"$f":"Demonstrator!$J$19*'Daten Diagramm'!H27+Demonstrator!$J$24*'Daten Diagramm'!L27","v":3.7391137590672849E-2},{"$f":"Demonstrator!$J$19*'Daten Diagramm'!I27+Demonstrator!$J$24*'Daten Diagramm'!M27","v":0.65890486979278229}]
[5,{"$f":"IF(AND(A28=0,Berechnung!$B$3=0),1,IF(Berechnung!$B$3<>0,_xlfn.NORM.DIST(A28,0,Berechnung!$B$3,FALSE),0))","v":3.7988032685125468E-2},{"$f":"IF(AND($A28>=0,Berechnung!$B$3=0),1,IF(Berechnung!$B$3<>0,_xlfn.NORM.DIST($A28,0,Berechnung!$B$3,TRUE),0))","v":0.7107426392460281},{"$f":"IF(AND($A28=0,Berechnung!$B$4=0),1,IF(Berechnung!$B$4<>0,_xlfn.NORM.DIST($A28,0,Berechnung!$B$4,FALSE),0))","v":3.7988032685125468E-2},{"$f":"IF(AND($A28>=0,Berechnung!$B$4=0),1,IF(Berechnung!$B$4<>0,_xlfn.NORM.DIST($A28,0,Berechnung!$B$4,TRUE),0))","v":0.7107426392460281},{"$f":"IF(AND($A28=0,Berechnung!$B$5=0),1,IF(Berechnung!$B$5<>0,_xlfn.NORM.DIST($A28,0,Berechnung!$B$5,FALSE),0))","v":2.5777066903059757E-2},{"$f":"IF(AND($A28>=0,Berechnung!$B$5=0),1,IF(Berechnung!$B$5<>0,_xlfn.NORM.DIST($A28,0,Berechnung!$B$5,TRUE),0))","v":0.63404817526405866},{"$f":"IF(AND($A28=0,Berechnung!$B$6=0),1,IF(Berechnung!$B$6<>0,_xlfn.NORM.DIST($A28,0,Berechnung!$B$6,FALSE),0))","v":2.5772795353561962E-2},{"$f":"IF(AND($A28>=0,Berechnung!$B$6=0),1,IF(Berechnung!$B$6<>0,_xlfn.NORM.DIST($A28,0,Berechnung!$B$6,TRUE),0))","v":0.63402397799463506},{"$f":"IF(AND($A28=0,Berechnung!$B$7=0),1,IF(Berechnung!$B$7<>0,_xlfn.NORM.DIST($A28,0,Berechnung!$B$7,FALSE),0))","v":3.7988032685125468E-2},{"$f":"IF(AND($A28>=0,Berechnung!$B$7=0),1,IF(Berechnung!$B$7<>0,_xlfn.NORM.DIST($A28,0,Berechnung!$B$7,TRUE),0))","v":0.7107426392460281},{"$f":"IF(AND($A28=0,Berechnung!$B$8=0),1,IF(Berechnung!$B$8<>0,_xlfn.NORM.DIST($A28,0,Berechnung!$B$8,FALSE),0))","v":3.7988032685125468E-2},{"$f":"IF(AND($A28>=0,Berechnung!$B$8=0),1,IF(Berechnung!$B$8<>0,_xlfn.NORM.DIST($A28,0,Berechnung!$B$8,TRUE),0))","v":0.7107426392460281},{"$f":"IF(AND($A28=0,Berechnung!$B$9=0),1,IF(Berechnung!$B$9<>0,_xlfn.NORM.DIST($A28,0,Berechnung!$B$9,FALSE),0))","v":3.4263894855404008E-2},{"$f":"IF(AND($A28>=0,Berechnung!$B$9=0),1,IF(Berechnung!$B$9<>0,_xlfn.NORM.DIST($A28,0,Berechnung!$B$9,TRUE),0))","v":0.68525022023158488},{"$f":"IF(AND($A28=0,Berechnung!$B$10=0),1,IF(Berechnung!$B$10<>0,_xlfn.NORM.DIST($A28,0,Berechnung!$B$10,FALSE),0))","v":3.1642938761035654E-2},{"$f":"IF(AND($A28>=0,Berechnung!$B$10=0),1,IF(Berechnung!$B$10<>0,_xlfn.NORM.DIST($A28,0,Berechnung!$B$10,TRUE),0))","v":0.66863969390212563},{"$f":"IF(AND($A28=0,Berechnung!$B$11=0),1,IF(Berechnung!$B$11<>0,_xlfn.NORM.DIST($A28,0,Berechnung!$B$11,FALSE),0))","v":0},{"$f":"IF(AND($A28>=0,Berechnung!$B$11=0),1,IF(Berechnung!$B$11<>0,_xlfn.NORM.DIST($A28,0,Berechnung!$B$11,TRUE),0))","v":1},{"$f":"Demonstrator!$J$19*'Daten Diagramm'!H28+Demonstrator!$J$24*'Daten Diagramm'!L28","v":3.5544985218812768E-2},{"$f":"Demonstrator!$J$19*'Daten Diagramm'!I28+Demonstrator!$J$24*'Daten Diagramm'!M28","v":0.69539890699574947}]
[6,{"$f":"IF(AND(A29=0,Berechnung!$B$3=0),1,IF(Berechnung!$B$3<>0,_xlfn.NORM.DIST(A29,0,Berechnung!$B$3,FALSE),0))","v":3.5494222835816915E-2},{"$f":"IF(AND($A29>=0,Berechnung!$B$3=0),1,IF(Berechnung!$B$3<>0,_xlfn.NORM.DIST($A29,0,Berechnung!$B$3,TRUE),0))","v":0.74750746245307709},{"$f":"IF(AND($A29=0,Berechnung!$B$4=0),1,IF(Berechnung!$B$4<>0,_xlfn.NORM.DIST($A29,0,Berechnung!$B$4,FALSE),0))","v":3.5494222835816915E-2},{"$f":"IF(AND($A29>=0,Berechnung!$B$4=0),1,IF(Berechnung!$B$4<>0,_xlfn.NORM.DIST($A29,0,Berechnung!$B$4,TRUE),0))","v":0.74750746245307709},{"$f":"IF(AND($A29=0,Berechnung!$B$5=0),1,IF(Berechnung!$B$5<>0,_xlfn.NORM.DIST($A29,0,Berechnung!$B$5,FALSE),0))","v":2.5119981890225653E-2},{"$f":"IF(AND($A29>=0,Berechnung!$B$5=0),1,IF(Berechnung!$B$5<>0,_xlfn.NORM.DIST($A29,0,Berechnung!$B$5,TRUE),0))","v":0.65950524382138775},{"$f":"IF(AND($A29=0,Berechnung!$B$6=0),1,IF(Berechnung!$B$6<>0,_xlfn.NORM.DIST($A29,0,Berechnung!$B$6,FALSE),0))","v":2.5116062716370617E-2},{"$f":"IF(AND($A29>=0,Berechnung!$B$6=0),1,IF(Berechnung!$B$6<>0,_xlfn.NORM.DIST($A29,0,Berechnung!$B$6,TRUE),0))","v":0.65947694713805427},{"$f":"IF(AND($A29=0,Berechnung!$B$7=0),1,IF(Berechnung!$B$7<>0,_xlfn.NORM.DIST($A29,0,Berechnung!$B$7,FALSE),0))","v":3.5494222835816915E-2},{"$f":"IF(AND($A29>=0,Berechnung!$B$7=0),1,IF(Berechnung!$B$7<>0,_xlfn.NORM.DIST($A29,0,Berechnung!$B$7,TRUE),0))","v":0.74750746245307709},{"$f":"IF(AND($A29=0,Berechnung!$B$8=0),1,IF(Berechnung!$B$8<>0,_xlfn.NORM.DIST($A29,0,Berechnung!$B$8,FALSE),0))","v":3.5494222835816915E-2},{"$f":"IF(AND($A29>=0,Berechnung!$B$8=0),1,IF(Berechnung!$B$8<>0,_xlfn.NORM.DIST($A29,0,Berechnung!$B$8,TRUE),0))","v":0.74750746245307709},{"$f":"IF(AND($A29=0,Berechnung!$B$9=0),1,IF(Berechnung!$B$9<>0,_xlfn.NORM.DIST($A29,0,Berechnung!$B$9,FALSE),0))","v":3.2553645890923751E-2},{"$f":"IF(AND($A29>=0,Berechnung!$B$9=0),1,IF(Berechnung!$B$9<>0,_xlfn.NORM.DIST($A29,0,Berechnung!$B$9,TRUE),0))","v":0.71867761725831403},{"$f":"IF(AND($A29=0,Berechnung!$B$10=0),1,IF(Berechnung!$B$10<>0,_xlfn.NORM.DIST($A29,0,Berechnung!$B$10,FALSE),0))","v":3.0345953794414984E-2},{"$f":"IF(AND($A29>=0,Berechnung!$B$10=0),1,IF(Berechnung!$B$10<>0,_xlfn.NORM.DIST($A29,0,Berechnung!$B$10,TRUE),0))","v":0.6996492750712987},{"$f":"IF(AND($A29=0,Berechnung!$B$11=0),1,IF(Berechnung!$B$11<>0,_xlfn.NORM.DIST($A29,0,Berechnung!$B$11,FALSE),0))","v":0},{"$f":"IF(AND($A29>=0,Berechnung!$B$11=0),1,IF(Berechnung!$B$11<>0,_xlfn.NORM.DIST($A29,0,Berechnung!$B$11,TRUE),0))","v":1},{"$f":"Demonstrator!$J$19*'Daten Diagramm'!H29+Demonstrator!$J$24*'Daten Diagramm'!L29","v":3.3418590811927655E-2},{"$f":"Demonstrator!$J$19*'Daten Diagramm'!I29+Demonstrator!$J$24*'Daten Diagramm'!M29","v":0.7299013593900725}]
[7,{"$f":"IF(AND(A30=0,Berechnung!$B$3=0),1,IF(Berechnung!$B$3<>0,_xlfn.NORM.DIST(A30,0,Berechnung!$B$3,FALSE),0))","v":3.2757208103875238E-2},{"$f":"IF(AND($A30>=0,Berechnung!$B$3=0),1,IF(Berechnung!$B$3<>0,_xlfn.NORM.DIST($A30,0,Berechnung!$B$3,TRUE),0))","v":0.78164998463862112},{"$f":"IF(AND($A30=0,Berechnung!$B$4=0),1,IF(Berechnung!$B$4<>0,_xlfn.NORM.DIST($A30,0,Berechnung!$B$4,FALSE),0))","v":3.2757208103875238E-2},{"$f":"IF(AND($A30>=0,Berechnung!$B$4=0),1,IF(Berechnung!$B$4<>0,_xlfn.NORM.DIST($A30,0,Berechnung!$B$4,TRUE),0))","v":0.78164998463862112},{"$f":"IF(AND($A30=0,Berechnung!$B$5=0),1,IF(Berechnung!$B$5<>0,_xlfn.NORM.DIST($A30,0,Berechnung!$B$5,FALSE),0))","v":2.4364988120819824E-2},{"$f":"IF(AND($A30>=0,Berechnung!$B$5=0),1,IF(Berechnung!$B$5<>0,_xlfn.NORM.DIST($A30,0,Berechnung!$B$5,TRUE),0))","v":0.68425549040994149},{"$f":"IF(AND($A30=0,Berechnung!$B$6=0),1,IF(Berechnung!$B$6<>0,_xlfn.NORM.DIST($A30,0,Berechnung!$B$6,FALSE),0))","v":2.4361465853950038E-2},{"$f":"IF(AND($A30>=0,Berechnung!$B$6=0),1,IF(Berechnung!$B$6<>0,_xlfn.NORM.DIST($A30,0,Berechnung!$B$6,TRUE),0))","v":0.68422346964560632},{"$f":"IF(AND($A30=0,Berechnung!$B$7=0),1,IF(Berechnung!$B$7<>0,_xlfn.NORM.DIST($A30,0,Berechnung!$B$7,FALSE),0))","v":3.2757208103875238E-2},{"$f":"IF(AND($A30>=0,Berechnung!$B$7=0),1,IF(Berechnung!$B$7<>0,_xlfn.NORM.DIST($A30,0,Berechnung!$B$7,TRUE),0))","v":0.78164998463862112},{"$f":"IF(AND($A30=0,Berechnung!$B$8=0),1,IF(Berechnung!$B$8<>0,_xlfn.NORM.DIST($A30,0,Berechnung!$B$8,FALSE),0))","v":3.2757208103875238E-2},{"$f":"IF(AND($A30>=0,Berechnung!$B$8=0),1,IF(Berechnung!$B$8<>0,_xlfn.NORM.DIST($A30,0,Berechnung!$B$8,TRUE),0))","v":0.78164998463862112},{"$f":"IF(AND($A30=0,Berechnung!$B$9=0),1,IF(Berechnung!$B$9<>0,_xlfn.NORM.DIST($A30,0,Berechnung!$B$9,FALSE),0))","v":3.0642164058900814E-2},{"$f":"IF(AND($A30>=0,Berechnung!$B$9=0),1,IF(Berechnung!$B$9<>0,_xlfn.NORM.DIST($A30,0,Berechnung!$B$9,TRUE),0))","v":0.75029039988374757},{"$f":"IF(AND($A30=0,Berechnung!$B$10=0),1,IF(Berechnung!$B$10<>0,_xlfn.NORM.DIST($A30,0,Berechnung!$B$10,FALSE),0))","v":2.8881519810612342E-2},{"$f":"IF(AND($A30>=0,Berechnung!$B$10=0),1,IF(Berechnung!$B$10<>0,_xlfn.NORM.DIST($A30,0,Berechnung!$B$10,TRUE),0))","v":0.72927575723227112},{"$f":"IF(AND($A30=0,Berechnung!$B$11=0),1,IF(Berechnung!$B$11<>0,_xlfn.NORM.DIST($A30,0,Berechnung!$B$11,FALSE),0))","v":0},{"$f":"IF(AND($A30>=0,Berechnung!$B$11=0),1,IF(Berechnung!$B$11<>0,_xlfn.NORM.DIST($A30,0,Berechnung!$B$11,TRUE),0))","v":1},{"$f":"Demonstrator!$J$19*'Daten Diagramm'!H30+Demonstrator!$J$24*'Daten Diagramm'!L30","v":3.1078059653890197E-2},{"$f":"Demonstrator!$J$19*'Daten Diagramm'!I30+Demonstrator!$J$24*'Daten Diagramm'!M30","v":0.76216468164001816}]
[8,{"$f":"IF(AND(A31=0,Berechnung!$B$3=0),1,IF(Berechnung!$B$3<>0,_xlfn.NORM.DIST(A31,0,Berechnung!$B$3,FALSE),0))","v":2.9860317949035996E-2},{"$f":"IF(AND($A31>=0,Berechnung!$B$3=0),1,IF(Berechnung!$B$3<>0,_xlfn.NORM.DIST($A31,0,Berechnung!$B$3,TRUE),0))","v":0.81296860125455872},{"$f":"IF(AND($A31=0,Berechnung!$B$4=0),1,IF(Berechnung!$B$4<>0,_xlfn.NORM.DIST($A31,0,Berechnung!$B$4,FALSE),0))","v":2.9860317949035996E-2},{"$f":"IF(AND($A31>=0,Berechnung!$B$4=0),1,IF(Berechnung!$B$4<>0,_xlfn.NORM.DIST($A31,0,Berechnung!$B$4,TRUE),0))","v":0.81296860125455872},{"$f":"IF(AND($A31=0,Berechnung!$B$5=0),1,IF(Berechnung!$B$5<>0,_xlfn.NORM.DIST($A31,0,Berechnung!$B$5,FALSE),0))","v":2.3521994536072184E-2},{"$f":"IF(AND($A31>=0,Berechnung!$B$5=0),1,IF(Berechnung!$B$5<>0,_xlfn.NORM.DIST($A31,0,Berechnung!$B$5,TRUE),0))","v":0.70820587681765101},{"$f":"IF(AND($A31=0,Berechnung!$B$6=0),1,IF(Berechnung!$B$6<>0,_xlfn.NORM.DIST($A31,0,Berechnung!$B$6,FALSE),0))","v":2.3518905050658255E-2},{"$f":"IF(AND($A31>=0,Berechnung!$B$6=0),1,IF(Berechnung!$B$6<>0,_xlfn.NORM.DIST($A31,0,Berechnung!$B$6,TRUE),0))","v":0.70817054756481224},{"$f":"IF(AND($A31=0,Berechnung!$B$7=0),1,IF(Berechnung!$B$7<>0,_xlfn.NORM.DIST($A31,0,Berechnung!$B$7,FALSE),0))","v":2.9860317949035996E-2},{"$f":"IF(AND($A31>=0,Berechnung!$B$7=0),1,IF(Berechnung!$B$7<>0,_xlfn.NORM.DIST($A31,0,Berechnung!$B$7,TRUE),0))","v":0.81296860125455872},{"$f":"IF(AND($A31=0,Berechnung!$B$8=0),1,IF(Berechnung!$B$8<>0,_xlfn.NORM.DIST($A31,0,Berechnung!$B$8,FALSE),0))","v":2.9860317949035996E-2},{"$f":"IF(AND($A31>=0,Berechnung!$B$8=0),1,IF(Berechnung!$B$8<>0,_xlfn.NORM.DIST($A31,0,Berechnung!$B$8,TRUE),0))","v":0.81296860125455872},{"$f":"IF(AND($A31=0,Berechnung!$B$9=0),1,IF(Berechnung!$B$9<>0,_xlfn.NORM.DIST($A31,0,Berechnung!$B$9,FALSE),0))","v":2.8575650397398358E-2},{"$f":"IF(AND($A31>=0,Berechnung!$B$9=0),1,IF(Berechnung!$B$9<>0,_xlfn.NORM.DIST($A31,0,Berechnung!$B$9,TRUE),0))","v":0.77991025416673965},{"$f":"IF(AND($A31=0,Berechnung!$B$10=0),1,IF(Berechnung!$B$10<>0,_xlfn.NORM.DIST($A31,0,Berechnung!$B$10,FALSE),0))","v":2.72793842526198E-2},{"$f":"IF(AND($A31>=0,Berechnung!$B$10=0),1,IF(Berechnung!$B$10<>0,_xlfn.NORM.DIST($A31,0,Berechnung!$B$10,TRUE),0))","v":0.75736639741169787},{"$f":"IF(AND($A31=0,Berechnung!$B$11=0),1,IF(Berechnung!$B$11<>0,_xlfn.NORM.DIST($A31,0,Berechnung!$B$11,FALSE),0))","v":0},{"$f":"IF(AND($A31>=0,Berechnung!$B$11=0),1,IF(Berechnung!$B$11<>0,_xlfn.NORM.DIST($A31,0,Berechnung!$B$11,TRUE),0))","v":1},{"$f":"Demonstrator!$J$19*'Daten Diagramm'!H31+Demonstrator!$J$24*'Daten Diagramm'!L31","v":2.8592035369360447E-2},{"$f":"Demonstrator!$J$19*'Daten Diagramm'!I31+Demonstrator!$J$24*'Daten Diagramm'!M31","v":0.79200899051660945}]
[9,{"$f":"IF(AND(A32=0,Berechnung!$B$3=0),1,IF(Berechnung!$B$3<>0,_xlfn.NORM.DIST(A32,0,Berechnung!$B$3,FALSE),0))","v":2.6885636057682596E-2},{"$f":"IF(AND($A32>=0,Berechnung!$B$3=0),1,IF(Berechnung!$B$3<>0,_xlfn.NORM.DIST($A32,0,Berechnung!$B$3,TRUE),0))","v":0.84134474606854304},{"$f":"IF(AND($A32=0,Berechnung!$B$4=0),1,IF(Berechnung!$B$4<>0,_xlfn.NORM.DIST($A32,0,Berechnung!$B$4,FALSE),0))","v":2.6885636057682596E-2},{"$f":"IF(AND($A32>=0,Berechnung!$B$4=0),1,IF(Berechnung!$B$4<>0,_xlfn.NORM.DIST($A32,0,Berechnung!$B$4,TRUE),0))","v":0.84134474606854304},{"$f":"IF(AND($A32=0,Berechnung!$B$5=0),1,IF(Berechnung!$B$5<>0,_xlfn.NORM.DIST($A32,0,Berechnung!$B$5,FALSE),0))","v":2.260180607373655E-2},{"$f":"IF(AND($A32>=0,Berechnung!$B$5=0),1,IF(Berechnung!$B$5<>0,_xlfn.NORM.DIST($A32,0,Berechnung!$B$5,TRUE),0))","v":0.73127374044318594},{"$f":"IF(AND($A32=0,Berechnung!$B$6=0),1,IF(Berechnung!$B$6<>0,_xlfn.NORM.DIST($A32,0,Berechnung!$B$6,FALSE),0))","v":2.2599176041486351E-2},{"$f":"IF(AND($A32>=0,Berechnung!$B$6=0),1,IF(Berechnung!$B$6<>0,_xlfn.NORM.DIST($A32,0,Berechnung!$B$6,TRUE),0))","v":0.73123554960162873},{"$f":"IF(AND($A32=0,Berechnung!$B$7=0),1,IF(Berechnung!$B$7<>0,_xlfn.NORM.DIST($A32,0,Berechnung!$B$7,FALSE),0))","v":2.6885636057682596E-2},{"$f":"IF(AND($A32>=0,Berechnung!$B$7=0),1,IF(Berechnung!$B$7<>0,_xlfn.NORM.DIST($A32,0,Berechnung!$B$7,TRUE),0))","v":0.84134474606854304},{"$f":"IF(AND($A32=0,Berechnung!$B$8=0),1,IF(Berechnung!$B$8<>0,_xlfn.NORM.DIST($A32,0,Berechnung!$B$8,FALSE),0))","v":2.6885636057682596E-2},{"$f":"IF(AND($A32>=0,Berechnung!$B$8=0),1,IF(Berechnung!$B$8<>0,_xlfn.NORM.DIST($A32,0,Berechnung!$B$8,TRUE),0))","v":0.84134474606854304},{"$f":"IF(AND($A32=0,Berechnung!$B$9=0),1,IF(Berechnung!$B$9<>0,_xlfn.NORM.DIST($A32,0,Berechnung!$B$9,FALSE),0))","v":2.6401567145943564E-2},{"$f":"IF(AND($A32>=0,Berechnung!$B$9=0),1,IF(Berechnung!$B$9<>0,_xlfn.NORM.DIST($A32,0,Berechnung!$B$9,TRUE),0))","v":0.80740585011798927},{"$f":"IF(AND($A32=0,Berechnung!$B$10=0),1,IF(Berechnung!$B$10<>0,_xlfn.NORM.DIST($A32,0,Berechnung!$B$10,FALSE),0))","v":2.5570802199657724E-2},{"$f":"IF(AND($A32>=0,Berechnung!$B$10=0),1,IF(Berechnung!$B$10<>0,_xlfn.NORM.DIST($A32,0,Berechnung!$B$10,TRUE),0))","v":0.78379903801930995},{"$f":"IF(AND($A32=0,Berechnung!$B$11=0),1,IF(Berechnung!$B$11<>0,_xlfn.NORM.DIST($A32,0,Berechnung!$B$11,FALSE),0))","v":0},{"$f":"IF(AND($A32>=0,Berechnung!$B$11=0),1,IF(Berechnung!$B$11<>0,_xlfn.NORM.DIST($A32,0,Berechnung!$B$11,TRUE),0))","v":1},{"$f":"Demonstrator!$J$19*'Daten Diagramm'!H32+Demonstrator!$J$24*'Daten Diagramm'!L32","v":2.6028344054443348E-2},{"$f":"Demonstrator!$J$19*'Daten Diagramm'!I32+Demonstrator!$J$24*'Daten Diagramm'!M32","v":0.81932290677516018}]
[10,{"$f":"IF(AND(A33=0,Berechnung!$B$3=0),1,IF(Berechnung!$B$3<>0,_xlfn.NORM.DIST(A33,0,Berechnung!$B$3,FALSE),0))","v":2.3910273444781228E-2},{"$f":"IF(AND($A33>=0,Berechnung!$B$3=0),1,IF(Berechnung!$B$3<>0,_xlfn.NORM.DIST($A33,0,Berechnung!$B$3,TRUE),0))","v":0.86673973709749452},{"$f":"IF(AND($A33=0,Berechnung!$B$4=0),1,IF(Berechnung!$B$4<>0,_xlfn.NORM.DIST($A33,0,Berechnung!$B$4,FALSE),0))","v":2.3910273444781228E-2},{"$f":"IF(AND($A33>=0,Berechnung!$B$4=0),1,IF(Berechnung!$B$4<>0,_xlfn.NORM.DIST($A33,0,Berechnung!$B$4,TRUE),0))","v":0.86673973709749452},{"$f":"IF(AND($A33=0,Berechnung!$B$5=0),1,IF(Berechnung!$B$5<>0,_xlfn.NORM.DIST($A33,0,Berechnung!$B$5,FALSE),0))","v":2.161589403143719E-2},{"$f":"IF(AND($A33>=0,Berechnung!$B$5=0),1,IF(Berechnung!$B$5<>0,_xlfn.NORM.DIST($A33,0,Berechnung!$B$5,TRUE),0))","v":0.75338757632859499},{"$f":"IF(AND($A33=0,Berechnung!$B$6=0),1,IF(Berechnung!$B$6<>0,_xlfn.NORM.DIST($A33,0,Berechnung!$B$6,FALSE),0))","v":2.1613740647848902E-2},{"$f":"IF(AND($A33>=0,Berechnung!$B$6=0),1,IF(Berechnung!$B$6<>0,_xlfn.NORM.DIST($A33,0,Berechnung!$B$6,TRUE),0))","v":0.75334699274309858},{"$f":"IF(AND($A33=0,Berechnung!$B$7=0),1,IF(Berechnung!$B$7<>0,_xlfn.NORM.DIST($A33,0,Berechnung!$B$7,FALSE),0))","v":2.3910273444781228E-2},{"$f":"IF(AND($A33>=0,Berechnung!$B$7=0),1,IF(Berechnung!$B$7<>0,_xlfn.NORM.DIST($A33,0,Berechnung!$B$7,TRUE),0))","v":0.86673973709749452},{"$f":"IF(AND($A33=0,Berechnung!$B$8=0),1,IF(Berechnung!$B$8<>0,_xlfn.NORM.DIST($A33,0,Berechnung!$B$8,FALSE),0))","v":2.3910273444781228E-2},{"$f":"IF(AND($A33>=0,Berechnung!$B$8=0),1,IF(Berechnung!$B$8<>0,_xlfn.NORM.DIST($A33,0,Berechnung!$B$8,TRUE),0))","v":0.86673973709749452},{"$f":"IF(AND($A33=0,Berechnung!$B$9=0),1,IF(Berechnung!$B$9<>0,_xlfn.NORM.DIST($A33,0,Berechnung!$B$9,FALSE),0))","v":2.4166857492752915E-2},{"$f":"IF(AND($A33>=0,Berechnung!$B$9=0),1,IF(Berechnung!$B$9<>0,_xlfn.NORM.DIST($A33,0,Berechnung!$B$9,TRUE),0))","v":0.83269320383756729},{"$f":"IF(AND($A33=0,Berechnung!$B$10=0),1,IF(Berechnung!$B$10<>0,_xlfn.NORM.DIST($A33,0,Berechnung!$B$10,FALSE),0))","v":2.3787533434116027E-2},{"$f":"IF(AND($A33>=0,Berechnung!$B$10=0),1,IF(Berechnung!$B$10<>0,_xlfn.NORM.DIST($A33,0,Berechnung!$B$10,TRUE),0))","v":0.80848311143299711},{"$f":"IF(AND($A33=0,Berechnung!$B$11=0),1,IF(Berechnung!$B$11<>0,_xlfn.NORM.DIST($A33,0,Berechnung!$B$11,FALSE),0))","v":0},{"$f":"IF(AND($A33>=0,Berechnung!$B$11=0),1,IF(Berechnung!$B$11<>0,_xlfn.NORM.DIST($A33,0,Berechnung!$B$11,TRUE),0))","v":1},{"$f":"Demonstrator!$J$19*'Daten Diagramm'!H33+Demonstrator!$J$24*'Daten Diagramm'!L33","v":2.3450966885394765E-2},{"$f":"Demonstrator!$J$19*'Daten Diagramm'!I33+Demonstrator!$J$24*'Daten Diagramm'!M33","v":0.84406118822661536}]
[11,{"$f":"IF(AND(A34=0,Berechnung!$B$3=0),1,IF(Berechnung!$B$3<>0,_xlfn.NORM.DIST(A34,0,Berechnung!$B$3,FALSE),0))","v":2.1003279415923583E-2},{"$f":"IF(AND($A34>=0,Berechnung!$B$3=0),1,IF(Berechnung!$B$3<>0,_xlfn.NORM.DIST($A34,0,Berechnung!$B$3,TRUE),0))","v":0.8891881987703032},{"$f":"IF(AND($A34=0,Berechnung!$B$4=0),1,IF(Berechnung!$B$4<>0,_xlfn.NORM.DIST($A34,0,Berechnung!$B$4,FALSE),0))","v":2.1003279415923583E-2},{"$f":"IF(AND($A34>=0,Berechnung!$B$4=0),1,IF(Berechnung!$B$4<>0,_xlfn.NORM.DIST($A34,0,Berechnung!$B$4,TRUE),0))","v":0.8891881987703032},{"$f":"IF(AND($A34=0,Berechnung!$B$5=0),1,IF(Berechnung!$B$5<>0,_xlfn.NORM.DIST($A34,0,Berechnung!$B$5,FALSE),0))","v":2.0576159591821738E-2},{"$f":"IF(AND($A34>=0,Berechnung!$B$5=0),1,IF(Berechnung!$B$5<>0,_xlfn.NORM.DIST($A34,0,Berechnung!$B$5,TRUE),0))","v":0.77448758556736119},{"$f":"IF(AND($A34=0,Berechnung!$B$6=0),1,IF(Berechnung!$B$6<>0,_xlfn.NORM.DIST($A34,0,Berechnung!$B$6,FALSE),0))","v":2.0574490573932912E-2},{"$f":"IF(AND($A34>=0,Berechnung!$B$6=0),1,IF(Berechnung!$B$6<>0,_xlfn.NORM.DIST($A34,0,Berechnung!$B$6,TRUE),0))","v":0.77444509052808175},{"$f":"IF(AND($A34=0,Berechnung!$B$7=0),1,IF(Berechnung!$B$7<>0,_xlfn.NORM.DIST($A34,0,Berechnung!$B$7,FALSE),0))","v":2.1003279415923583E-2},{"$f":"IF(AND($A34>=0,Berechnung!$B$7=0),1,IF(Berechnung!$B$7<>0,_xlfn.NORM.DIST($A34,0,Berechnung!$B$7,TRUE),0))","v":0.8891881987703032},{"$f":"IF(AND($A34=0,Berechnung!$B$8=0),1,IF(Berechnung!$B$8<>0,_xlfn.NORM.DIST($A34,0,Berechnung!$B$8,FALSE),0))","v":2.1003279415923583E-2},{"$f":"IF(AND($A34>=0,Berechnung!$B$8=0),1,IF(Berechnung!$B$8<>0,_xlfn.NORM.DIST($A34,0,Berechnung!$B$8,TRUE),0))","v":0.8891881987703032},{"$f":"IF(AND($A34=0,Berechnung!$B$9=0),1,IF(Berechnung!$B$9<>0,_xlfn.NORM.DIST($A34,0,Berechnung!$B$9,FALSE),0))","v":2.1916315704695637E-2},{"$f":"IF(AND($A34>=0,Berechnung!$B$9=0),1,IF(Berechnung!$B$9<>0,_xlfn.NORM.DIST($A34,0,Berechnung!$B$9,TRUE),0))","v":0.8557343275806335},{"$f":"IF(AND($A34=0,Berechnung!$B$10=0),1,IF(Berechnung!$B$10<>0,_xlfn.NORM.DIST($A34,0,Berechnung!$B$10,FALSE),0))","v":2.1960880057105003E-2},{"$f":"IF(AND($A34>=0,Berechnung!$B$10=0),1,IF(Berechnung!$B$10<>0,_xlfn.NORM.DIST($A34,0,Berechnung!$B$10,TRUE),0))","v":0.83135965838892589},{"$f":"IF(AND($A34=0,Berechnung!$B$11=0),1,IF(Berechnung!$B$11<>0,_xlfn.NORM.DIST($A34,0,Berechnung!$B$11,FALSE),0))","v":0},{"$f":"IF(AND($A34>=0,Berechnung!$B$11=0),1,IF(Berechnung!$B$11<>0,_xlfn.NORM.DIST($A34,0,Berechnung!$B$11,TRUE),0))","v":1},{"$f":"Demonstrator!$J$19*'Daten Diagramm'!H34+Demonstrator!$J$24*'Daten Diagramm'!L34","v":2.0917521647525448E-2},{"$f":"Demonstrator!$J$19*'Daten Diagramm'!I34+Demonstrator!$J$24*'Daten Diagramm'!M34","v":0.86623957712185884}]
[12,{"$f":"IF(AND(A35=0,Berechnung!$B$3=0),1,IF(Berechnung!$B$3<>0,_xlfn.NORM.DIST(A35,0,Berechnung!$B$3,FALSE),0))","v":1.8223341630665961E-2},{"$f":"IF(AND($A35>=0,Berechnung!$B$3=0),1,IF(Berechnung!$B$3<>0,_xlfn.NORM.DIST($A35,0,Berechnung!$B$3,TRUE),0))","v":0.90878878027413212},{"$f":"IF(AND($A35=0,Berechnung!$B$4=0),1,IF(Berechnung!$B$4<>0,_xlfn.NORM.DIST($A35,0,Berechnung!$B$4,FALSE),0))","v":1.8223341630665961E-2},{"$f":"IF(AND($A35>=0,Berechnung!$B$4=0),1,IF(Berechnung!$B$4<>0,_xlfn.NORM.DIST($A35,0,Berechnung!$B$4,TRUE),0))","v":0.90878878027413212},{"$f":"IF(AND($A35=0,Berechnung!$B$5=0),1,IF(Berechnung!$B$5<>0,_xlfn.NORM.DIST($A35,0,Berechnung!$B$5,FALSE),0))","v":1.9494697273738162E-2},{"$f":"IF(AND($A35>=0,Berechnung!$B$5=0),1,IF(Berechnung!$B$5<>0,_xlfn.NORM.DIST($A35,0,Berechnung!$B$5,TRUE),0))","v":0.79452598664483876},{"$f":"IF(AND($A35=0,Berechnung!$B$6=0),1,IF(Berechnung!$B$6<>0,_xlfn.NORM.DIST($A35,0,Berechnung!$B$6,FALSE),0))","v":1.9493511117946064E-2},{"$f":"IF(AND($A35>=0,Berechnung!$B$6=0),1,IF(Berechnung!$B$6<>0,_xlfn.NORM.DIST($A35,0,Berechnung!$B$6,TRUE),0))","v":0.79448206451679593},{"$f":"IF(AND($A35=0,Berechnung!$B$7=0),1,IF(Berechnung!$B$7<>0,_xlfn.NORM.DIST($A35,0,Berechnung!$B$7,FALSE),0))","v":1.8223341630665961E-2},{"$f":"IF(AND($A35>=0,Berechnung!$B$7=0),1,IF(Berechnung!$B$7<>0,_xlfn.NORM.DIST($A35,0,Berechnung!$B$7,TRUE),0))","v":0.90878878027413212},{"$f":"IF(AND($A35=0,Berechnung!$B$8=0),1,IF(Berechnung!$B$8<>0,_xlfn.NORM.DIST($A35,0,Berechnung!$B$8,FALSE),0))","v":1.8223341630665961E-2},{"$f":"IF(AND($A35>=0,Berechnung!$B$8=0),1,IF(Berechnung!$B$8<>0,_xlfn.NORM.DIST($A35,0,Berechnung!$B$8,TRUE),0))","v":0.90878878027413212},{"$f":"IF(AND($A35=0,Berechnung!$B$9=0),1,IF(Berechnung!$B$9<>0,_xlfn.NORM.DIST($A35,0,Berechnung!$B$9,FALSE),0))","v":1.9691182921169243E-2},{"$f":"IF(AND($A35>=0,Berechnung!$B$9=0),1,IF(Berechnung!$B$9<>0,_xlfn.NORM.DIST($A35,0,Berechnung!$B$9,TRUE),0))","v":0.87653435729474527},{"$f":"IF(AND($A35=0,Berechnung!$B$10=0),1,IF(Berechnung!$B$10<>0,_xlfn.NORM.DIST($A35,0,Berechnung!$B$10,FALSE),0))","v":2.0120804327182502E-2},{"$f":"IF(AND($A35>=0,Berechnung!$B$10=0),1,IF(Berechnung!$B$10<>0,_xlfn.NORM.DIST($A35,0,Berechnung!$B$10,TRUE),0))","v":0.85240042104520719},{"$f":"IF(AND($A35=0,Berechnung!$B$11=0),1,IF(Berechnung!$B$11<>0,_xlfn.NORM.DIST($A35,0,Berechnung!$B$11,FALSE),0))","v":0},{"$f":"IF(AND($A35>=0,Berechnung!$B$11=0),1,IF(Berechnung!$B$11<>0,_xlfn.NORM.DIST($A35,0,Berechnung!$B$11,TRUE),0))","v":1},{"$f":"Demonstrator!$J$19*'Daten Diagramm'!H35+Demonstrator!$J$24*'Daten Diagramm'!L35","v":1.8477375528121981E-2},{"$f":"Demonstrator!$J$19*'Daten Diagramm'!I35+Demonstrator!$J$24*'Daten Diagramm'!M35","v":0.88592743712266486}]
[13,{"$f":"IF(AND(A36=0,Berechnung!$B$3=0),1,IF(Berechnung!$B$3<>0,_xlfn.NORM.DIST(A36,0,Berechnung!$B$3,FALSE),0))","v":1.5617347129043833E-2},{"$f":"IF(AND($A36>=0,Berechnung!$B$3=0),1,IF(Berechnung!$B$3<>0,_xlfn.NORM.DIST($A36,0,Berechnung!$B$3,TRUE),0))","v":0.92569300177239411},{"$f":"IF(AND($A36=0,Berechnung!$B$4=0),1,IF(Berechnung!$B$4<>0,_xlfn.NORM.DIST($A36,0,Berechnung!$B$4,FALSE),0))","v":1.5617347129043833E-2},{"$f":"IF(AND($A36>=0,Berechnung!$B$4=0),1,IF(Berechnung!$B$4<>0,_xlfn.NORM.DIST($A36,0,Berechnung!$B$4,TRUE),0))","v":0.92569300177239411},{"$f":"IF(AND($A36=0,Berechnung!$B$5=0),1,IF(Berechnung!$B$5<>0,_xlfn.NORM.DIST($A36,0,Berechnung!$B$5,FALSE),0))","v":1.8383564796911611E-2},{"$f":"IF(AND($A36>=0,Berechnung!$B$5=0),1,IF(Berechnung!$B$5<>0,_xlfn.NORM.DIST($A36,0,Berechnung!$B$5,TRUE),0))","v":0.81346709291366293},{"$f":"IF(AND($A36=0,Berechnung!$B$6=0),1,IF(Berechnung!$B$6<>0,_xlfn.NORM.DIST($A36,0,Berechnung!$B$6,FALSE),0))","v":1.8382851276728052E-2},{"$f":"IF(AND($A36>=0,Berechnung!$B$6=0),1,IF(Berechnung!$B$6<>0,_xlfn.NORM.DIST($A36,0,Berechnung!$B$6,TRUE),0))","v":0.81342222214603788},{"$f":"IF(AND($A36=0,Berechnung!$B$7=0),1,IF(Berechnung!$B$7<>0,_xlfn.NORM.DIST($A36,0,Berechnung!$B$7,FALSE),0))","v":1.5617347129043833E-2},{"$f":"IF(AND($A36>=0,Berechnung!$B$7=0),1,IF(Berechnung!$B$7<>0,_xlfn.NORM.DIST($A36,0,Berechnung!$B$7,TRUE),0))","v":0.92569300177239411},{"$f":"IF(AND($A36=0,Berechnung!$B$8=0),1,IF(Berechnung!$B$8<>0,_xlfn.NORM.DIST($A36,0,Berechnung!$B$8,FALSE),0))","v":1.5617347129043833E-2},{"$f":"IF(AND($A36>=0,Berechnung!$B$8=0),1,IF(Berechnung!$B$8<>0,_xlfn.NORM.DIST($A36,0,Berechnung!$B$8,TRUE),0))","v":0.92569300177239411},{"$f":"IF(AND($A36=0,Berechnung!$B$9=0),1,IF(Berechnung!$B$9<>0,_xlfn.NORM.DIST($A36,0,Berechnung!$B$9,FALSE),0))","v":1.7528023926866247E-2},{"$f":"IF(AND($A36>=0,Berechnung!$B$9=0),1,IF(Berechnung!$B$9<>0,_xlfn.NORM.DIST($A36,0,Berechnung!$B$9,TRUE),0))","v":0.89513741273627567},{"$f":"IF(AND($A36=0,Berechnung!$B$10=0),1,IF(Berechnung!$B$10<>0,_xlfn.NORM.DIST($A36,0,Berechnung!$B$10,FALSE),0))","v":1.8295159690168979E-2},{"$f":"IF(AND($A36>=0,Berechnung!$B$10=0),1,IF(Berechnung!$B$10<>0,_xlfn.NORM.DIST($A36,0,Berechnung!$B$10,TRUE),0))","v":0.8716061080549744},{"$f":"IF(AND($A36=0,Berechnung!$B$11=0),1,IF(Berechnung!$B$11<>0,_xlfn.NORM.DIST($A36,0,Berechnung!$B$11,FALSE),0))","v":0},{"$f":"IF(AND($A36>=0,Berechnung!$B$11=0),1,IF(Berechnung!$B$11<>0,_xlfn.NORM.DIST($A36,0,Berechnung!$B$11,TRUE),0))","v":1},{"$f":"Demonstrator!$J$19*'Daten Diagramm'!H36+Demonstrator!$J$24*'Daten Diagramm'!L36","v":1.6170447958580678E-2},{"$f":"Demonstrator!$J$19*'Daten Diagramm'!I36+Demonstrator!$J$24*'Daten Diagramm'!M36","v":0.90323884584712277}]
[14,{"$f":"IF(AND(A37=0,Berechnung!$B$3=0),1,IF(Berechnung!$B$3<>0,_xlfn.NORM.DIST(A37,0,Berechnung!$B$3,FALSE),0))","v":1.3219798936008503E-2},{"$f":"IF(AND($A37>=0,Berechnung!$B$3=0),1,IF(Berechnung!$B$3<>0,_xlfn.NORM.DIST($A37,0,Berechnung!$B$3,TRUE),0))","v":0.9400930928972282},{"$f":"IF(AND($A37=0,Berechnung!$B$4=0),1,IF(Berechnung!$B$4<>0,_xlfn.NORM.DIST($A37,0,Berechnung!$B$4,FALSE),0))","v":1.3219798936008503E-2},{"$f":"IF(AND($A37>=0,Berechnung!$B$4=0),1,IF(Berechnung!$B$4<>0,_xlfn.NORM.DIST($A37,0,Berechnung!$B$4,TRUE),0))","v":0.9400930928972282},{"$f":"IF(AND($A37=0,Berechnung!$B$5=0),1,IF(Berechnung!$B$5<>0,_xlfn.NORM.DIST($A37,0,Berechnung!$B$5,FALSE),0))","v":1.725456534614354E-2},{"$f":"IF(AND($A37>=0,Berechnung!$B$5=0),1,IF(Berechnung!$B$5<>0,_xlfn.NORM.DIST($A37,0,Berechnung!$B$5,TRUE),0))","v":0.83128716566104544},{"$f":"IF(AND($A37=0,Berechnung!$B$6=0),1,IF(Berechnung!$B$6<>0,_xlfn.NORM.DIST($A37,0,Berechnung!$B$6,FALSE),0))","v":1.7254306221972885E-2},{"$f":"IF(AND($A37>=0,Berechnung!$B$6=0),1,IF(Berechnung!$B$6<>0,_xlfn.NORM.DIST($A37,0,Berechnung!$B$6,TRUE),0))","v":0.83124181040285605},{"$f":"IF(AND($A37=0,Berechnung!$B$7=0),1,IF(Berechnung!$B$7<>0,_xlfn.NORM.DIST($A37,0,Berechnung!$B$7,FALSE),0))","v":1.3219798936008503E-2},{"$f":"IF(AND($A37>=0,Berechnung!$B$7=0),1,IF(Berechnung!$B$7<>0,_xlfn.NORM.DIST($A37,0,Berechnung!$B$7,TRUE),0))","v":0.9400930928972282},{"$f":"IF(AND($A37=0,Berechnung!$B$8=0),1,IF(Berechnung!$B$8<>0,_xlfn.NORM.DIST($A37,0,Berechnung!$B$8,FALSE),0))","v":1.3219798936008503E-2},{"$f":"IF(AND($A37>=0,Berechnung!$B$8=0),1,IF(Berechnung!$B$8<>0,_xlfn.NORM.DIST($A37,0,Berechnung!$B$8,TRUE),0))","v":0.9400930928972282},{"$f":"IF(AND($A37=0,Berechnung!$B$9=0),1,IF(Berechnung!$B$9<>0,_xlfn.NORM.DIST($A37,0,Berechnung!$B$9,FALSE),0))","v":1.5457918039870108E-2},{"$f":"IF(AND($A37>=0,Berechnung!$B$9=0),1,IF(Berechnung!$B$9<>0,_xlfn.NORM.DIST($A37,0,Berechnung!$B$9,TRUE),0))","v":0.91162148960149736},{"$f":"IF(AND($A37=0,Berechnung!$B$10=0),1,IF(Berechnung!$B$10<>0,_xlfn.NORM.DIST($A37,0,Berechnung!$B$10,FALSE),0))","v":1.6509059810976272E-2},{"$f":"IF(AND($A37>=0,Berechnung!$B$10=0),1,IF(Berechnung!$B$10<>0,_xlfn.NORM.DIST($A37,0,Berechnung!$B$10,TRUE),0))","v":0.88900395796903475},{"$f":"IF(AND($A37=0,Berechnung!$B$11=0),1,IF(Berechnung!$B$11<>0,_xlfn.NORM.DIST($A37,0,Berechnung!$B$11,FALSE),0))","v":0},{"$f":"IF(AND($A37>=0,Berechnung!$B$11=0),1,IF(Berechnung!$B$11<>0,_xlfn.NORM.DIST($A37,0,Berechnung!$B$11,TRUE),0))","v":1},{"$f":"Demonstrator!$J$19*'Daten Diagramm'!H37+Demonstrator!$J$24*'Daten Diagramm'!L37","v":1.4026700393201381E-2},{"$f":"Demonstrator!$J$19*'Daten Diagramm'!I37+Demonstrator!$J$24*'Daten Diagramm'!M37","v":0.91832283639835377}]
[15,{"$f":"IF(AND(A38=0,Berechnung!$B$3=0),1,IF(Berechnung!$B$3<>0,_xlfn.NORM.DIST(A38,0,Berechnung!$B$3,FALSE),0))","v":1.1053015421416519E-2},{"$f":"IF(AND($A38>=0,Berechnung!$B$3=0),1,IF(Berechnung!$B$3<>0,_xlfn.NORM.DIST($A38,0,Berechnung!$B$3,TRUE),0))","v":0.9522096477271853},{"$f":"IF(AND($A38=0,Berechnung!$B$4=0),1,IF(Berechnung!$B$4<>0,_xlfn.NORM.DIST($A38,0,Berechnung!$B$4,FALSE),0))","v":1.1053015421416519E-2},{"$f":"IF(AND($A38>=0,Berechnung!$B$4=0),1,IF(Berechnung!$B$4<>0,_xlfn.NORM.DIST($A38,0,Berechnung!$B$4,TRUE),0))","v":0.9522096477271853},{"$f":"IF(AND($A38=0,Berechnung!$B$5=0),1,IF(Berechnung!$B$5<>0,_xlfn.NORM.DIST($A38,0,Berechnung!$B$5,FALSE),0))","v":1.6119047525707662E-2},{"$f":"IF(AND($A38>=0,Berechnung!$B$5=0),1,IF(Berechnung!$B$5<>0,_xlfn.NORM.DIST($A38,0,Berechnung!$B$5,TRUE),0))","v":0.84797405787787872},{"$f":"IF(AND($A38=0,Berechnung!$B$6=0),1,IF(Berechnung!$B$6<>0,_xlfn.NORM.DIST($A38,0,Berechnung!$B$6,FALSE),0))","v":1.6119217432494115E-2},{"$f":"IF(AND($A38>=0,Berechnung!$B$6=0),1,IF(Berechnung!$B$6<>0,_xlfn.NORM.DIST($A38,0,Berechnung!$B$6,TRUE),0))","v":0.84792866039542913},{"$f":"IF(AND($A38=0,Berechnung!$B$7=0),1,IF(Berechnung!$B$7<>0,_xlfn.NORM.DIST($A38,0,Berechnung!$B$7,FALSE),0))","v":1.1053015421416519E-2},{"$f":"IF(AND($A38>=0,Berechnung!$B$7=0),1,IF(Berechnung!$B$7<>0,_xlfn.NORM.DIST($A38,0,Berechnung!$B$7,TRUE),0))","v":0.9522096477271853},{"$f":"IF(AND($A38=0,Berechnung!$B$8=0),1,IF(Berechnung!$B$8<>0,_xlfn.NORM.DIST($A38,0,Berechnung!$B$8,FALSE),0))","v":1.1053015421416519E-2},{"$f":"IF(AND($A38>=0,Berechnung!$B$8=0),1,IF(Berechnung!$B$8<>0,_xlfn.NORM.DIST($A38,0,Berechnung!$B$8,TRUE),0))","v":0.9522096477271853},{"$f":"IF(AND($A38=0,Berechnung!$B$9=0),1,IF(Berechnung!$B$9<>0,_xlfn.NORM.DIST($A38,0,Berechnung!$B$9,FALSE),0))","v":1.350597480507615E-2},{"$f":"IF(AND($A38>=0,Berechnung!$B$9=0),1,IF(Berechnung!$B$9<>0,_xlfn.NORM.DIST($A38,0,Berechnung!$B$9,TRUE),0))","v":0.92609270496521012},{"$f":"IF(AND($A38=0,Berechnung!$B$10=0),1,IF(Berechnung!$B$10<>0,_xlfn.NORM.DIST($A38,0,Berechnung!$B$10,FALSE),0))","v":1.47844014483423E-2},{"$f":"IF(AND($A38>=0,Berechnung!$B$10=0),1,IF(Berechnung!$B$10<>0,_xlfn.NORM.DIST($A38,0,Berechnung!$B$10,TRUE),0))","v":0.90464474765468805},{"$f":"IF(AND($A38=0,Berechnung!$B$11=0),1,IF(Berechnung!$B$11<>0,_xlfn.NORM.DIST($A38,0,Berechnung!$B$11,FALSE),0))","v":0},{"$f":"IF(AND($A38>=0,Berechnung!$B$11=0),1,IF(Berechnung!$B$11<>0,_xlfn.NORM.DIST($A38,0,Berechnung!$B$11,TRUE),0))","v":1},{"$f":"Demonstrator!$J$19*'Daten Diagramm'!H38+Demonstrator!$J$24*'Daten Diagramm'!L38","v":1.2066255823632039E-2},{"$f":"Demonstrator!$J$19*'Daten Diagramm'!I38+Demonstrator!$J$24*'Daten Diagramm'!M38","v":0.93135345026083405}]
[16,{"$f":"IF(AND(A39=0,Berechnung!$B$3=0),1,IF(Berechnung!$B$3<>0,_xlfn.NORM.DIST(A39,0,Berechnung!$B$3,FALSE),0))","v":9.1279876069339828E-3},{"$f":"IF(AND($A39>=0,Berechnung!$B$3=0),1,IF(Berechnung!$B$3<>0,_xlfn.NORM.DIST($A39,0,Berechnung!$B$3,TRUE),0))","v":0.96227982018659974},{"$f":"IF(AND($A39=0,Berechnung!$B$4=0),1,IF(Berechnung!$B$4<>0,_xlfn.NORM.DIST($A39,0,Berechnung!$B$4,FALSE),0))","v":9.1279876069339828E-3},{"$f":"IF(AND($A39>=0,Berechnung!$B$4=0),1,IF(Berechnung!$B$4<>0,_xlfn.NORM.DIST($A39,0,Berechnung!$B$4,TRUE),0))","v":0.96227982018659974},{"$f":"IF(AND($A39=0,Berechnung!$B$5=0),1,IF(Berechnung!$B$5<>0,_xlfn.NORM.DIST($A39,0,Berechnung!$B$5,FALSE),0))","v":1.4987727443527395E-2},{"$f":"IF(AND($A39>=0,Berechnung!$B$5=0),1,IF(Berechnung!$B$5<>0,_xlfn.NORM.DIST($A39,0,Berechnung!$B$5,TRUE),0))","v":0.8635266687159372},{"$f":"IF(AND($A39=0,Berechnung!$B$6=0),1,IF(Berechnung!$B$6<>0,_xlfn.NORM.DIST($A39,0,Berechnung!$B$6,FALSE),0))","v":1.498829491760998E-2},{"$f":"IF(AND($A39>=0,Berechnung!$B$6=0),1,IF(Berechnung!$B$6<>0,_xlfn.NORM.DIST($A39,0,Berechnung!$B$6,TRUE),0))","v":0.86348164277088058},{"$f":"IF(AND($A39=0,Berechnung!$B$7=0),1,IF(Berechnung!$B$7<>0,_xlfn.NORM.DIST($A39,0,Berechnung!$B$7,FALSE),0))","v":9.1279876069339828E-3},{"$f":"IF(AND($A39>=0,Berechnung!$B$7=0),1,IF(Berechnung!$B$7<>0,_xlfn.NORM.DIST($A39,0,Berechnung!$B$7,TRUE),0))","v":0.96227982018659974},{"$f":"IF(AND($A39=0,Berechnung!$B$8=0),1,IF(Berechnung!$B$8<>0,_xlfn.NORM.DIST($A39,0,Berechnung!$B$8,FALSE),0))","v":9.1279876069339828E-3},{"$f":"IF(AND($A39>=0,Berechnung!$B$8=0),1,IF(Berechnung!$B$8<>0,_xlfn.NORM.DIST($A39,0,Berechnung!$B$8,TRUE),0))","v":0.96227982018659974},{"$f":"IF(AND($A39=0,Berechnung!$B$9=0),1,IF(Berechnung!$B$9<>0,_xlfn.NORM.DIST($A39,0,Berechnung!$B$9,FALSE),0))","v":1.1691164256677712E-2},{"$f":"IF(AND($A39>=0,Berechnung!$B$9=0),1,IF(Berechnung!$B$9<>0,_xlfn.NORM.DIST($A39,0,Berechnung!$B$9,TRUE),0))","v":0.93867921735272508},{"$f":"IF(AND($A39=0,Berechnung!$B$10=0),1,IF(Berechnung!$B$10<>0,_xlfn.NORM.DIST($A39,0,Berechnung!$B$10,FALSE),0))","v":1.3139547877617751E-2},{"$f":"IF(AND($A39>=0,Berechnung!$B$10=0),1,IF(Berechnung!$B$10<>0,_xlfn.NORM.DIST($A39,0,Berechnung!$B$10,TRUE),0))","v":0.91859940367789472},{"$f":"IF(AND($A39=0,Berechnung!$B$11=0),1,IF(Berechnung!$B$11<>0,_xlfn.NORM.DIST($A39,0,Berechnung!$B$11,FALSE),0))","v":0},{"$f":"IF(AND($A39>=0,Berechnung!$B$11=0),1,IF(Berechnung!$B$11<>0,_xlfn.NORM.DIST($A39,0,Berechnung!$B$11,TRUE),0))","v":1},{"$f":"Demonstrator!$J$19*'Daten Diagramm'!H39+Demonstrator!$J$24*'Daten Diagramm'!L39","v":1.0300049069069181E-2},{"$f":"Demonstrator!$J$19*'Daten Diagramm'!I39+Demonstrator!$J$24*'Daten Diagramm'!M39","v":0.94252018470345589}]
[17,{"$f":"IF(AND(A40=0,Berechnung!$B$3=0),1,IF(Berechnung!$B$3<>0,_xlfn.NORM.DIST(A40,0,Berechnung!$B$3,FALSE),0))","v":7.4457362353844694E-3},{"$f":"IF(AND($A40>=0,Berechnung!$B$3=0),1,IF(Berechnung!$B$3<>0,_xlfn.NORM.DIST($A40,0,Berechnung!$B$3,TRUE),0))","v":0.970546640692169},{"$f":"IF(AND($A40=0,Berechnung!$B$4=0),1,IF(Berechnung!$B$4<>0,_xlfn.NORM.DIST($A40,0,Berechnung!$B$4,FALSE),0))","v":7.4457362353844694E-3},{"$f":"IF(AND($A40>=0,Berechnung!$B$4=0),1,IF(Berechnung!$B$4<>0,_xlfn.NORM.DIST($A40,0,Berechnung!$B$4,TRUE),0))","v":0.970546640692169},{"$f":"IF(AND($A40=0,Berechnung!$B$5=0),1,IF(Berechnung!$B$5<>0,_xlfn.NORM.DIST($A40,0,Berechnung!$B$5,FALSE),0))","v":1.387053640110195E-2},{"$f":"IF(AND($A40>=0,Berechnung!$B$5=0),1,IF(Berechnung!$B$5<>0,_xlfn.NORM.DIST($A40,0,Berechnung!$B$5,TRUE),0))","v":0.87795423258473448},{"$f":"IF(AND($A40=0,Berechnung!$B$6=0),1,IF(Berechnung!$B$6<>0,_xlfn.NORM.DIST($A40,0,Berechnung!$B$6,FALSE),0))","v":1.3871465004947937E-2},{"$f":"IF(AND($A40>=0,Berechnung!$B$6=0),1,IF(Berechnung!$B$6<>0,_xlfn.NORM.DIST($A40,0,Berechnung!$B$6,TRUE),0))","v":0.87790995789143489},{"$f":"IF(AND($A40=0,Berechnung!$B$7=0),1,IF(Berechnung!$B$7<>0,_xlfn.NORM.DIST($A40,0,Berechnung!$B$7,FALSE),0))","v":7.4457362353844694E-3},{"$f":"IF(AND($A40>=0,Berechnung!$B$7=0),1,IF(Berechnung!$B$7<>0,_xlfn.NORM.DIST($A40,0,Berechnung!$B$7,TRUE),0))","v":0.970546640692169},{"$f":"IF(AND($A40=0,Berechnung!$B$8=0),1,IF(Berechnung!$B$8<>0,_xlfn.NORM.DIST($A40,0,Berechnung!$B$8,FALSE),0))","v":7.4457362353844694E-3},{"$f":"IF(AND($A40>=0,Berechnung!$B$8=0),1,IF(Berechnung!$B$8<>0,_xlfn.NORM.DIST($A40,0,Berechnung!$B$8,TRUE),0))","v":0.970546640692169},{"$f":"IF(AND($A40=0,Berechnung!$B$9=0),1,IF(Berechnung!$B$9<>0,_xlfn.NORM.DIST($A40,0,Berechnung!$B$9,FALSE),0))","v":1.0026433583157858E-2},{"$f":"IF(AND($A40>=0,Berechnung!$B$9=0),1,IF(Berechnung!$B$9<>0,_xlfn.NORM.DIST($A40,0,Berechnung!$B$9,TRUE),0))","v":0.94952512326895611},{"$f":"IF(AND($A40=0,Berechnung!$B$10=0),1,IF(Berechnung!$B$10<>0,_xlfn.NORM.DIST($A40,0,Berechnung!$B$10,FALSE),0))","v":1.1589170870633882E-2},{"$f":"IF(AND($A40>=0,Berechnung!$B$10=0),1,IF(Berechnung!$B$10<>0,_xlfn.NORM.DIST($A40,0,Berechnung!$B$10,TRUE),0))","v":0.93095537689319596},{"$f":"IF(AND($A40=0,Berechnung!$B$11=0),1,IF(Berechnung!$B$11<>0,_xlfn.NORM.DIST($A40,0,Berechnung!$B$11,FALSE),0))","v":0},{"$f":"IF(AND($A40>=0,Berechnung!$B$11=0),1,IF(Berechnung!$B$11<>0,_xlfn.NORM.DIST($A40,0,Berechnung!$B$11,TRUE),0))","v":1},{"$f":"Demonstrator!$J$19*'Daten Diagramm'!H40+Demonstrator!$J$24*'Daten Diagramm'!L40","v":8.7308819892971627E-3},{"$f":"Demonstrator!$J$19*'Daten Diagramm'!I40+Demonstrator!$J$24*'Daten Diagramm'!M40","v":0.95201930413202218}]
[18,{"$f":"IF(AND(A41=0,Berechnung!$B$3=0),1,IF(Berechnung!$B$3<>0,_xlfn.NORM.DIST(A41,0,Berechnung!$B$3,FALSE),0))","v":5.9989962792431177E-3},{"$f":"IF(AND($A41>=0,Berechnung!$B$3=0),1,IF(Berechnung!$B$3<>0,_xlfn.NORM.DIST($A41,0,Berechnung!$B$3,TRUE),0))","v":0.97724986805182079},{"$f":"IF(AND($A41=0,Berechnung!$B$4=0),1,IF(Berechnung!$B$4<>0,_xlfn.NORM.DIST($A41,0,Berechnung!$B$4,FALSE),0))","v":5.9989962792431177E-3},{"$f":"IF(AND($A41>=0,Berechnung!$B$4=0),1,IF(Berechnung!$B$4<>0,_xlfn.NORM.DIST($A41,0,Berechnung!$B$4,TRUE),0))","v":0.97724986805182079},{"$f":"IF(AND($A41=0,Berechnung!$B$5=0),1,IF(Berechnung!$B$5<>0,_xlfn.NORM.DIST($A41,0,Berechnung!$B$5,FALSE),0))","v":1.2776496634853867E-2},{"$f":"IF(AND($A41>=0,Berechnung!$B$5=0),1,IF(Berechnung!$B$5<>0,_xlfn.NORM.DIST($A41,0,Berechnung!$B$5,TRUE),0))","v":0.89127546980402772},{"$f":"IF(AND($A41=0,Berechnung!$B$6=0),1,IF(Berechnung!$B$6<>0,_xlfn.NORM.DIST($A41,0,Berechnung!$B$6,FALSE),0))","v":1.2777746137521964E-2},{"$f":"IF(AND($A41>=0,Berechnung!$B$6=0),1,IF(Berechnung!$B$6<>0,_xlfn.NORM.DIST($A41,0,Berechnung!$B$6,TRUE),0))","v":0.8912322876430202},{"$f":"IF(AND($A41=0,Berechnung!$B$7=0),1,IF(Berechnung!$B$7<>0,_xlfn.NORM.DIST($A41,0,Berechnung!$B$7,FALSE),0))","v":5.9989962792431177E-3},{"$f":"IF(AND($A41>=0,Berechnung!$B$7=0),1,IF(Berechnung!$B$7<>0,_xlfn.NORM.DIST($A41,0,Berechnung!$B$7,TRUE),0))","v":0.97724986805182079},{"$f":"IF(AND($A41=0,Berechnung!$B$8=0),1,IF(Berechnung!$B$8<>0,_xlfn.NORM.DIST($A41,0,Berechnung!$B$8,FALSE),0))","v":5.9989962792431177E-3},{"$f":"IF(AND($A41>=0,Berechnung!$B$8=0),1,IF(Berechnung!$B$8<>0,_xlfn.NORM.DIST($A41,0,Berechnung!$B$8,TRUE),0))","v":0.97724986805182079},{"$f":"IF(AND($A41=0,Berechnung!$B$9=0),1,IF(Berechnung!$B$9<>0,_xlfn.NORM.DIST($A41,0,Berechnung!$B$9,FALSE),0))","v":8.5190681495410855E-3},{"$f":"IF(AND($A41>=0,Berechnung!$B$9=0),1,IF(Berechnung!$B$9<>0,_xlfn.NORM.DIST($A41,0,Berechnung!$B$9,TRUE),0))","v":0.95878459653317838},{"$f":"IF(AND($A41=0,Berechnung!$B$10=0),1,IF(Berechnung!$B$10<>0,_xlfn.NORM.DIST($A41,0,Berechnung!$B$10,FALSE),0))","v":1.0144241504440588E-2},{"$f":"IF(AND($A41>=0,Berechnung!$B$10=0),1,IF(Berechnung!$B$10<>0,_xlfn.NORM.DIST($A41,0,Berechnung!$B$10,TRUE),0))","v":0.94181293452759274},{"$f":"IF(AND($A41=0,Berechnung!$B$11=0),1,IF(Berechnung!$B$11<>0,_xlfn.NORM.DIST($A41,0,Berechnung!$B$11,FALSE),0))","v":0},{"$f":"IF(AND($A41>=0,Berechnung!$B$11=0),1,IF(Berechnung!$B$11<>0,_xlfn.NORM.DIST($A41,0,Berechnung!$B$11,TRUE),0))","v":1},{"$f":"Demonstrator!$J$19*'Daten Diagramm'!H41+Demonstrator!$J$24*'Daten Diagramm'!L41","v":7.3547462508988873E-3},{"$f":"Demonstrator!$J$19*'Daten Diagramm'!I41+Demonstrator!$J$24*'Daten Diagramm'!M41","v":0.96004635197006072}]
[19,{"$f":"IF(AND(A42=0,Berechnung!$B$3=0),1,IF(Berechnung!$B$3<>0,_xlfn.NORM.DIST(A42,0,Berechnung!$B$3,FALSE),0))","v":4.7740600515508011E-3},{"$f":"IF(AND($A42>=0,Berechnung!$B$3=0),1,IF(Berechnung!$B$3<>0,_xlfn.NORM.DIST($A42,0,Berechnung!$B$3,TRUE),0))","v":0.98261861868888578},{"$f":"IF(AND($A42=0,Berechnung!$B$4=0),1,IF(Berechnung!$B$4<>0,_xlfn.NORM.DIST($A42,0,Berechnung!$B$4,FALSE),0))","v":4.7740600515508011E-3},{"$f":"IF(AND($A42>=0,Berechnung!$B$4=0),1,IF(Berechnung!$B$4<>0,_xlfn.NORM.DIST($A42,0,Berechnung!$B$4,TRUE),0))","v":0.98261861868888578},{"$f":"IF(AND($A42=0,Berechnung!$B$5=0),1,IF(Berechnung!$B$5<>0,_xlfn.NORM.DIST($A42,0,Berechnung!$B$5,FALSE),0))","v":1.1713626503653854E-2},{"$f":"IF(AND($A42>=0,Berechnung!$B$5=0),1,IF(Berechnung!$B$5<>0,_xlfn.NORM.DIST($A42,0,Berechnung!$B$5,TRUE),0))","v":0.90351762764802157},{"$f":"IF(AND($A42=0,Berechnung!$B$6=0),1,IF(Berechnung!$B$6<>0,_xlfn.NORM.DIST($A42,0,Berechnung!$B$6,FALSE),0))","v":1.171515407578261E-2},{"$f":"IF(AND($A42>=0,Berechnung!$B$6=0),1,IF(Berechnung!$B$6<>0,_xlfn.NORM.DIST($A42,0,Berechnung!$B$6,TRUE),0))","v":0.90347583767054873},{"$f":"IF(AND($A42=0,Berechnung!$B$7=0),1,IF(Berechnung!$B$7<>0,_xlfn.NORM.DIST($A42,0,Berechnung!$B$7,FALSE),0))","v":4.7740600515508011E-3},{"$f":"IF(AND($A42>=0,Berechnung!$B$7=0),1,IF(Berechnung!$B$7<>0,_xlfn.NORM.DIST($A42,0,Berechnung!$B$7,TRUE),0))","v":0.98261861868888578},{"$f":"IF(AND($A42=0,Berechnung!$B$8=0),1,IF(Berechnung!$B$8<>0,_xlfn.NORM.DIST($A42,0,Berechnung!$B$8,FALSE),0))","v":4.7740600515508011E-3},{"$f":"IF(AND($A42>=0,Berechnung!$B$8=0),1,IF(Berechnung!$B$8<>0,_xlfn.NORM.DIST($A42,0,Berechnung!$B$8,TRUE),0))","v":0.98261861868888578},{"$f":"IF(AND($A42=0,Berechnung!$B$9=0),1,IF(Berechnung!$B$9<>0,_xlfn.NORM.DIST($A42,0,Berechnung!$B$9,FALSE),0))","v":7.1712455875589595E-3},{"$f":"IF(AND($A42>=0,Berechnung!$B$9=0),1,IF(Berechnung!$B$9<>0,_xlfn.NORM.DIST($A42,0,Berechnung!$B$9,TRUE),0))","v":0.96661648970286551},{"$f":"IF(AND($A42=0,Berechnung!$B$10=0),1,IF(Berechnung!$B$10<>0,_xlfn.NORM.DIST($A42,0,Berechnung!$B$10,FALSE),0))","v":8.8121536927488232E-3},{"$f":"IF(AND($A42>=0,Berechnung!$B$10=0),1,IF(Berechnung!$B$10<>0,_xlfn.NORM.DIST($A42,0,Berechnung!$B$10,TRUE),0))","v":0.95128151100101044},{"$f":"IF(AND($A42=0,Berechnung!$B$11=0),1,IF(Berechnung!$B$11<>0,_xlfn.NORM.DIST($A42,0,Berechnung!$B$11,FALSE),0))","v":0},{"$f":"IF(AND($A42>=0,Berechnung!$B$11=0),1,IF(Berechnung!$B$11<>0,_xlfn.NORM.DIST($A42,0,Berechnung!$B$11,TRUE),0))","v":1},{"$f":"Demonstrator!$J$19*'Daten Diagramm'!H42+Demonstrator!$J$24*'Daten Diagramm'!L42","v":6.1622788563971626E-3},{"$f":"Demonstrator!$J$19*'Daten Diagramm'!I42+Demonstrator!$J$24*'Daten Diagramm'!M42","v":0.96679006248521837}]
[20,{"$f":"IF(AND(A43=0,Berechnung!$B$3=0),1,IF(Berechnung!$B$3<>0,_xlfn.NORM.DIST(A43,0,Berechnung!$B$3,FALSE),0))","v":3.7526278928078482E-3},{"$f":"IF(AND($A43>=0,Berechnung!$B$3=0),1,IF(Berechnung!$B$3<>0,_xlfn.NORM.DIST($A43,0,Berechnung!$B$3,TRUE),0))","v":0.98686585430897888},{"$f":"IF(AND($A43=0,Berechnung!$B$4=0),1,IF(Berechnung!$B$4<>0,_xlfn.NORM.DIST($A43,0,Berechnung!$B$4,FALSE),0))","v":3.7526278928078482E-3},{"$f":"IF(AND($A43>=0,Berechnung!$B$4=0),1,IF(Berechnung!$B$4<>0,_xlfn.NORM.DIST($A43,0,Berechnung!$B$4,TRUE),0))","v":0.98686585430897888},{"$f":"IF(AND($A43=0,Berechnung!$B$5=0),1,IF(Berechnung!$B$5<>0,_xlfn.NORM.DIST($A43,0,Berechnung!$B$5,FALSE),0))","v":1.0688875489702473E-2},{"$f":"IF(AND($A43>=0,Berechnung!$B$5=0),1,IF(Berechnung!$B$5<>0,_xlfn.NORM.DIST($A43,0,Berechnung!$B$5,TRUE),0))","v":0.91471544149460771},{"$f":"IF(AND($A43=0,Berechnung!$B$6=0),1,IF(Berechnung!$B$6<>0,_xlfn.NORM.DIST($A43,0,Berechnung!$B$6,FALSE),0))","v":1.0690636874361538E-2},{"$f":"IF(AND($A43>=0,Berechnung!$B$6=0),1,IF(Berechnung!$B$6<>0,_xlfn.NORM.DIST($A43,0,Berechnung!$B$6,TRUE),0))","v":0.91467529971315298},{"$f":"IF(AND($A43=0,Berechnung!$B$7=0),1,IF(Berechnung!$B$7<>0,_xlfn.NORM.DIST($A43,0,Berechnung!$B$7,FALSE),0))","v":3.7526278928078482E-3},{"$f":"IF(AND($A43>=0,Berechnung!$B$7=0),1,IF(Berechnung!$B$7<>0,_xlfn.NORM.DIST($A43,0,Berechnung!$B$7,TRUE),0))","v":0.98686585430897888},{"$f":"IF(AND($A43=0,Berechnung!$B$8=0),1,IF(Berechnung!$B$8<>0,_xlfn.NORM.DIST($A43,0,Berechnung!$B$8,FALSE),0))","v":3.7526278928078482E-3},{"$f":"IF(AND($A43>=0,Berechnung!$B$8=0),1,IF(Berechnung!$B$8<>0,_xlfn.NORM.DIST($A43,0,Berechnung!$B$8,TRUE),0))","v":0.98686585430897888},{"$f":"IF(AND($A43=0,Berechnung!$B$9=0),1,IF(Berechnung!$B$9<>0,_xlfn.NORM.DIST($A43,0,Berechnung!$B$9,FALSE),0))","v":5.9807271674384857E-3},{"$f":"IF(AND($A43>=0,Berechnung!$B$9=0),1,IF(Berechnung!$B$9<>0,_xlfn.NORM.DIST($A43,0,Berechnung!$B$9,TRUE),0))","v":0.97317956294357344},{"$f":"IF(AND($A43=0,Berechnung!$B$10=0),1,IF(Berechnung!$B$10<>0,_xlfn.NORM.DIST($A43,0,Berechnung!$B$10,FALSE),0))","v":7.5969595773970333E-3},{"$f":"IF(AND($A43>=0,Berechnung!$B$10=0),1,IF(Berechnung!$B$10<>0,_xlfn.NORM.DIST($A43,0,Berechnung!$B$10,TRUE),0))","v":0.95947624009932264},{"$f":"IF(AND($A43=0,Berechnung!$B$11=0),1,IF(Berechnung!$B$11<>0,_xlfn.NORM.DIST($A43,0,Berechnung!$B$11,FALSE),0))","v":0},{"$f":"IF(AND($A43>=0,Berechnung!$B$11=0),1,IF(Berechnung!$B$11<>0,_xlfn.NORM.DIST($A43,0,Berechnung!$B$11,TRUE),0))","v":1},{"$f":"Demonstrator!$J$19*'Daten Diagramm'!H43+Demonstrator!$J$24*'Daten Diagramm'!L43","v":5.1402296891185865E-3},{"$f":"Demonstrator!$J$19*'Daten Diagramm'!I43+Demonstrator!$J$24*'Daten Diagramm'!M43","v":0.97242774338981375}]
[21,{"$f":"IF(AND(A44=0,Berechnung!$B$3=0),1,IF(Berechnung!$B$3<>0,_xlfn.NORM.DIST(A44,0,Berechnung!$B$3,FALSE),0))","v":2.9135432326343868E-3},{"$f":"IF(AND($A44>=0,Berechnung!$B$3=0),1,IF(Berechnung!$B$3<>0,_xlfn.NORM.DIST($A44,0,Berechnung!$B$3,TRUE),0))","v":0.99018467137135469},{"$f":"IF(AND($A44=0,Berechnung!$B$4=0),1,IF(Berechnung!$B$4<>0,_xlfn.NORM.DIST($A44,0,Berechnung!$B$4,FALSE),0))","v":2.9135432326343868E-3},{"$f":"IF(AND($A44>=0,Berechnung!$B$4=0),1,IF(Berechnung!$B$4<>0,_xlfn.NORM.DIST($A44,0,Berechnung!$B$4,TRUE),0))","v":0.99018467137135469},{"$f":"IF(AND($A44=0,Berechnung!$B$5=0),1,IF(Berechnung!$B$5<>0,_xlfn.NORM.DIST($A44,0,Berechnung!$B$5,FALSE),0))","v":9.7080884155540444E-3},{"$f":"IF(AND($A44>=0,Berechnung!$B$5=0),1,IF(Berechnung!$B$5<>0,_xlfn.NORM.DIST($A44,0,Berechnung!$B$5,TRUE),0))","v":0.92491004567117019},{"$f":"IF(AND($A44=0,Berechnung!$B$6=0),1,IF(Berechnung!$B$6<>0,_xlfn.NORM.DIST($A44,0,Berechnung!$B$6,FALSE),0))","v":9.7100390402030078E-3},{"$f":"IF(AND($A44>=0,Berechnung!$B$6=0),1,IF(Berechnung!$B$6<>0,_xlfn.NORM.DIST($A44,0,Berechnung!$B$6,TRUE),0))","v":0.92487176359410017},{"$f":"IF(AND($A44=0,Berechnung!$B$7=0),1,IF(Berechnung!$B$7<>0,_xlfn.NORM.DIST($A44,0,Berechnung!$B$7,FALSE),0))","v":2.9135432326343868E-3},{"$f":"IF(AND($A44>=0,Berechnung!$B$7=0),1,IF(Berechnung!$B$7<>0,_xlfn.NORM.DIST($A44,0,Berechnung!$B$7,TRUE),0))","v":0.99018467137135469},{"$f":"IF(AND($A44=0,Berechnung!$B$8=0),1,IF(Berechnung!$B$8<>0,_xlfn.NORM.DIST($A44,0,Berechnung!$B$8,FALSE),0))","v":2.9135432326343868E-3},{"$f":"IF(AND($A44>=0,Berechnung!$B$8=0),1,IF(Berechnung!$B$8<>0,_xlfn.NORM.DIST($A44,0,Berechnung!$B$8,TRUE),0))","v":0.99018467137135469},{"$f":"IF(AND($A44=0,Berechnung!$B$9=0),1,IF(Berechnung!$B$9<>0,_xlfn.NORM.DIST($A44,0,Berechnung!$B$9,FALSE),0))","v":4.9416306076486586E-3},{"$f":"IF(AND($A44>=0,Berechnung!$B$9=0),1,IF(Berechnung!$B$9<>0,_xlfn.NORM.DIST($A44,0,Berechnung!$B$9,TRUE),0))","v":0.97862844953929817},{"$f":"IF(AND($A44=0,Berechnung!$B$10=0),1,IF(Berechnung!$B$10<>0,_xlfn.NORM.DIST($A44,0,Berechnung!$B$10,FALSE),0))","v":6.4996929003567913E-3},{"$f":"IF(AND($A44>=0,Berechnung!$B$10=0),1,IF(Berechnung!$B$10<>0,_xlfn.NORM.DIST($A44,0,Berechnung!$B$10,TRUE),0))","v":0.96651476859863694},{"$f":"IF(AND($A44=0,Berechnung!$B$11=0),1,IF(Berechnung!$B$11<>0,_xlfn.NORM.DIST($A44,0,Berechnung!$B$11,FALSE),0))","v":0},{"$f":"IF(AND($A44>=0,Berechnung!$B$11=0),1,IF(Berechnung!$B$11<>0,_xlfn.NORM.DIST($A44,0,Berechnung!$B$11,TRUE),0))","v":1},{"$f":"Demonstrator!$J$19*'Daten Diagramm'!H44+Demonstrator!$J$24*'Daten Diagramm'!L44","v":4.2728423941481106E-3},{"$f":"Demonstrator!$J$19*'Daten Diagramm'!I44+Demonstrator!$J$24*'Daten Diagramm'!M44","v":0.97712208981590376}]
[22,{"$f":"IF(AND(A45=0,Berechnung!$B$3=0),1,IF(Berechnung!$B$3<>0,_xlfn.NORM.DIST(A45,0,Berechnung!$B$3,FALSE),0))","v":2.2343220471763808E-3},{"$f":"IF(AND($A45>=0,Berechnung!$B$3=0),1,IF(Berechnung!$B$3<>0,_xlfn.NORM.DIST($A45,0,Berechnung!$B$3,TRUE),0))","v":0.9927462288751322},{"$f":"IF(AND($A45=0,Berechnung!$B$4=0),1,IF(Berechnung!$B$4<>0,_xlfn.NORM.DIST($A45,0,Berechnung!$B$4,FALSE),0))","v":2.2343220471763808E-3},{"$f":"IF(AND($A45>=0,Berechnung!$B$4=0),1,IF(Berechnung!$B$4<>0,_xlfn.NORM.DIST($A45,0,Berechnung!$B$4,TRUE),0))","v":0.9927462288751322},{"$f":"IF(AND($A45=0,Berechnung!$B$5=0),1,IF(Berechnung!$B$5<>0,_xlfn.NORM.DIST($A45,0,Berechnung!$B$5,FALSE),0))","v":8.7759974129061284E-3},{"$f":"IF(AND($A45>=0,Berechnung!$B$5=0),1,IF(Berechnung!$B$5<>0,_xlfn.NORM.DIST($A45,0,Berechnung!$B$5,TRUE),0))","v":0.93414786254835591},{"$f":"IF(AND($A45=0,Berechnung!$B$6=0),1,IF(Berechnung!$B$6<>0,_xlfn.NORM.DIST($A45,0,Berechnung!$B$6,FALSE),0))","v":8.7780934126961054E-3},{"$f":"IF(AND($A45>=0,Berechnung!$B$6=0),1,IF(Berechnung!$B$6<>0,_xlfn.NORM.DIST($A45,0,Berechnung!$B$6,TRUE),0))","v":0.93411160738444099},{"$f":"IF(AND($A45=0,Berechnung!$B$7=0),1,IF(Berechnung!$B$7<>0,_xlfn.NORM.DIST($A45,0,Berechnung!$B$7,FALSE),0))","v":2.2343220471763808E-3},{"$f":"IF(AND($A45>=0,Berechnung!$B$7=0),1,IF(Berechnung!$B$7<>0,_xlfn.NORM.DIST($A45,0,Berechnung!$B$7,TRUE),0))","v":0.9927462288751322},{"$f":"IF(AND($A45=0,Berechnung!$B$8=0),1,IF(Berechnung!$B$8<>0,_xlfn.NORM.DIST($A45,0,Berechnung!$B$8,FALSE),0))","v":2.2343220471763808E-3},{"$f":"IF(AND($A45>=0,Berechnung!$B$8=0),1,IF(Berechnung!$B$8<>0,_xlfn.NORM.DIST($A45,0,Berechnung!$B$8,TRUE),0))","v":0.9927462288751322},{"$f":"IF(AND($A45=0,Berechnung!$B$9=0),1,IF(Berechnung!$B$9<>0,_xlfn.NORM.DIST($A45,0,Berechnung!$B$9,FALSE),0))","v":4.0452322198537395E-3},{"$f":"IF(AND($A45>=0,Berechnung!$B$9=0),1,IF(Berechnung!$B$9<>0,_xlfn.NORM.DIST($A45,0,Berechnung!$B$9,TRUE),0))","v":0.98311041298155122},{"$f":"IF(AND($A45=0,Berechnung!$B$10=0),1,IF(Berechnung!$B$10<>0,_xlfn.NORM.DIST($A45,0,Berechnung!$B$10,FALSE),0))","v":5.5187551812795532E-3},{"$f":"IF(AND($A45>=0,Berechnung!$B$10=0),1,IF(Berechnung!$B$10<>0,_xlfn.NORM.DIST($A45,0,Berechnung!$B$10,TRUE),0))","v":0.97251442677293842},{"$f":"IF(AND($A45=0,Berechnung!$B$11=0),1,IF(Berechnung!$B$11<>0,_xlfn.NORM.DIST($A45,0,Berechnung!$B$11,FALSE),0))","v":0},{"$f":"IF(AND($A45>=0,Berechnung!$B$11=0),1,IF(Berechnung!$B$11<>0,_xlfn.NORM.DIST($A45,0,Berechnung!$B$11,TRUE),0))","v":1},{"$f":"Demonstrator!$J$19*'Daten Diagramm'!H45+Demonstrator!$J$24*'Daten Diagramm'!L45","v":3.5430763202803257E-3},{"$f":"Demonstrator!$J$19*'Daten Diagramm'!I45+Demonstrator!$J$24*'Daten Diagramm'!M45","v":0.98101930457699393}]
[23,{"$f":"IF(AND(A46=0,Berechnung!$B$3=0),1,IF(Berechnung!$B$3<>0,_xlfn.NORM.DIST(A46,0,Berechnung!$B$3,FALSE),0))","v":1.6924210363446319E-3},{"$f":"IF(AND($A46>=0,Berechnung!$B$3=0),1,IF(Berechnung!$B$3<>0,_xlfn.NORM.DIST($A46,0,Berechnung!$B$3,TRUE),0))","v":0.99469907821575676},{"$f":"IF(AND($A46=0,Berechnung!$B$4=0),1,IF(Berechnung!$B$4<>0,_xlfn.NORM.DIST($A46,0,Berechnung!$B$4,FALSE),0))","v":1.6924210363446319E-3},{"$f":"IF(AND($A46>=0,Berechnung!$B$4=0),1,IF(Berechnung!$B$4<>0,_xlfn.NORM.DIST($A46,0,Berechnung!$B$4,TRUE),0))","v":0.99469907821575676},{"$f":"IF(AND($A46=0,Berechnung!$B$5=0),1,IF(Berechnung!$B$5<>0,_xlfn.NORM.DIST($A46,0,Berechnung!$B$5,FALSE),0))","v":7.8962394358770838E-3},{"$f":"IF(AND($A46>=0,Berechnung!$B$5=0),1,IF(Berechnung!$B$5<>0,_xlfn.NORM.DIST($A46,0,Berechnung!$B$5,TRUE),0))","v":0.94247949658609453},{"$f":"IF(AND($A46=0,Berechnung!$B$6=0),1,IF(Berechnung!$B$6<>0,_xlfn.NORM.DIST($A46,0,Berechnung!$B$6,FALSE),0))","v":7.8984385642909168E-3},{"$f":"IF(AND($A46>=0,Berechnung!$B$6=0),1,IF(Berechnung!$B$6<>0,_xlfn.NORM.DIST($A46,0,Berechnung!$B$6,TRUE),0))","v":0.94244539241774816},{"$f":"IF(AND($A46=0,Berechnung!$B$7=0),1,IF(Berechnung!$B$7<>0,_xlfn.NORM.DIST($A46,0,Berechnung!$B$7,FALSE),0))","v":1.6924210363446319E-3},{"$f":"IF(AND($A46>=0,Berechnung!$B$7=0),1,IF(Berechnung!$B$7<>0,_xlfn.NORM.DIST($A46,0,Berechnung!$B$7,TRUE),0))","v":0.99469907821575676},{"$f":"IF(AND($A46=0,Berechnung!$B$8=0),1,IF(Berechnung!$B$8<>0,_xlfn.NORM.DIST($A46,0,Berechnung!$B$8,FALSE),0))","v":1.6924210363446319E-3},{"$f":"IF(AND($A46>=0,Berechnung!$B$8=0),1,IF(Berechnung!$B$8<>0,_xlfn.NORM.DIST($A46,0,Berechnung!$B$8,TRUE),0))","v":0.99469907821575676},{"$f":"IF(AND($A46=0,Berechnung!$B$9=0),1,IF(Berechnung!$B$9<>0,_xlfn.NORM.DIST($A46,0,Berechnung!$B$9,FALSE),0))","v":3.2807529587086815E-3},{"$f":"IF(AND($A46>=0,Berechnung!$B$9=0),1,IF(Berechnung!$B$9<>0,_xlfn.NORM.DIST($A46,0,Berechnung!$B$9,TRUE),0))","v":0.9867629016044579},{"$f":"IF(AND($A46=0,Berechnung!$B$10=0),1,IF(Berechnung!$B$10<>0,_xlfn.NORM.DIST($A46,0,Berechnung!$B$10,FALSE),0))","v":4.6503398141602625E-3},{"$f":"IF(AND($A46>=0,Berechnung!$B$10=0),1,IF(Berechnung!$B$10<>0,_xlfn.NORM.DIST($A46,0,Berechnung!$B$10,TRUE),0))","v":0.97758980606286838},{"$f":"IF(AND($A46=0,Berechnung!$B$11=0),1,IF(Berechnung!$B$11<>0,_xlfn.NORM.DIST($A46,0,Berechnung!$B$11,FALSE),0))","v":0},{"$f":"IF(AND($A46>=0,Berechnung!$B$11=0),1,IF(Berechnung!$B$11<>0,_xlfn.NORM.DIST($A46,0,Berechnung!$B$11,TRUE),0))","v":1},{"$f":"Demonstrator!$J$19*'Daten Diagramm'!H46+Demonstrator!$J$24*'Daten Diagramm'!L46","v":2.9336245419338885E-3},{"$f":"Demonstrator!$J$19*'Daten Diagramm'!I46+Demonstrator!$J$24*'Daten Diagramm'!M46","v":0.984248341056155}]
[24,{"$f":"IF(AND(A47=0,Berechnung!$B$3=0),1,IF(Berechnung!$B$3<>0,_xlfn.NORM.DIST(A47,0,Berechnung!$B$3,FALSE),0))","v":1.266220669310827E-3},{"$f":"IF(AND($A47>=0,Berechnung!$B$3=0),1,IF(Berechnung!$B$3<>0,_xlfn.NORM.DIST($A47,0,Berechnung!$B$3,TRUE),0))","v":0.99616961943241022},{"$f":"IF(AND($A47=0,Berechnung!$B$4=0),1,IF(Berechnung!$B$4<>0,_xlfn.NORM.DIST($A47,0,Berechnung!$B$4,FALSE),0))","v":1.266220669310827E-3},{"$f":"IF(AND($A47>=0,Berechnung!$B$4=0),1,IF(Berechnung!$B$4<>0,_xlfn.NORM.DIST($A47,0,Berechnung!$B$4,TRUE),0))","v":0.99616961943241022},{"$f":"IF(AND($A47=0,Berechnung!$B$5=0),1,IF(Berechnung!$B$5<>0,_xlfn.NORM.DIST($A47,0,Berechnung!$B$5,FALSE),0))","v":7.071396512098471E-3},{"$f":"IF(AND($A47>=0,Berechnung!$B$5=0),1,IF(Berechnung!$B$5<>0,_xlfn.NORM.DIST($A47,0,Berechnung!$B$5,TRUE),0))","v":0.94995865751663744},{"$f":"IF(AND($A47=0,Berechnung!$B$6=0),1,IF(Berechnung!$B$6<>0,_xlfn.NORM.DIST($A47,0,Berechnung!$B$6,FALSE),0))","v":7.0736589211330917E-3},{"$f":"IF(AND($A47>=0,Berechnung!$B$6=0),1,IF(Berechnung!$B$6<>0,_xlfn.NORM.DIST($A47,0,Berechnung!$B$6,TRUE),0))","v":0.94992678731978386},{"$f":"IF(AND($A47=0,Berechnung!$B$7=0),1,IF(Berechnung!$B$7<>0,_xlfn.NORM.DIST($A47,0,Berechnung!$B$7,FALSE),0))","v":1.266220669310827E-3},{"$f":"IF(AND($A47>=0,Berechnung!$B$7=0),1,IF(Berechnung!$B$7<>0,_xlfn.NORM.DIST($A47,0,Berechnung!$B$7,TRUE),0))","v":0.99616961943241022},{"$f":"IF(AND($A47=0,Berechnung!$B$8=0),1,IF(Berechnung!$B$8<>0,_xlfn.NORM.DIST($A47,0,Berechnung!$B$8,FALSE),0))","v":1.266220669310827E-3},{"$f":"IF(AND($A47>=0,Berechnung!$B$8=0),1,IF(Berechnung!$B$8<>0,_xlfn.NORM.DIST($A47,0,Berechnung!$B$8,TRUE),0))","v":0.99616961943241022},{"$f":"IF(AND($A47=0,Berechnung!$B$9=0),1,IF(Berechnung!$B$9<>0,_xlfn.NORM.DIST($A47,0,Berechnung!$B$9,FALSE),0))","v":2.6360915725204886E-3},{"$f":"IF(AND($A47>=0,Berechnung!$B$9=0),1,IF(Berechnung!$B$9<>0,_xlfn.NORM.DIST($A47,0,Berechnung!$B$9,TRUE),0))","v":0.98971186549473278},{"$f":"IF(AND($A47=0,Berechnung!$B$10=0),1,IF(Berechnung!$B$10<>0,_xlfn.NORM.DIST($A47,0,Berechnung!$B$10,FALSE),0))","v":3.8888708390545481E-3},{"$f":"IF(AND($A47>=0,Berechnung!$B$10=0),1,IF(Berechnung!$B$10<>0,_xlfn.NORM.DIST($A47,0,Berechnung!$B$10,TRUE),0))","v":0.98185077001684962},{"$f":"IF(AND($A47=0,Berechnung!$B$11=0),1,IF(Berechnung!$B$11<>0,_xlfn.NORM.DIST($A47,0,Berechnung!$B$11,FALSE),0))","v":0},{"$f":"IF(AND($A47>=0,Berechnung!$B$11=0),1,IF(Berechnung!$B$11<>0,_xlfn.NORM.DIST($A47,0,Berechnung!$B$11,TRUE),0))","v":1},{"$f":"Demonstrator!$J$19*'Daten Diagramm'!H47+Demonstrator!$J$24*'Daten Diagramm'!L47","v":2.4277083196752799E-3},{"$f":"Demonstrator!$J$19*'Daten Diagramm'!I47+Demonstrator!$J$24*'Daten Diagramm'!M47","v":0.98692105300988497}]
[25,{"$f":"IF(AND(A48=0,Berechnung!$B$3=0),1,IF(Berechnung!$B$3<>0,_xlfn.NORM.DIST(A48,0,Berechnung!$B$3,FALSE),0))","v":9.3572605379092821E-4},{"$f":"IF(AND($A48>=0,Berechnung!$B$3=0),1,IF(Berechnung!$B$3<>0,_xlfn.NORM.DIST($A48,0,Berechnung!$B$3,TRUE),0))","v":0.99726339821375587},{"$f":"IF(AND($A48=0,Berechnung!$B$4=0),1,IF(Berechnung!$B$4<>0,_xlfn.NORM.DIST($A48,0,Berechnung!$B$4,FALSE),0))","v":9.3572605379092821E-4},{"$f":"IF(AND($A48>=0,Berechnung!$B$4=0),1,IF(Berechnung!$B$4<>0,_xlfn.NORM.DIST($A48,0,Berechnung!$B$4,TRUE),0))","v":0.99726339821375587},{"$f":"IF(AND($A48=0,Berechnung!$B$5=0),1,IF(Berechnung!$B$5<>0,_xlfn.NORM.DIST($A48,0,Berechnung!$B$5,FALSE),0))","v":6.3030554802399772E-3},{"$f":"IF(AND($A48>=0,Berechnung!$B$5=0),1,IF(Berechnung!$B$5<>0,_xlfn.NORM.DIST($A48,0,Berechnung!$B$5,TRUE),0))","v":0.95664113380720339},{"$f":"IF(AND($A48=0,Berechnung!$B$6=0),1,IF(Berechnung!$B$6<>0,_xlfn.NORM.DIST($A48,0,Berechnung!$B$6,FALSE),0))","v":6.3053443586720713E-3},{"$f":"IF(AND($A48>=0,Berechnung!$B$6=0),1,IF(Berechnung!$B$6<>0,_xlfn.NORM.DIST($A48,0,Berechnung!$B$6,TRUE),0))","v":0.95661154218106303},{"$f":"IF(AND($A48=0,Berechnung!$B$7=0),1,IF(Berechnung!$B$7<>0,_xlfn.NORM.DIST($A48,0,Berechnung!$B$7,FALSE),0))","v":9.3572605379092821E-4},{"$f":"IF(AND($A48>=0,Berechnung!$B$7=0),1,IF(Berechnung!$B$7<>0,_xlfn.NORM.DIST($A48,0,Berechnung!$B$7,TRUE),0))","v":0.99726339821375587},{"$f":"IF(AND($A48=0,Berechnung!$B$8=0),1,IF(Berechnung!$B$8<>0,_xlfn.NORM.DIST($A48,0,Berechnung!$B$8,FALSE),0))","v":9.3572605379092821E-4},{"$f":"IF(AND($A48>=0,Berechnung!$B$8=0),1,IF(Berechnung!$B$8<>0,_xlfn.NORM.DIST($A48,0,Berechnung!$B$8,TRUE),0))","v":0.99726339821375587},{"$f":"IF(AND($A48=0,Berechnung!$B$9=0),1,IF(Berechnung!$B$9<>0,_xlfn.NORM.DIST($A48,0,Berechnung!$B$9,FALSE),0))","v":2.0984776510552948E-3},{"$f":"IF(AND($A48>=0,Berechnung!$B$9=0),1,IF(Berechnung!$B$9<>0,_xlfn.NORM.DIST($A48,0,Berechnung!$B$9,TRUE),0))","v":0.99207076835949648},{"$f":"IF(AND($A48=0,Berechnung!$B$10=0),1,IF(Berechnung!$B$10<>0,_xlfn.NORM.DIST($A48,0,Berechnung!$B$10,FALSE),0))","v":3.2274358476877098E-3},{"$f":"IF(AND($A48>=0,Berechnung!$B$10=0),1,IF(Berechnung!$B$10<>0,_xlfn.NORM.DIST($A48,0,Berechnung!$B$10,TRUE),0))","v":0.98540090264806912},{"$f":"IF(AND($A48=0,Berechnung!$B$11=0),1,IF(Berechnung!$B$11<>0,_xlfn.NORM.DIST($A48,0,Berechnung!$B$11,FALSE),0))","v":0},{"$f":"IF(AND($A48>=0,Berechnung!$B$11=0),1,IF(Berechnung!$B$11<>0,_xlfn.NORM.DIST($A48,0,Berechnung!$B$11,TRUE),0))","v":1},{"$f":"Demonstrator!$J$19*'Daten Diagramm'!H48+Demonstrator!$J$24*'Daten Diagramm'!L48","v":2.0096497147671566E-3},{"$f":"Demonstrator!$J$19*'Daten Diagramm'!I48+Demonstrator!$J$24*'Daten Diagramm'!M48","v":0.98913302700721728}]
[26,{"$f":"IF(AND(A49=0,Berechnung!$B$3=0),1,IF(Berechnung!$B$3<>0,_xlfn.NORM.DIST(A49,0,Berechnung!$B$3,FALSE),0))","v":6.8300893484571227E-4},{"$f":"IF(AND($A49>=0,Berechnung!$B$3=0),1,IF(Berechnung!$B$3<>0,_xlfn.NORM.DIST($A49,0,Berechnung!$B$3,TRUE),0))","v":0.99806697173001813},{"$f":"IF(AND($A49=0,Berechnung!$B$4=0),1,IF(Berechnung!$B$4<>0,_xlfn.NORM.DIST($A49,0,Berechnung!$B$4,FALSE),0))","v":6.8300893484571227E-4},{"$f":"IF(AND($A49>=0,Berechnung!$B$4=0),1,IF(Berechnung!$B$4<>0,_xlfn.NORM.DIST($A49,0,Berechnung!$B$4,TRUE),0))","v":0.99806697173001813},{"$f":"IF(AND($A49=0,Berechnung!$B$5=0),1,IF(Berechnung!$B$5<>0,_xlfn.NORM.DIST($A49,0,Berechnung!$B$5,FALSE),0))","v":5.5918836758518543E-3},{"$f":"IF(AND($A49>=0,Berechnung!$B$5=0),1,IF(Berechnung!$B$5<>0,_xlfn.NORM.DIST($A49,0,Berechnung!$B$5,TRUE),0))","v":0.96258383413697568},{"$f":"IF(AND($A49=0,Berechnung!$B$6=0),1,IF(Berechnung!$B$6<>0,_xlfn.NORM.DIST($A49,0,Berechnung!$B$6,FALSE),0))","v":5.5941657403024503E-3},{"$f":"IF(AND($A49>=0,Berechnung!$B$6=0),1,IF(Berechnung!$B$6<>0,_xlfn.NORM.DIST($A49,0,Berechnung!$B$6,TRUE),0))","v":0.96255653059870816},{"$f":"IF(AND($A49=0,Berechnung!$B$7=0),1,IF(Berechnung!$B$7<>0,_xlfn.NORM.DIST($A49,0,Berechnung!$B$7,FALSE),0))","v":6.8300893484571227E-4},{"$f":"IF(AND($A49>=0,Berechnung!$B$7=0),1,IF(Berechnung!$B$7<>0,_xlfn.NORM.DIST($A49,0,Berechnung!$B$7,TRUE),0))","v":0.99806697173001813},{"$f":"IF(AND($A49=0,Berechnung!$B$8=0),1,IF(Berechnung!$B$8<>0,_xlfn.NORM.DIST($A49,0,Berechnung!$B$8,FALSE),0))","v":6.8300893484571227E-4},{"$f":"IF(AND($A49>=0,Berechnung!$B$8=0),1,IF(Berechnung!$B$8<>0,_xlfn.NORM.DIST($A49,0,Berechnung!$B$8,TRUE),0))","v":0.99806697173001813},{"$f":"IF(AND($A49=0,Berechnung!$B$9=0),1,IF(Berechnung!$B$9<>0,_xlfn.NORM.DIST($A49,0,Berechnung!$B$9,FALSE),0))","v":1.6550270485889218E-3},{"$f":"IF(AND($A49>=0,Berechnung!$B$9=0),1,IF(Berechnung!$B$9<>0,_xlfn.NORM.DIST($A49,0,Berechnung!$B$9,TRUE),0))","v":0.99394020469878974},{"$f":"IF(AND($A49=0,Berechnung!$B$10=0),1,IF(Berechnung!$B$10<>0,_xlfn.NORM.DIST($A49,0,Berechnung!$B$10,FALSE),0))","v":2.658195920324331E-3},{"$f":"IF(AND($A49>=0,Berechnung!$B$10=0),1,IF(Berechnung!$B$10<>0,_xlfn.NORM.DIST($A49,0,Berechnung!$B$10,TRUE),0))","v":0.98833637948143693},{"$f":"IF(AND($A49=0,Berechnung!$B$11=0),1,IF(Berechnung!$B$11<>0,_xlfn.NORM.DIST($A49,0,Berechnung!$B$11,FALSE),0))","v":0},{"$f":"IF(AND($A49>=0,Berechnung!$B$11=0),1,IF(Berechnung!$B$11<>0,_xlfn.NORM.DIST($A49,0,Berechnung!$B$11,TRUE),0))","v":1},{"$f":"Demonstrator!$J$19*'Daten Diagramm'!H49+Demonstrator!$J$24*'Daten Diagramm'!L49","v":1.6652402959370597E-3},{"$f":"Demonstrator!$J$19*'Daten Diagramm'!I49+Demonstrator!$J$24*'Daten Diagramm'!M49","v":0.99096488350375611}]
[27,{"$f":"IF(AND(A50=0,Berechnung!$B$3=0),1,IF(Berechnung!$B$3<>0,_xlfn.NORM.DIST(A50,0,Berechnung!$B$3,FALSE),0))","v":4.9242760132644527E-4},{"$f":"IF(AND($A50>=0,Berechnung!$B$3=0),1,IF(Berechnung!$B$3<>0,_xlfn.NORM.DIST($A50,0,Berechnung!$B$3,TRUE),0))","v":0.9986501019683699},{"$f":"IF(AND($A50=0,Berechnung!$B$4=0),1,IF(Berechnung!$B$4<>0,_xlfn.NORM.DIST($A50,0,Berechnung!$B$4,FALSE),0))","v":4.9242760132644527E-4},{"$f":"IF(AND($A50>=0,Berechnung!$B$4=0),1,IF(Berechnung!$B$4<>0,_xlfn.NORM.DIST($A50,0,Berechnung!$B$4,TRUE),0))","v":0.9986501019683699},{"$f":"IF(AND($A50=0,Berechnung!$B$5=0),1,IF(Berechnung!$B$5<>0,_xlfn.NORM.DIST($A50,0,Berechnung!$B$5,FALSE),0))","v":4.9377168946309231E-3},{"$f":"IF(AND($A50>=0,Berechnung!$B$5=0),1,IF(Berechnung!$B$5<>0,_xlfn.NORM.DIST($A50,0,Berechnung!$B$5,TRUE),0))","v":0.96784391100620026},{"$f":"IF(AND($A50=0,Berechnung!$B$6=0),1,IF(Berechnung!$B$6<>0,_xlfn.NORM.DIST($A50,0,Berechnung!$B$6,FALSE),0))","v":4.9399627338990205E-3},{"$f":"IF(AND($A50>=0,Berechnung!$B$6=0),1,IF(Berechnung!$B$6<>0,_xlfn.NORM.DIST($A50,0,Berechnung!$B$6,TRUE),0))","v":0.96781887370298303},{"$f":"IF(AND($A50=0,Berechnung!$B$7=0),1,IF(Berechnung!$B$7<>0,_xlfn.NORM.DIST($A50,0,Berechnung!$B$7,FALSE),0))","v":4.9242760132644527E-4},{"$f":"IF(AND($A50>=0,Berechnung!$B$7=0),1,IF(Berechnung!$B$7<>0,_xlfn.NORM.DIST($A50,0,Berechnung!$B$7,TRUE),0))","v":0.9986501019683699},{"$f":"IF(AND($A50=0,Berechnung!$B$8=0),1,IF(Berechnung!$B$8<>0,_xlfn.NORM.DIST($A50,0,Berechnung!$B$8,FALSE),0))","v":4.9242760132644527E-4},{"$f":"IF(AND($A50>=0,Berechnung!$B$8=0),1,IF(Berechnung!$B$8<>0,_xlfn.NORM.DIST($A50,0,Berechnung!$B$8,TRUE),0))","v":0.9986501019683699},{"$f":"IF(AND($A50=0,Berechnung!$B$9=0),1,IF(Berechnung!$B$9<>0,_xlfn.NORM.DIST($A50,0,Berechnung!$B$9,FALSE),0))","v":1.2931911853275519E-3},{"$f":"IF(AND($A50>=0,Berechnung!$B$9=0),1,IF(Berechnung!$B$9<>0,_xlfn.NORM.DIST($A50,0,Berechnung!$B$9,TRUE),0))","v":0.99540801970083459},{"$f":"IF(AND($A50=0,Berechnung!$B$10=0),1,IF(Berechnung!$B$10<>0,_xlfn.NORM.DIST($A50,0,Berechnung!$B$10,FALSE),0))","v":2.1727593382829214E-3},{"$f":"IF(AND($A50>=0,Berechnung!$B$10=0),1,IF(Berechnung!$B$10<>0,_xlfn.NORM.DIST($A50,0,Berechnung!$B$10,TRUE),0))","v":0.99074523136466863},{"$f":"IF(AND($A50=0,Berechnung!$B$11=0),1,IF(Berechnung!$B$11<>0,_xlfn.NORM.DIST($A50,0,Berechnung!$B$11,FALSE),0))","v":0},{"$f":"IF(AND($A50>=0,Berechnung!$B$11=0),1,IF(Berechnung!$B$11<>0,_xlfn.NORM.DIST($A50,0,Berechnung!$B$11,TRUE),0))","v":1},{"$f":"Demonstrator!$J$19*'Daten Diagramm'!H50+Demonstrator!$J$24*'Daten Diagramm'!L50","v":1.3819346278409602E-3},{"$f":"Demonstrator!$J$19*'Daten Diagramm'!I50+Demonstrator!$J$24*'Daten Diagramm'!M50","v":0.99248385631529246}]
[28,{"$f":"IF(AND(A51=0,Berechnung!$B$3=0),1,IF(Berechnung!$B$3<>0,_xlfn.NORM.DIST(A51,0,Berechnung!$B$3,FALSE),0))","v":3.5066847960200492E-4},{"$f":"IF(AND($A51>=0,Berechnung!$B$3=0),1,IF(Berechnung!$B$3<>0,_xlfn.NORM.DIST($A51,0,Berechnung!$B$3,TRUE),0))","v":0.99906807603248504},{"$f":"IF(AND($A51=0,Berechnung!$B$4=0),1,IF(Berechnung!$B$4<>0,_xlfn.NORM.DIST($A51,0,Berechnung!$B$4,FALSE),0))","v":3.5066847960200492E-4},{"$f":"IF(AND($A51>=0,Berechnung!$B$4=0),1,IF(Berechnung!$B$4<>0,_xlfn.NORM.DIST($A51,0,Berechnung!$B$4,TRUE),0))","v":0.99906807603248504},{"$f":"IF(AND($A51=0,Berechnung!$B$5=0),1,IF(Berechnung!$B$5<>0,_xlfn.NORM.DIST($A51,0,Berechnung!$B$5,FALSE),0))","v":4.3396559729649885E-3},{"$f":"IF(AND($A51>=0,Berechnung!$B$5=0),1,IF(Berechnung!$B$5<>0,_xlfn.NORM.DIST($A51,0,Berechnung!$B$5,TRUE),0))","v":0.972477976918241},{"$f":"IF(AND($A51=0,Berechnung!$B$6=0),1,IF(Berechnung!$B$6<>0,_xlfn.NORM.DIST($A51,0,Berechnung!$B$6,FALSE),0))","v":4.3418402512245755E-3},{"$f":"IF(AND($A51>=0,Berechnung!$B$6=0),1,IF(Berechnung!$B$6<>0,_xlfn.NORM.DIST($A51,0,Berechnung!$B$6,TRUE),0))","v":0.97245515661245241},{"$f":"IF(AND($A51=0,Berechnung!$B$7=0),1,IF(Berechnung!$B$7<>0,_xlfn.NORM.DIST($A51,0,Berechnung!$B$7,FALSE),0))","v":3.5066847960200492E-4},{"$f":"IF(AND($A51>=0,Berechnung!$B$7=0),1,IF(Berechnung!$B$7<>0,_xlfn.NORM.DIST($A51,0,Berechnung!$B$7,TRUE),0))","v":0.99906807603248504},{"$f":"IF(AND($A51=0,Berechnung!$B$8=0),1,IF(Berechnung!$B$8<>0,_xlfn.NORM.DIST($A51,0,Berechnung!$B$8,FALSE),0))","v":3.5066847960200492E-4},{"$f":"IF(AND($A51>=0,Berechnung!$B$8=0),1,IF(Berechnung!$B$8<>0,_xlfn.NORM.DIST($A51,0,Berechnung!$B$8,TRUE),0))","v":0.99906807603248504},{"$f":"IF(AND($A51=0,Berechnung!$B$9=0),1,IF(Berechnung!$B$9<>0,_xlfn.NORM.DIST($A51,0,Berechnung!$B$9,FALSE),0))","v":1.0010995531020866E-3},{"$f":"IF(AND($A51>=0,Berechnung!$B$9=0),1,IF(Berechnung!$B$9<>0,_xlfn.NORM.DIST($A51,0,Berechnung!$B$9,TRUE),0))","v":0.99654982481008969},{"$f":"IF(AND($A51=0,Berechnung!$B$10=0),1,IF(Berechnung!$B$10<>0,_xlfn.NORM.DIST($A51,0,Berechnung!$B$10,FALSE),0))","v":1.7625097678097793E-3},{"$f":"IF(AND($A51>=0,Berechnung!$B$10=0),1,IF(Berechnung!$B$10<>0,_xlfn.NORM.DIST($A51,0,Berechnung!$B$10,TRUE),0))","v":0.99270695984066926},{"$f":"IF(AND($A51=0,Berechnung!$B$11=0),1,IF(Berechnung!$B$11<>0,_xlfn.NORM.DIST($A51,0,Berechnung!$B$11,FALSE),0))","v":0},{"$f":"IF(AND($A51>=0,Berechnung!$B$11=0),1,IF(Berechnung!$B$11<>0,_xlfn.NORM.DIST($A51,0,Berechnung!$B$11,TRUE),0))","v":1},{"$f":"Demonstrator!$J$19*'Daten Diagramm'!H51+Demonstrator!$J$24*'Daten Diagramm'!L51","v":1.1489028339265188E-3},{"$f":"Demonstrator!$J$19*'Daten Diagramm'!I51+Demonstrator!$J$24*'Daten Diagramm'!M51","v":0.99374549214847852}]
[29,{"$f":"IF(AND(A52=0,Berechnung!$B$3=0),1,IF(Berechnung!$B$3<>0,_xlfn.NORM.DIST(A52,0,Berechnung!$B$3,FALSE),0))","v":2.4665470983961115E-4},{"$f":"IF(AND($A52>=0,Berechnung!$B$3=0),1,IF(Berechnung!$B$3<>0,_xlfn.NORM.DIST($A52,0,Berechnung!$B$3,TRUE),0))","v":0.9993639978103811},{"$f":"IF(AND($A52=0,Berechnung!$B$4=0),1,IF(Berechnung!$B$4<>0,_xlfn.NORM.DIST($A52,0,Berechnung!$B$4,FALSE),0))","v":2.4665470983961115E-4},{"$f":"IF(AND($A52>=0,Berechnung!$B$4=0),1,IF(Berechnung!$B$4<>0,_xlfn.NORM.DIST($A52,0,Berechnung!$B$4,TRUE),0))","v":0.9993639978103811},{"$f":"IF(AND($A52=0,Berechnung!$B$5=0),1,IF(Berechnung!$B$5<>0,_xlfn.NORM.DIST($A52,0,Berechnung!$B$5,FALSE),0))","v":3.7961684642173507E-3},{"$f":"IF(AND($A52>=0,Berechnung!$B$5=0),1,IF(Berechnung!$B$5<>0,_xlfn.NORM.DIST($A52,0,Berechnung!$B$5,TRUE),0))","v":0.97654141997471378},{"$f":"IF(AND($A52=0,Berechnung!$B$6=0),1,IF(Berechnung!$B$6<>0,_xlfn.NORM.DIST($A52,0,Berechnung!$B$6,FALSE),0))","v":3.7982699930089775E-3},{"$f":"IF(AND($A52>=0,Berechnung!$B$6=0),1,IF(Berechnung!$B$6<>0,_xlfn.NORM.DIST($A52,0,Berechnung!$B$6,TRUE),0))","v":0.97652074416572632},{"$f":"IF(AND($A52=0,Berechnung!$B$7=0),1,IF(Berechnung!$B$7<>0,_xlfn.NORM.DIST($A52,0,Berechnung!$B$7,FALSE),0))","v":2.4665470983961115E-4},{"$f":"IF(AND($A52>=0,Berechnung!$B$7=0),1,IF(Berechnung!$B$7<>0,_xlfn.NORM.DIST($A52,0,Berechnung!$B$7,TRUE),0))","v":0.9993639978103811},{"$f":"IF(AND($A52=0,Berechnung!$B$8=0),1,IF(Berechnung!$B$8<>0,_xlfn.NORM.DIST($A52,0,Berechnung!$B$8,FALSE),0))","v":2.4665470983961115E-4},{"$f":"IF(AND($A52>=0,Berechnung!$B$8=0),1,IF(Berechnung!$B$8<>0,_xlfn.NORM.DIST($A52,0,Berechnung!$B$8,TRUE),0))","v":0.9993639978103811},{"$f":"IF(AND($A52=0,Berechnung!$B$9=0),1,IF(Berechnung!$B$9<>0,_xlfn.NORM.DIST($A52,0,Berechnung!$B$9,FALSE),0))","v":7.678010317347867E-4},{"$f":"IF(AND($A52>=0,Berechnung!$B$9=0),1,IF(Berechnung!$B$9<>0,_xlfn.NORM.DIST($A52,0,Berechnung!$B$9,TRUE),0))","v":0.99742980452166863},{"$f":"IF(AND($A52=0,Berechnung!$B$10=0),1,IF(Berechnung!$B$10<>0,_xlfn.NORM.DIST($A52,0,Berechnung!$B$10,FALSE),0))","v":1.4188834048418583E-3},{"$f":"IF(AND($A52>=0,Berechnung!$B$10=0),1,IF(Berechnung!$B$10<>0,_xlfn.NORM.DIST($A52,0,Berechnung!$B$10,TRUE),0))","v":0.99429245549366874},{"$f":"IF(AND($A52=0,Berechnung!$B$11=0),1,IF(Berechnung!$B$11<>0,_xlfn.NORM.DIST($A52,0,Berechnung!$B$11,FALSE),0))","v":0},{"$f":"IF(AND($A52>=0,Berechnung!$B$11=0),1,IF(Berechnung!$B$11<>0,_xlfn.NORM.DIST($A52,0,Berechnung!$B$11,TRUE),0))","v":1},{"$f":"Demonstrator!$J$19*'Daten Diagramm'!H52+Demonstrator!$J$24*'Daten Diagramm'!L52","v":9.5697776647348421E-4},{"$f":"Demonstrator!$J$19*'Daten Diagramm'!I52+Demonstrator!$J$24*'Daten Diagramm'!M52","v":0.99479534708145012}]
[30,{"$f":"IF(AND(A53=0,Berechnung!$B$3=0),1,IF(Berechnung!$B$3<>0,_xlfn.NORM.DIST(A53,0,Berechnung!$B$3,FALSE),0))","v":1.7136433292123392E-4},{"$f":"IF(AND($A53>=0,Berechnung!$B$3=0),1,IF(Berechnung!$B$3<>0,_xlfn.NORM.DIST($A53,0,Berechnung!$B$3,TRUE),0))","v":0.99957093966680322},{"$f":"IF(AND($A53=0,Berechnung!$B$4=0),1,IF(Berechnung!$B$4<>0,_xlfn.NORM.DIST($A53,0,Berechnung!$B$4,FALSE),0))","v":1.7136433292123392E-4},{"$f":"IF(AND($A53>=0,Berechnung!$B$4=0),1,IF(Berechnung!$B$4<>0,_xlfn.NORM.DIST($A53,0,Berechnung!$B$4,TRUE),0))","v":0.99957093966680322},{"$f":"IF(AND($A53=0,Berechnung!$B$5=0),1,IF(Berechnung!$B$5<>0,_xlfn.NORM.DIST($A53,0,Berechnung!$B$5,FALSE),0))","v":3.3051921360786451E-3},{"$f":"IF(AND($A53>=0,Berechnung!$B$5=0),1,IF(Berechnung!$B$5<>0,_xlfn.NORM.DIST($A53,0,Berechnung!$B$5,TRUE),0))","v":0.98008782231759461},{"$f":"IF(AND($A53=0,Berechnung!$B$6=0),1,IF(Berechnung!$B$6<>0,_xlfn.NORM.DIST($A53,0,Berechnung!$B$6,FALSE),0))","v":3.3071938284741764E-3},{"$f":"IF(AND($A53>=0,Berechnung!$B$6=0),1,IF(Berechnung!$B$6<>0,_xlfn.NORM.DIST($A53,0,Berechnung!$B$6,TRUE),0))","v":0.98006919937541181},{"$f":"IF(AND($A53=0,Berechnung!$B$7=0),1,IF(Berechnung!$B$7<>0,_xlfn.NORM.DIST($A53,0,Berechnung!$B$7,FALSE),0))","v":1.7136433292123392E-4},{"$f":"IF(AND($A53>=0,Berechnung!$B$7=0),1,IF(Berechnung!$B$7<>0,_xlfn.NORM.DIST($A53,0,Berechnung!$B$7,TRUE),0))","v":0.99957093966680322},{"$f":"IF(AND($A53=0,Berechnung!$B$8=0),1,IF(Berechnung!$B$8<>0,_xlfn.NORM.DIST($A53,0,Berechnung!$B$8,FALSE),0))","v":1.7136433292123392E-4},{"$f":"IF(AND($A53>=0,Berechnung!$B$8=0),1,IF(Berechnung!$B$8<>0,_xlfn.NORM.DIST($A53,0,Berechnung!$B$8,TRUE),0))","v":0.99957093966680322},{"$f":"IF(AND($A53=0,Berechnung!$B$9=0),1,IF(Berechnung!$B$9<>0,_xlfn.NORM.DIST($A53,0,Berechnung!$B$9,FALSE),0))","v":5.8341421595633342E-4},{"$f":"IF(AND($A53>=0,Berechnung!$B$9=0),1,IF(Berechnung!$B$9<>0,_xlfn.NORM.DIST($A53,0,Berechnung!$B$9,TRUE),0))","v":0.99810171800074632},{"$f":"IF(AND($A53=0,Berechnung!$B$10=0),1,IF(Berechnung!$B$10<>0,_xlfn.NORM.DIST($A53,0,Berechnung!$B$10,FALSE),0))","v":1.1335929997355258E-3},{"$f":"IF(AND($A53>=0,Berechnung!$B$10=0),1,IF(Berechnung!$B$10<>0,_xlfn.NORM.DIST($A53,0,Berechnung!$B$10,TRUE),0))","v":0.99556416692323846},{"$f":"IF(AND($A53=0,Berechnung!$B$11=0),1,IF(Berechnung!$B$11<>0,_xlfn.NORM.DIST($A53,0,Berechnung!$B$11,FALSE),0))","v":0},{"$f":"IF(AND($A53>=0,Berechnung!$B$11=0),1,IF(Berechnung!$B$11<>0,_xlfn.NORM.DIST($A53,0,Berechnung!$B$11,TRUE),0))","v":1},{"$f":"Demonstrator!$J$19*'Daten Diagramm'!H53+Demonstrator!$J$24*'Daten Diagramm'!L53","v":7.9853023203182224E-4},{"$f":"Demonstrator!$J$19*'Daten Diagramm'!I53+Demonstrator!$J$24*'Daten Diagramm'!M53","v":0.99567059160852489}]
[31,{"$f":"IF(AND(A54=0,Berechnung!$B$3=0),1,IF(Berechnung!$B$3<>0,_xlfn.NORM.DIST(A54,0,Berechnung!$B$3,FALSE),0))","v":1.1759525452729527E-4},{"$f":"IF(AND($A54>=0,Berechnung!$B$3=0),1,IF(Berechnung!$B$3<>0,_xlfn.NORM.DIST($A54,0,Berechnung!$B$3,TRUE),0))","v":0.99971388289013052},{"$f":"IF(AND($A54=0,Berechnung!$B$4=0),1,IF(Berechnung!$B$4<>0,_xlfn.NORM.DIST($A54,0,Berechnung!$B$4,FALSE),0))","v":1.1759525452729527E-4},{"$f":"IF(AND($A54>=0,Berechnung!$B$4=0),1,IF(Berechnung!$B$4<>0,_xlfn.NORM.DIST($A54,0,Berechnung!$B$4,TRUE),0))","v":0.99971388289013052},{"$f":"IF(AND($A54=0,Berechnung!$B$5=0),1,IF(Berechnung!$B$5<>0,_xlfn.NORM.DIST($A54,0,Berechnung!$B$5,FALSE),0))","v":2.8642373472901141E-3},{"$f":"IF(AND($A54>=0,Berechnung!$B$5=0),1,IF(Berechnung!$B$5<>0,_xlfn.NORM.DIST($A54,0,Berechnung!$B$5,TRUE),0))","v":0.98316848173779559},{"$f":"IF(AND($A54=0,Berechnung!$B$6=0),1,IF(Berechnung!$B$6<>0,_xlfn.NORM.DIST($A54,0,Berechnung!$B$6,FALSE),0))","v":2.866126070119939E-3},{"$f":"IF(AND($A54>=0,Berechnung!$B$6=0),1,IF(Berechnung!$B$6<>0,_xlfn.NORM.DIST($A54,0,Berechnung!$B$6,TRUE),0))","v":0.98315180493848064},{"$f":"IF(AND($A54=0,Berechnung!$B$7=0),1,IF(Berechnung!$B$7<>0,_xlfn.NORM.DIST($A54,0,Berechnung!$B$7,FALSE),0))","v":1.1759525452729527E-4},{"$f":"IF(AND($A54>=0,Berechnung!$B$7=0),1,IF(Berechnung!$B$7<>0,_xlfn.NORM.DIST($A54,0,Berechnung!$B$7,TRUE),0))","v":0.99971388289013052},{"$f":"IF(AND($A54=0,Berechnung!$B$8=0),1,IF(Berechnung!$B$8<>0,_xlfn.NORM.DIST($A54,0,Berechnung!$B$8,FALSE),0))","v":1.1759525452729527E-4},{"$f":"IF(AND($A54>=0,Berechnung!$B$8=0),1,IF(Berechnung!$B$8<>0,_xlfn.NORM.DIST($A54,0,Berechnung!$B$8,TRUE),0))","v":0.99971388289013052},{"$f":"IF(AND($A54=0,Berechnung!$B$9=0),1,IF(Berechnung!$B$9<>0,_xlfn.NORM.DIST($A54,0,Berechnung!$B$9,FALSE),0))","v":4.3919988253606103E-4},{"$f":"IF(AND($A54>=0,Berechnung!$B$9=0),1,IF(Berechnung!$B$9<>0,_xlfn.NORM.DIST($A54,0,Berechnung!$B$9,TRUE),0))","v":0.99861001092426227},{"$f":"IF(AND($A54=0,Berechnung!$B$10=0),1,IF(Berechnung!$B$10<>0,_xlfn.NORM.DIST($A54,0,Berechnung!$B$10,FALSE),0))","v":8.9879960069740169E-4},{"$f":"IF(AND($A54>=0,Berechnung!$B$10=0),1,IF(Berechnung!$B$10<>0,_xlfn.NORM.DIST($A54,0,Berechnung!$B$10,TRUE),0))","v":0.99657646742614225},{"$f":"IF(AND($A54=0,Berechnung!$B$11=0),1,IF(Berechnung!$B$11<>0,_xlfn.NORM.DIST($A54,0,Berechnung!$B$11,FALSE),0))","v":0},{"$f":"IF(AND($A54>=0,Berechnung!$B$11=0),1,IF(Berechnung!$B$11<>0,_xlfn.NORM.DIST($A54,0,Berechnung!$B$11,TRUE),0))","v":1},{"$f":"Demonstrator!$J$19*'Daten Diagramm'!H54+Demonstrator!$J$24*'Daten Diagramm'!L54","v":6.6730141764582388E-4},{"$f":"Demonstrator!$J$19*'Daten Diagramm'!I54+Demonstrator!$J$24*'Daten Diagramm'!M54","v":0.9964014672998005}]
[32,{"$f":"IF(AND(A55=0,Berechnung!$B$3=0),1,IF(Berechnung!$B$3<>0,_xlfn.NORM.DIST(A55,0,Berechnung!$B$3,FALSE),0))","v":7.9707189846589635E-5},{"$f":"IF(AND($A55>=0,Berechnung!$B$3=0),1,IF(Berechnung!$B$3<>0,_xlfn.NORM.DIST($A55,0,Berechnung!$B$3,TRUE),0))","v":0.99981140938508084},{"$f":"IF(AND($A55=0,Berechnung!$B$4=0),1,IF(Berechnung!$B$4<>0,_xlfn.NORM.DIST($A55,0,Berechnung!$B$4,FALSE),0))","v":7.9707189846589635E-5},{"$f":"IF(AND($A55>=0,Berechnung!$B$4=0),1,IF(Berechnung!$B$4<>0,_xlfn.NORM.DIST($A55,0,Berechnung!$B$4,TRUE),0))","v":0.99981140938508084},{"$f":"IF(AND($A55=0,Berechnung!$B$5=0),1,IF(Berechnung!$B$5<>0,_xlfn.NORM.DIST($A55,0,Berechnung!$B$5,FALSE),0))","v":2.4704857577925632E-3},{"$f":"IF(AND($A55>=0,Berechnung!$B$5=0),1,IF(Berechnung!$B$5<>0,_xlfn.NORM.DIST($A55,0,Berechnung!$B$5,TRUE),0))","v":0.98583203402163289},{"$f":"IF(AND($A55=0,Berechnung!$B$6=0),1,IF(Berechnung!$B$6<>0,_xlfn.NORM.DIST($A55,0,Berechnung!$B$6,FALSE),0))","v":2.4722520994019141E-3},{"$f":"IF(AND($A55>=0,Berechnung!$B$6=0),1,IF(Berechnung!$B$6<>0,_xlfn.NORM.DIST($A55,0,Berechnung!$B$6,TRUE),0))","v":0.98581718539123275},{"$f":"IF(AND($A55=0,Berechnung!$B$7=0),1,IF(Berechnung!$B$7<>0,_xlfn.NORM.DIST($A55,0,Berechnung!$B$7,FALSE),0))","v":7.9707189846589635E-5},{"$f":"IF(AND($A55>=0,Berechnung!$B$7=0),1,IF(Berechnung!$B$7<>0,_xlfn.NORM.DIST($A55,0,Berechnung!$B$7,TRUE),0))","v":0.99981140938508084},{"$f":"IF(AND($A55=0,Berechnung!$B$8=0),1,IF(Berechnung!$B$8<>0,_xlfn.NORM.DIST($A55,0,Berechnung!$B$8,FALSE),0))","v":7.9707189846589635E-5},{"$f":"IF(AND($A55>=0,Berechnung!$B$8=0),1,IF(Berechnung!$B$8<>0,_xlfn.NORM.DIST($A55,0,Berechnung!$B$8,TRUE),0))","v":0.99981140938508084},{"$f":"IF(AND($A55=0,Berechnung!$B$9=0),1,IF(Berechnung!$B$9<>0,_xlfn.NORM.DIST($A55,0,Berechnung!$B$9,FALSE),0))","v":3.2757014680859106E-4},{"$f":"IF(AND($A55>=0,Berechnung!$B$9=0),1,IF(Berechnung!$B$9<>0,_xlfn.NORM.DIST($A55,0,Berechnung!$B$9,TRUE),0))","v":0.99899096689847644},{"$f":"IF(AND($A55=0,Berechnung!$B$10=0),1,IF(Berechnung!$B$10<>0,_xlfn.NORM.DIST($A55,0,Berechnung!$B$10,FALSE),0))","v":7.0723517994379821E-4},{"$f":"IF(AND($A55>=0,Berechnung!$B$10=0),1,IF(Berechnung!$B$10<>0,_xlfn.NORM.DIST($A55,0,Berechnung!$B$10,TRUE),0))","v":0.9973761685188719},{"$f":"IF(AND($A55=0,Berechnung!$B$11=0),1,IF(Berechnung!$B$11<>0,_xlfn.NORM.DIST($A55,0,Berechnung!$B$11,FALSE),0))","v":0},{"$f":"IF(AND($A55>=0,Berechnung!$B$11=0),1,IF(Berechnung!$B$11<>0,_xlfn.NORM.DIST($A55,0,Berechnung!$B$11,TRUE),0))","v":1},{"$f":"Demonstrator!$J$19*'Daten Diagramm'!H55+Demonstrator!$J$24*'Daten Diagramm'!L55","v":5.5821617175765448E-4},{"$f":"Demonstrator!$J$19*'Daten Diagramm'!I55+Demonstrator!$J$24*'Daten Diagramm'!M55","v":0.99701256458631127}]
[33,{"$f":"IF(AND(A56=0,Berechnung!$B$3=0),1,IF(Berechnung!$B$3<>0,_xlfn.NORM.DIST(A56,0,Berechnung!$B$3,FALSE),0))","v":5.3363405735646744E-5},{"$f":"IF(AND($A56>=0,Berechnung!$B$3=0),1,IF(Berechnung!$B$3<>0,_xlfn.NORM.DIST($A56,0,Berechnung!$B$3,TRUE),0))","v":0.99987713361003483},{"$f":"IF(AND($A56=0,Berechnung!$B$4=0),1,IF(Berechnung!$B$4<>0,_xlfn.NORM.DIST($A56,0,Berechnung!$B$4,FALSE),0))","v":5.3363405735646744E-5},{"$f":"IF(AND($A56>=0,Berechnung!$B$4=0),1,IF(Berechnung!$B$4<>0,_xlfn.NORM.DIST($A56,0,Berechnung!$B$4,TRUE),0))","v":0.99987713361003483},{"$f":"IF(AND($A56=0,Berechnung!$B$5=0),1,IF(Berechnung!$B$5<>0,_xlfn.NORM.DIST($A56,0,Berechnung!$B$5,FALSE),0))","v":2.1208832616148171E-3},{"$f":"IF(AND($A56>=0,Berechnung!$B$5=0),1,IF(Berechnung!$B$5<>0,_xlfn.NORM.DIST($A56,0,Berechnung!$B$5,TRUE),0))","v":0.98812417127594776},{"$f":"IF(AND($A56=0,Berechnung!$B$6=0),1,IF(Berechnung!$B$6<>0,_xlfn.NORM.DIST($A56,0,Berechnung!$B$6,FALSE),0))","v":2.1225212333074372E-3},{"$f":"IF(AND($A56>=0,Berechnung!$B$6=0),1,IF(Berechnung!$B$6<>0,_xlfn.NORM.DIST($A56,0,Berechnung!$B$6,TRUE),0))","v":0.98811102516749594},{"$f":"IF(AND($A56=0,Berechnung!$B$7=0),1,IF(Berechnung!$B$7<>0,_xlfn.NORM.DIST($A56,0,Berechnung!$B$7,FALSE),0))","v":5.3363405735646744E-5},{"$f":"IF(AND($A56>=0,Berechnung!$B$7=0),1,IF(Berechnung!$B$7<>0,_xlfn.NORM.DIST($A56,0,Berechnung!$B$7,TRUE),0))","v":0.99987713361003483},{"$f":"IF(AND($A56=0,Berechnung!$B$8=0),1,IF(Berechnung!$B$8<>0,_xlfn.NORM.DIST($A56,0,Berechnung!$B$8,FALSE),0))","v":5.3363405735646744E-5},{"$f":"IF(AND($A56>=0,Berechnung!$B$8=0),1,IF(Berechnung!$B$8<>0,_xlfn.NORM.DIST($A56,0,Berechnung!$B$8,TRUE),0))","v":0.99987713361003483},{"$f":"IF(AND($A56=0,Berechnung!$B$9=0),1,IF(Berechnung!$B$9<>0,_xlfn.NORM.DIST($A56,0,Berechnung!$B$9,FALSE),0))","v":2.4204900821343616E-4},{"$f":"IF(AND($A56>=0,Berechnung!$B$9=0),1,IF(Berechnung!$B$9<>0,_xlfn.NORM.DIST($A56,0,Berechnung!$B$9,TRUE),0))","v":0.99927384252451568},{"$f":"IF(AND($A56=0,Berechnung!$B$10=0),1,IF(Berechnung!$B$10<>0,_xlfn.NORM.DIST($A56,0,Berechnung!$B$10,FALSE),0))","v":5.5228100921333122E-4},{"$f":"IF(AND($A56>=0,Berechnung!$B$10=0),1,IF(Berechnung!$B$10<>0,_xlfn.NORM.DIST($A56,0,Berechnung!$B$10,TRUE),0))","v":0.99800313350077929},{"$f":"IF(AND($A56=0,Berechnung!$B$11=0),1,IF(Berechnung!$B$11<>0,_xlfn.NORM.DIST($A56,0,Berechnung!$B$11,FALSE),0))","v":0},{"$f":"IF(AND($A56>=0,Berechnung!$B$11=0),1,IF(Berechnung!$B$11<>0,_xlfn.NORM.DIST($A56,0,Berechnung!$B$11,TRUE),0))","v":1},{"$f":"Demonstrator!$J$19*'Daten Diagramm'!H56+Demonstrator!$J$24*'Daten Diagramm'!L56","v":4.6719497125000472E-4},{"$f":"Demonstrator!$J$19*'Daten Diagramm'!I56+Demonstrator!$J$24*'Daten Diagramm'!M56","v":0.99752391192152701}]
[34,{"$f":"IF(AND(A57=0,Berechnung!$B$3=0),1,IF(Berechnung!$B$3<>0,_xlfn.NORM.DIST(A57,0,Berechnung!$B$3,FALSE),0))","v":3.528807112250428E-5},{"$f":"IF(AND($A57>=0,Berechnung!$B$3=0),1,IF(Berechnung!$B$3<>0,_xlfn.NORM.DIST($A57,0,Berechnung!$B$3,TRUE),0))","v":0.99992088301395388},{"$f":"IF(AND($A57=0,Berechnung!$B$4=0),1,IF(Berechnung!$B$4<>0,_xlfn.NORM.DIST($A57,0,Berechnung!$B$4,FALSE),0))","v":3.528807112250428E-5},{"$f":"IF(AND($A57>=0,Berechnung!$B$4=0),1,IF(Berechnung!$B$4<>0,_xlfn.NORM.DIST($A57,0,Berechnung!$B$4,TRUE),0))","v":0.99992088301395388},{"$f":"IF(AND($A57=0,Berechnung!$B$5=0),1,IF(Berechnung!$B$5<>0,_xlfn.NORM.DIST($A57,0,Berechnung!$B$5,FALSE),0))","v":1.8122254845003821E-3},{"$f":"IF(AND($A57>=0,Berechnung!$B$5=0),1,IF(Berechnung!$B$5<>0,_xlfn.NORM.DIST($A57,0,Berechnung!$B$5,TRUE),0))","v":0.99008744958771722},{"$f":"IF(AND($A57=0,Berechnung!$B$6=0),1,IF(Berechnung!$B$6<>0,_xlfn.NORM.DIST($A57,0,Berechnung!$B$6,FALSE),0))","v":1.8137321737179289E-3},{"$f":"IF(AND($A57>=0,Berechnung!$B$6=0),1,IF(Berechnung!$B$6<>0,_xlfn.NORM.DIST($A57,0,Berechnung!$B$6,TRUE),0))","v":0.99007587593406876},{"$f":"IF(AND($A57=0,Berechnung!$B$7=0),1,IF(Berechnung!$B$7<>0,_xlfn.NORM.DIST($A57,0,Berechnung!$B$7,FALSE),0))","v":3.528807112250428E-5},{"$f":"IF(AND($A57>=0,Berechnung!$B$7=0),1,IF(Berechnung!$B$7<>0,_xlfn.NORM.DIST($A57,0,Berechnung!$B$7,TRUE),0))","v":0.99992088301395388},{"$f":"IF(AND($A57=0,Berechnung!$B$8=0),1,IF(Berechnung!$B$8<>0,_xlfn.NORM.DIST($A57,0,Berechnung!$B$8,FALSE),0))","v":3.528807112250428E-5},{"$f":"IF(AND($A57>=0,Berechnung!$B$8=0),1,IF(Berechnung!$B$8<>0,_xlfn.NORM.DIST($A57,0,Berechnung!$B$8,TRUE),0))","v":0.99992088301395388},{"$f":"IF(AND($A57=0,Berechnung!$B$9=0),1,IF(Berechnung!$B$9<>0,_xlfn.NORM.DIST($A57,0,Berechnung!$B$9,FALSE),0))","v":1.7719815336684095E-4},{"$f":"IF(AND($A57>=0,Berechnung!$B$9=0),1,IF(Berechnung!$B$9<>0,_xlfn.NORM.DIST($A57,0,Berechnung!$B$9,TRUE),0))","v":0.99948194453742045},{"$f":"IF(AND($A57=0,Berechnung!$B$10=0),1,IF(Berechnung!$B$10<>0,_xlfn.NORM.DIST($A57,0,Berechnung!$B$10,FALSE),0))","v":4.280077503947851E-4},{"$f":"IF(AND($A57>=0,Berechnung!$B$10=0),1,IF(Berechnung!$B$10<>0,_xlfn.NORM.DIST($A57,0,Berechnung!$B$10,TRUE),0))","v":0.99849094972234043},{"$f":"IF(AND($A57=0,Berechnung!$B$11=0),1,IF(Berechnung!$B$11<>0,_xlfn.NORM.DIST($A57,0,Berechnung!$B$11,FALSE),0))","v":0},{"$f":"IF(AND($A57>=0,Berechnung!$B$11=0),1,IF(Berechnung!$B$11<>0,_xlfn.NORM.DIST($A57,0,Berechnung!$B$11,TRUE),0))","v":1},{"$f":"Demonstrator!$J$19*'Daten Diagramm'!H57+Demonstrator!$J$24*'Daten Diagramm'!L57","v":3.9097689164158914E-4},{"$f":"Demonstrator!$J$19*'Daten Diagramm'!I57+Demonstrator!$J$24*'Daten Diagramm'!M57","v":0.99795188159797688}]
[35,{"$f":"IF(AND(A58=0,Berechnung!$B$3=0),1,IF(Berechnung!$B$3<>0,_xlfn.NORM.DIST(A58,0,Berechnung!$B$3,FALSE),0))","v":2.3048923196435629E-5},{"$f":"IF(AND($A58>=0,Berechnung!$B$3=0),1,IF(Berechnung!$B$3<>0,_xlfn.NORM.DIST($A58,0,Berechnung!$B$3,TRUE),0))","v":0.99994964789707319},{"$f":"IF(AND($A58=0,Berechnung!$B$4=0),1,IF(Berechnung!$B$4<>0,_xlfn.NORM.DIST($A58,0,Berechnung!$B$4,FALSE),0))","v":2.3048923196435629E-5},{"$f":"IF(AND($A58>=0,Berechnung!$B$4=0),1,IF(Berechnung!$B$4<>0,_xlfn.NORM.DIST($A58,0,Berechnung!$B$4,TRUE),0))","v":0.99994964789707319},{"$f":"IF(AND($A58=0,Berechnung!$B$5=0),1,IF(Berechnung!$B$5<>0,_xlfn.NORM.DIST($A58,0,Berechnung!$B$5,FALSE),0))","v":1.5412346383857729E-3},{"$f":"IF(AND($A58>=0,Berechnung!$B$5=0),1,IF(Berechnung!$B$5<>0,_xlfn.NORM.DIST($A58,0,Berechnung!$B$5,TRUE),0))","v":0.99176117794202312},{"$f":"IF(AND($A58=0,Berechnung!$B$6=0),1,IF(Berechnung!$B$6<>0,_xlfn.NORM.DIST($A58,0,Berechnung!$B$6,FALSE),0))","v":1.5426098308712547E-3},{"$f":"IF(AND($A58>=0,Berechnung!$B$6=0),1,IF(Berechnung!$B$6<>0,_xlfn.NORM.DIST($A58,0,Berechnung!$B$6,TRUE),0))","v":0.99175104514497237},{"$f":"IF(AND($A58=0,Berechnung!$B$7=0),1,IF(Berechnung!$B$7<>0,_xlfn.NORM.DIST($A58,0,Berechnung!$B$7,FALSE),0))","v":2.3048923196435629E-5},{"$f":"IF(AND($A58>=0,Berechnung!$B$7=0),1,IF(Berechnung!$B$7<>0,_xlfn.NORM.DIST($A58,0,Berechnung!$B$7,TRUE),0))","v":0.99994964789707319},{"$f":"IF(AND($A58=0,Berechnung!$B$8=0),1,IF(Berechnung!$B$8<>0,_xlfn.NORM.DIST($A58,0,Berechnung!$B$8,FALSE),0))","v":2.3048923196435629E-5},{"$f":"IF(AND($A58>=0,Berechnung!$B$8=0),1,IF(Berechnung!$B$8<>0,_xlfn.NORM.DIST($A58,0,Berechnung!$B$8,TRUE),0))","v":0.99994964789707319},{"$f":"IF(AND($A58=0,Berechnung!$B$9=0),1,IF(Berechnung!$B$9<>0,_xlfn.NORM.DIST($A58,0,Berechnung!$B$9,FALSE),0))","v":1.2852037021950002E-4},{"$f":"IF(AND($A58>=0,Berechnung!$B$9=0),1,IF(Berechnung!$B$9<>0,_xlfn.NORM.DIST($A58,0,Berechnung!$B$9,TRUE),0))","v":0.99963362060013106},{"$f":"IF(AND($A58=0,Berechnung!$B$10=0),1,IF(Berechnung!$B$10<>0,_xlfn.NORM.DIST($A58,0,Berechnung!$B$10,FALSE),0))","v":3.2918377871293434E-4},{"$f":"IF(AND($A58>=0,Berechnung!$B$10=0),1,IF(Berechnung!$B$10<>0,_xlfn.NORM.DIST($A58,0,Berechnung!$B$10,TRUE),0))","v":0.99886762450722344},{"$f":"IF(AND($A58=0,Berechnung!$B$11=0),1,IF(Berechnung!$B$11<>0,_xlfn.NORM.DIST($A58,0,Berechnung!$B$11,FALSE),0))","v":0},{"$f":"IF(AND($A58>=0,Berechnung!$B$11=0),1,IF(Berechnung!$B$11<>0,_xlfn.NORM.DIST($A58,0,Berechnung!$B$11,TRUE),0))","v":1},{"$f":"Demonstrator!$J$19*'Daten Diagramm'!H58+Demonstrator!$J$24*'Daten Diagramm'!L58","v":3.269611047313994E-4},{"$f":"Demonstrator!$J$19*'Daten Diagramm'!I58+Demonstrator!$J$24*'Daten Diagramm'!M58","v":0.99830992734665291}]
[36,{"$f":"IF(AND(A59=0,Berechnung!$B$3=0),1,IF(Berechnung!$B$3<>0,_xlfn.NORM.DIST(A59,0,Berechnung!$B$3,FALSE),0))","v":1.4870025084987264E-5},{"$f":"IF(AND($A59>=0,Berechnung!$B$3=0),1,IF(Berechnung!$B$3<>0,_xlfn.NORM.DIST($A59,0,Berechnung!$B$3,TRUE),0))","v":0.99996832875816688},{"$f":"IF(AND($A59=0,Berechnung!$B$4=0),1,IF(Berechnung!$B$4<>0,_xlfn.NORM.DIST($A59,0,Berechnung!$B$4,FALSE),0))","v":1.4870025084987264E-5},{"$f":"IF(AND($A59>=0,Berechnung!$B$4=0),1,IF(Berechnung!$B$4<>0,_xlfn.NORM.DIST($A59,0,Berechnung!$B$4,TRUE),0))","v":0.99996832875816688},{"$f":"IF(AND($A59=0,Berechnung!$B$5=0),1,IF(Berechnung!$B$5<>0,_xlfn.NORM.DIST($A59,0,Berechnung!$B$5,FALSE),0))","v":1.3046269551619508E-3},{"$f":"IF(AND($A59>=0,Berechnung!$B$5=0),1,IF(Berechnung!$B$5<>0,_xlfn.NORM.DIST($A59,0,Berechnung!$B$5,TRUE),0))","v":0.9931813793318105},{"$f":"IF(AND($A59=0,Berechnung!$B$6=0),1,IF(Berechnung!$B$6<>0,_xlfn.NORM.DIST($A59,0,Berechnung!$B$6,FALSE),0))","v":1.3058727419944182E-3},{"$f":"IF(AND($A59>=0,Berechnung!$B$6=0),1,IF(Berechnung!$B$6<>0,_xlfn.NORM.DIST($A59,0,Berechnung!$B$6,TRUE),0))","v":0.99317255676455296},{"$f":"IF(AND($A59=0,Berechnung!$B$7=0),1,IF(Berechnung!$B$7<>0,_xlfn.NORM.DIST($A59,0,Berechnung!$B$7,FALSE),0))","v":1.4870025084987264E-5},{"$f":"IF(AND($A59>=0,Berechnung!$B$7=0),1,IF(Berechnung!$B$7<>0,_xlfn.NORM.DIST($A59,0,Berechnung!$B$7,TRUE),0))","v":0.99996832875816688},{"$f":"IF(AND($A59=0,Berechnung!$B$8=0),1,IF(Berechnung!$B$8<>0,_xlfn.NORM.DIST($A59,0,Berechnung!$B$8,FALSE),0))","v":1.4870025084987264E-5},{"$f":"IF(AND($A59>=0,Berechnung!$B$8=0),1,IF(Berechnung!$B$8<>0,_xlfn.NORM.DIST($A59,0,Berechnung!$B$8,TRUE),0))","v":0.99996832875816688},{"$f":"IF(AND($A59=0,Berechnung!$B$9=0),1,IF(Berechnung!$B$9<>0,_xlfn.NORM.DIST($A59,0,Berechnung!$B$9,FALSE),0))","v":9.235100718570869E-5},{"$f":"IF(AND($A59>=0,Berechnung!$B$9=0),1,IF(Berechnung!$B$9<>0,_xlfn.NORM.DIST($A59,0,Berechnung!$B$9,TRUE),0))","v":0.99974314675056453},{"$f":"IF(AND($A59=0,Berechnung!$B$10=0),1,IF(Berechnung!$B$10<>0,_xlfn.NORM.DIST($A59,0,Berechnung!$B$10,FALSE),0))","v":2.5125834132146905E-4},{"$f":"IF(AND($A59>=0,Berechnung!$B$10=0),1,IF(Berechnung!$B$10<>0,_xlfn.NORM.DIST($A59,0,Berechnung!$B$10,TRUE),0))","v":0.99915627627200232},{"$f":"IF(AND($A59=0,Berechnung!$B$11=0),1,IF(Berechnung!$B$11<>0,_xlfn.NORM.DIST($A59,0,Berechnung!$B$11,FALSE),0))","v":0},{"$f":"IF(AND($A59>=0,Berechnung!$B$11=0),1,IF(Berechnung!$B$11<>0,_xlfn.NORM.DIST($A59,0,Berechnung!$B$11,TRUE),0))","v":1},{"$f":"Demonstrator!$J$19*'Daten Diagramm'!H59+Demonstrator!$J$24*'Daten Diagramm'!L59","v":2.7307056846687339E-4},{"$f":"Demonstrator!$J$19*'Daten Diagramm'!I59+Demonstrator!$J$24*'Daten Diagramm'!M59","v":0.99860917435944407}]
[37,{"$f":"IF(AND(A60=0,Berechnung!$B$3=0),1,IF(Berechnung!$B$3<>0,_xlfn.NORM.DIST(A60,0,Berechnung!$B$3,FALSE),0))","v":9.4756956090109083E-6},{"$f":"IF(AND($A60>=0,Berechnung!$B$3=0),1,IF(Berechnung!$B$3<>0,_xlfn.NORM.DIST($A60,0,Berechnung!$B$3,TRUE),0))","v":0.99998031201781845},{"$f":"IF(AND($A60=0,Berechnung!$B$4=0),1,IF(Berechnung!$B$4<>0,_xlfn.NORM.DIST($A60,0,Berechnung!$B$4,FALSE),0))","v":9.4756956090109083E-6},{"$f":"IF(AND($A60>=0,Berechnung!$B$4=0),1,IF(Berechnung!$B$4<>0,_xlfn.NORM.DIST($A60,0,Berechnung!$B$4,TRUE),0))","v":0.99998031201781845},{"$f":"IF(AND($A60=0,Berechnung!$B$5=0),1,IF(Berechnung!$B$5<>0,_xlfn.NORM.DIST($A60,0,Berechnung!$B$5,FALSE),0))","v":1.0991703186620625E-3},{"$f":"IF(AND($A60>=0,Berechnung!$B$5=0),1,IF(Berechnung!$B$5<>0,_xlfn.NORM.DIST($A60,0,Berechnung!$B$5,TRUE),0))","v":0.99438081441685844},{"$f":"IF(AND($A60=0,Berechnung!$B$6=0),1,IF(Berechnung!$B$6<>0,_xlfn.NORM.DIST($A60,0,Berechnung!$B$6,FALSE),0))","v":1.1002907022658569E-3},{"$f":"IF(AND($A60>=0,Berechnung!$B$6=0),1,IF(Berechnung!$B$6<>0,_xlfn.NORM.DIST($A60,0,Berechnung!$B$6,TRUE),0))","v":0.99437317453188245},{"$f":"IF(AND($A60=0,Berechnung!$B$7=0),1,IF(Berechnung!$B$7<>0,_xlfn.NORM.DIST($A60,0,Berechnung!$B$7,FALSE),0))","v":9.4756956090109083E-6},{"$f":"IF(AND($A60>=0,Berechnung!$B$7=0),1,IF(Berechnung!$B$7<>0,_xlfn.NORM.DIST($A60,0,Berechnung!$B$7,TRUE),0))","v":0.99998031201781845},{"$f":"IF(AND($A60=0,Berechnung!$B$8=0),1,IF(Berechnung!$B$8<>0,_xlfn.NORM.DIST($A60,0,Berechnung!$B$8,FALSE),0))","v":9.4756956090109083E-6},{"$f":"IF(AND($A60>=0,Berechnung!$B$8=0),1,IF(Berechnung!$B$8<>0,_xlfn.NORM.DIST($A60,0,Berechnung!$B$8,TRUE),0))","v":0.99998031201781845},{"$f":"IF(AND($A60=0,Berechnung!$B$9=0),1,IF(Berechnung!$B$9<>0,_xlfn.NORM.DIST($A60,0,Berechnung!$B$9,FALSE),0))","v":6.5745827606688938E-5},{"$f":"IF(AND($A60>=0,Berechnung!$B$9=0),1,IF(Berechnung!$B$9<>0,_xlfn.NORM.DIST($A60,0,Berechnung!$B$9,TRUE),0))","v":0.9998215038969368},{"$f":"IF(AND($A60=0,Berechnung!$B$10=0),1,IF(Berechnung!$B$10<>0,_xlfn.NORM.DIST($A60,0,Berechnung!$B$10,FALSE),0))","v":1.9032586841719994E-4},{"$f":"IF(AND($A60>=0,Berechnung!$B$10=0),1,IF(Berechnung!$B$10<>0,_xlfn.NORM.DIST($A60,0,Berechnung!$B$10,TRUE),0))","v":0.99937579887413253},{"$f":"IF(AND($A60=0,Berechnung!$B$11=0),1,IF(Berechnung!$B$11<>0,_xlfn.NORM.DIST($A60,0,Berechnung!$B$11,FALSE),0))","v":0},{"$f":"IF(AND($A60>=0,Berechnung!$B$11=0),1,IF(Berechnung!$B$11<>0,_xlfn.NORM.DIST($A60,0,Berechnung!$B$11,TRUE),0))","v":1},{"$f":"Demonstrator!$J$19*'Daten Diagramm'!H60+Demonstrator!$J$24*'Daten Diagramm'!L60","v":2.2763869694038006E-4},{"$f":"Demonstrator!$J$19*'Daten Diagramm'!I60+Demonstrator!$J$24*'Daten Diagramm'!M60","v":0.99885888452063132}]
[38,{"$f":"IF(AND(A61=0,Berechnung!$B$3=0),1,IF(Berechnung!$B$3<>0,_xlfn.NORM.DIST(A61,0,Berechnung!$B$3,FALSE),0))","v":5.9641538946995029E-6},{"$f":"IF(AND($A61>=0,Berechnung!$B$3=0),1,IF(Berechnung!$B$3<>0,_xlfn.NORM.DIST($A61,0,Berechnung!$B$3,TRUE),0))","v":0.99998790472840771},{"$f":"IF(AND($A61=0,Berechnung!$B$4=0),1,IF(Berechnung!$B$4<>0,_xlfn.NORM.DIST($A61,0,Berechnung!$B$4,FALSE),0))","v":5.9641538946995029E-6},{"$f":"IF(AND($A61>=0,Berechnung!$B$4=0),1,IF(Berechnung!$B$4<>0,_xlfn.NORM.DIST($A61,0,Berechnung!$B$4,TRUE),0))","v":0.99998790472840771},{"$f":"IF(AND($A61=0,Berechnung!$B$5=0),1,IF(Berechnung!$B$5<>0,_xlfn.NORM.DIST($A61,0,Berechnung!$B$5,FALSE),0))","v":9.2173206595044799E-4},{"$f":"IF(AND($A61>=0,Berechnung!$B$5=0),1,IF(Berechnung!$B$5<>0,_xlfn.NORM.DIST($A61,0,Berechnung!$B$5,TRUE),0))","v":0.99538905788844856},{"$f":"IF(AND($A61=0,Berechnung!$B$6=0),1,IF(Berechnung!$B$6<>0,_xlfn.NORM.DIST($A61,0,Berechnung!$B$6,FALSE),0))","v":9.2273257711360441E-4},{"$f":"IF(AND($A61>=0,Berechnung!$B$6=0),1,IF(Berechnung!$B$6<>0,_xlfn.NORM.DIST($A61,0,Berechnung!$B$6,TRUE),0))","v":0.99538247793602863},{"$f":"IF(AND($A61=0,Berechnung!$B$7=0),1,IF(Berechnung!$B$7<>0,_xlfn.NORM.DIST($A61,0,Berechnung!$B$7,FALSE),0))","v":5.9641538946995029E-6},{"$f":"IF(AND($A61>=0,Berechnung!$B$7=0),1,IF(Berechnung!$B$7<>0,_xlfn.NORM.DIST($A61,0,Berechnung!$B$7,TRUE),0))","v":0.99998790472840771},{"$f":"IF(AND($A61=0,Berechnung!$B$8=0),1,IF(Berechnung!$B$8<>0,_xlfn.NORM.DIST($A61,0,Berechnung!$B$8,FALSE),0))","v":5.9641538946995029E-6},{"$f":"IF(AND($A61>=0,Berechnung!$B$8=0),1,IF(Berechnung!$B$8<>0,_xlfn.NORM.DIST($A61,0,Berechnung!$B$8,TRUE),0))","v":0.99998790472840771},{"$f":"IF(AND($A61=0,Berechnung!$B$9=0),1,IF(Berechnung!$B$9<>0,_xlfn.NORM.DIST($A61,0,Berechnung!$B$9,FALSE),0))","v":4.6371553882566189E-5},{"$f":"IF(AND($A61>=0,Berechnung!$B$9=0),1,IF(Berechnung!$B$9<>0,_xlfn.NORM.DIST($A61,0,Berechnung!$B$9,TRUE),0))","v":0.99987704306996816},{"$f":"IF(AND($A61=0,Berechnung!$B$10=0),1,IF(Berechnung!$B$10<>0,_xlfn.NORM.DIST($A61,0,Berechnung!$B$10,FALSE),0))","v":1.4307719622825356E-4},{"$f":"IF(AND($A61>=0,Berechnung!$B$10=0),1,IF(Berechnung!$B$10<>0,_xlfn.NORM.DIST($A61,0,Berechnung!$B$10,TRUE),0))","v":0.99954148327563053},{"$f":"IF(AND($A61=0,Berechnung!$B$11=0),1,IF(Berechnung!$B$11<>0,_xlfn.NORM.DIST($A61,0,Berechnung!$B$11,FALSE),0))","v":0},{"$f":"IF(AND($A61>=0,Berechnung!$B$11=0),1,IF(Berechnung!$B$11<>0,_xlfn.NORM.DIST($A61,0,Berechnung!$B$11,TRUE),0))","v":1},{"$f":"Demonstrator!$J$19*'Daten Diagramm'!H61+Demonstrator!$J$24*'Daten Diagramm'!L61","v":1.8931783853848045E-4},{"$f":"Demonstrator!$J$19*'Daten Diagramm'!I61+Demonstrator!$J$24*'Daten Diagramm'!M61","v":0.99906681936993191}]
[39,{"$f":"IF(AND(A62=0,Berechnung!$B$3=0),1,IF(Berechnung!$B$3<>0,_xlfn.NORM.DIST(A62,0,Berechnung!$B$3,FALSE),0))","v":3.7078735995153803E-6},{"$f":"IF(AND($A62>=0,Berechnung!$B$3=0),1,IF(Berechnung!$B$3<>0,_xlfn.NORM.DIST($A62,0,Berechnung!$B$3,TRUE),0))","v":0.9999926565761631},{"$f":"IF(AND($A62=0,Berechnung!$B$4=0),1,IF(Berechnung!$B$4<>0,_xlfn.NORM.DIST($A62,0,Berechnung!$B$4,FALSE),0))","v":3.7078735995153803E-6},{"$f":"IF(AND($A62>=0,Berechnung!$B$4=0),1,IF(Berechnung!$B$4<>0,_xlfn.NORM.DIST($A62,0,Berechnung!$B$4,TRUE),0))","v":0.9999926565761631},{"$f":"IF(AND($A62=0,Berechnung!$B$5=0),1,IF(Berechnung!$B$5<>0,_xlfn.NORM.DIST($A62,0,Berechnung!$B$5,FALSE),0))","v":7.6931722961170199E-4},{"$f":"IF(AND($A62>=0,Berechnung!$B$5=0),1,IF(Berechnung!$B$5<>0,_xlfn.NORM.DIST($A62,0,Berechnung!$B$5,TRUE),0))","v":0.99623261782209915},{"$f":"IF(AND($A62=0,Berechnung!$B$6=0),1,IF(Berechnung!$B$6<>0,_xlfn.NORM.DIST($A62,0,Berechnung!$B$6,FALSE),0))","v":7.7020456532622434E-4},{"$f":"IF(AND($A62>=0,Berechnung!$B$6=0),1,IF(Berechnung!$B$6<>0,_xlfn.NORM.DIST($A62,0,Berechnung!$B$6,TRUE),0))","v":0.99622698119549591},{"$f":"IF(AND($A62=0,Berechnung!$B$7=0),1,IF(Berechnung!$B$7<>0,_xlfn.NORM.DIST($A62,0,Berechnung!$B$7,FALSE),0))","v":3.7078735995153803E-6},{"$f":"IF(AND($A62>=0,Berechnung!$B$7=0),1,IF(Berechnung!$B$7<>0,_xlfn.NORM.DIST($A62,0,Berechnung!$B$7,TRUE),0))","v":0.9999926565761631},{"$f":"IF(AND($A62=0,Berechnung!$B$8=0),1,IF(Berechnung!$B$8<>0,_xlfn.NORM.DIST($A62,0,Berechnung!$B$8,FALSE),0))","v":3.7078735995153803E-6},{"$f":"IF(AND($A62>=0,Berechnung!$B$8=0),1,IF(Berechnung!$B$8<>0,_xlfn.NORM.DIST($A62,0,Berechnung!$B$8,TRUE),0))","v":0.9999926565761631},{"$f":"IF(AND($A62=0,Berechnung!$B$9=0),1,IF(Berechnung!$B$9<>0,_xlfn.NORM.DIST($A62,0,Berechnung!$B$9,FALSE),0))","v":3.240350532737289E-5},{"$f":"IF(AND($A62>=0,Berechnung!$B$9=0),1,IF(Berechnung!$B$9<>0,_xlfn.NORM.DIST($A62,0,Berechnung!$B$9,TRUE),0))","v":0.9999160444716142},{"$f":"IF(AND($A62=0,Berechnung!$B$10=0),1,IF(Berechnung!$B$10<>0,_xlfn.NORM.DIST($A62,0,Berechnung!$B$10,FALSE),0))","v":1.0674272642231335E-4},{"$f":"IF(AND($A62>=0,Berechnung!$B$10=0),1,IF(Berechnung!$B$10<>0,_xlfn.NORM.DIST($A62,0,Berechnung!$B$10,TRUE),0))","v":0.99966558601287947},{"$f":"IF(AND($A62=0,Berechnung!$B$11=0),1,IF(Berechnung!$B$11<>0,_xlfn.NORM.DIST($A62,0,Berechnung!$B$11,FALSE),0))","v":0},{"$f":"IF(AND($A62>=0,Berechnung!$B$11=0),1,IF(Berechnung!$B$11<>0,_xlfn.NORM.DIST($A62,0,Berechnung!$B$11,TRUE),0))","v":1},{"$f":"Demonstrator!$J$19*'Daten Diagramm'!H62+Demonstrator!$J$24*'Daten Diagramm'!L62","v":1.5700721194485714E-4},{"$f":"Demonstrator!$J$19*'Daten Diagramm'!I62+Demonstrator!$J$24*'Daten Diagramm'!M62","v":0.99923952150002959}]
[40,{"$f":"IF(AND(A63=0,Berechnung!$B$3=0),1,IF(Berechnung!$B$3<>0,_xlfn.NORM.DIST(A63,0,Berechnung!$B$3,FALSE),0))","v":2.2768757940970579E-6},{"$f":"IF(AND($A63>=0,Berechnung!$B$3=0),1,IF(Berechnung!$B$3<>0,_xlfn.NORM.DIST($A63,0,Berechnung!$B$3,TRUE),0))","v":0.99999559403629745},{"$f":"IF(AND($A63=0,Berechnung!$B$4=0),1,IF(Berechnung!$B$4<>0,_xlfn.NORM.DIST($A63,0,Berechnung!$B$4,FALSE),0))","v":2.2768757940970579E-6},{"$f":"IF(AND($A63>=0,Berechnung!$B$4=0),1,IF(Berechnung!$B$4<>0,_xlfn.NORM.DIST($A63,0,Berechnung!$B$4,TRUE),0))","v":0.99999559403629745},{"$f":"IF(AND($A63=0,Berechnung!$B$5=0),1,IF(Berechnung!$B$5<>0,_xlfn.NORM.DIST($A63,0,Berechnung!$B$5,FALSE),0))","v":6.3909773800395692E-4},{"$f":"IF(AND($A63>=0,Berechnung!$B$5=0),1,IF(Berechnung!$B$5<>0,_xlfn.NORM.DIST($A63,0,Berechnung!$B$5,TRUE),0))","v":0.996935088699762},{"$f":"IF(AND($A63=0,Berechnung!$B$6=0),1,IF(Berechnung!$B$6<>0,_xlfn.NORM.DIST($A63,0,Berechnung!$B$6,FALSE),0))","v":6.3987942768441825E-4},{"$f":"IF(AND($A63>=0,Berechnung!$B$6=0),1,IF(Berechnung!$B$6<>0,_xlfn.NORM.DIST($A63,0,Berechnung!$B$6,TRUE),0))","v":0.99693028593191413},{"$f":"IF(AND($A63=0,Berechnung!$B$7=0),1,IF(Berechnung!$B$7<>0,_xlfn.NORM.DIST($A63,0,Berechnung!$B$7,FALSE),0))","v":2.2768757940970579E-6},{"$f":"IF(AND($A63>=0,Berechnung!$B$7=0),1,IF(Berechnung!$B$7<>0,_xlfn.NORM.DIST($A63,0,Berechnung!$B$7,TRUE),0))","v":0.99999559403629745},{"$f":"IF(AND($A63=0,Berechnung!$B$8=0),1,IF(Berechnung!$B$8<>0,_xlfn.NORM.DIST($A63,0,Berechnung!$B$8,FALSE),0))","v":2.2768757940970579E-6},{"$f":"IF(AND($A63>=0,Berechnung!$B$8=0),1,IF(Berechnung!$B$8<>0,_xlfn.NORM.DIST($A63,0,Berechnung!$B$8,TRUE),0))","v":0.99999559403629745},{"$f":"IF(AND($A63=0,Berechnung!$B$9=0),1,IF(Berechnung!$B$9<>0,_xlfn.NORM.DIST($A63,0,Berechnung!$B$9,FALSE),0))","v":2.2433096791382072E-5},{"$f":"IF(AND($A63>=0,Berechnung!$B$9=0),1,IF(Berechnung!$B$9<>0,_xlfn.NORM.DIST($A63,0,Berechnung!$B$9,TRUE),0))","v":0.99994317892198803},{"$f":"IF(AND($A63=0,Berechnung!$B$10=0),1,IF(Berechnung!$B$10<>0,_xlfn.NORM.DIST($A63,0,Berechnung!$B$10,FALSE),0))","v":7.903171950313262E-5},{"$f":"IF(AND($A63>=0,Berechnung!$B$10=0),1,IF(Berechnung!$B$10<>0,_xlfn.NORM.DIST($A63,0,Berechnung!$B$10,TRUE),0))","v":0.99975783857852962},{"$f":"IF(AND($A63=0,Berechnung!$B$11=0),1,IF(Berechnung!$B$11<>0,_xlfn.NORM.DIST($A63,0,Berechnung!$B$11,FALSE),0))","v":0},{"$f":"IF(AND($A63>=0,Berechnung!$B$11=0),1,IF(Berechnung!$B$11<>0,_xlfn.NORM.DIST($A63,0,Berechnung!$B$11,TRUE),0))","v":1},{"$f":"Demonstrator!$J$19*'Daten Diagramm'!H63+Demonstrator!$J$24*'Daten Diagramm'!L63","v":1.2979738617216127E-4},{"$f":"Demonstrator!$J$19*'Daten Diagramm'!I63+Demonstrator!$J$24*'Daten Diagramm'!M63","v":0.99938253241542085}]
[41,{"$f":"IF(AND(A64=0,Berechnung!$B$3=0),1,IF(Berechnung!$B$3<>0,_xlfn.NORM.DIST(A64,0,Berechnung!$B$3,FALSE),0))","v":1.3809949774774171E-6},{"$f":"IF(AND($A64>=0,Berechnung!$B$3=0),1,IF(Berechnung!$B$3<>0,_xlfn.NORM.DIST($A64,0,Berechnung!$B$3,TRUE),0))","v":0.99999738763480317},{"$f":"IF(AND($A64=0,Berechnung!$B$4=0),1,IF(Berechnung!$B$4<>0,_xlfn.NORM.DIST($A64,0,Berechnung!$B$4,FALSE),0))","v":1.3809949774774171E-6},{"$f":"IF(AND($A64>=0,Berechnung!$B$4=0),1,IF(Berechnung!$B$4<>0,_xlfn.NORM.DIST($A64,0,Berechnung!$B$4,TRUE),0))","v":0.99999738763480317},{"$f":"IF(AND($A64=0,Berechnung!$B$5=0),1,IF(Berechnung!$B$5<>0,_xlfn.NORM.DIST($A64,0,Berechnung!$B$5,FALSE),0))","v":5.2843327946085509E-4},{"$f":"IF(AND($A64>=0,Berechnung!$B$5=0),1,IF(Berechnung!$B$5<>0,_xlfn.NORM.DIST($A64,0,Berechnung!$B$5,TRUE),0))","v":0.99751732939900029},{"$f":"IF(AND($A64=0,Berechnung!$B$6=0),1,IF(Berechnung!$B$6<>0,_xlfn.NORM.DIST($A64,0,Berechnung!$B$6,FALSE),0))","v":5.2911738490914835E-4},{"$f":"IF(AND($A64>=0,Berechnung!$B$6=0),1,IF(Berechnung!$B$6<>0,_xlfn.NORM.DIST($A64,0,Berechnung!$B$6,TRUE),0))","v":0.99751325884194886},{"$f":"IF(AND($A64=0,Berechnung!$B$7=0),1,IF(Berechnung!$B$7<>0,_xlfn.NORM.DIST($A64,0,Berechnung!$B$7,FALSE),0))","v":1.3809949774774171E-6},{"$f":"IF(AND($A64>=0,Berechnung!$B$7=0),1,IF(Berechnung!$B$7<>0,_xlfn.NORM.DIST($A64,0,Berechnung!$B$7,TRUE),0))","v":0.99999738763480317},{"$f":"IF(AND($A64=0,Berechnung!$B$8=0),1,IF(Berechnung!$B$8<>0,_xlfn.NORM.DIST($A64,0,Berechnung!$B$8,FALSE),0))","v":1.3809949774774171E-6},{"$f":"IF(AND($A64>=0,Berechnung!$B$8=0),1,IF(Berechnung!$B$8<>0,_xlfn.NORM.DIST($A64,0,Berechnung!$B$8,TRUE),0))","v":0.99999738763480317},{"$f":"IF(AND($A64=0,Berechnung!$B$9=0),1,IF(Berechnung!$B$9<>0,_xlfn.NORM.DIST($A64,0,Berechnung!$B$9,FALSE),0))","v":1.5386624626726581E-5},{"$f":"IF(AND($A64>=0,Berechnung!$B$9=0),1,IF(Berechnung!$B$9<>0,_xlfn.NORM.DIST($A64,0,Berechnung!$B$9,TRUE),0))","v":0.99996188237744421},{"$f":"IF(AND($A64=0,Berechnung!$B$10=0),1,IF(Berechnung!$B$10<>0,_xlfn.NORM.DIST($A64,0,Berechnung!$B$10,FALSE),0))","v":5.8071071577818542E-5},{"$f":"IF(AND($A64>=0,Berechnung!$B$10=0),1,IF(Berechnung!$B$10<>0,_xlfn.NORM.DIST($A64,0,Berechnung!$B$10,TRUE),0))","v":0.99982589559415858},{"$f":"IF(AND($A64=0,Berechnung!$B$11=0),1,IF(Berechnung!$B$11<>0,_xlfn.NORM.DIST($A64,0,Berechnung!$B$11,FALSE),0))","v":0},{"$f":"IF(AND($A64>=0,Berechnung!$B$11=0),1,IF(Berechnung!$B$11<>0,_xlfn.NORM.DIST($A64,0,Berechnung!$B$11,TRUE),0))","v":1},{"$f":"Demonstrator!$J$19*'Daten Diagramm'!H64+Demonstrator!$J$24*'Daten Diagramm'!L64","v":1.0692827296381158E-4},{"$f":"Demonstrator!$J$19*'Daten Diagramm'!I64+Demonstrator!$J$24*'Daten Diagramm'!M64","v":0.99950056187623226}]
[42,{"$f":"IF(AND(A65=0,Berechnung!$B$3=0),1,IF(Berechnung!$B$3<>0,_xlfn.NORM.DIST(A65,0,Berechnung!$B$3,FALSE),0))","v":8.2733843006999898E-7},{"$f":"IF(AND($A65>=0,Berechnung!$B$3=0),1,IF(Berechnung!$B$3<>0,_xlfn.NORM.DIST($A65,0,Berechnung!$B$3,TRUE),0))","v":0.99999846937326342},{"$f":"IF(AND($A65=0,Berechnung!$B$4=0),1,IF(Berechnung!$B$4<>0,_xlfn.NORM.DIST($A65,0,Berechnung!$B$4,FALSE),0))","v":8.2733843006999898E-7},{"$f":"IF(AND($A65>=0,Berechnung!$B$4=0),1,IF(Berechnung!$B$4<>0,_xlfn.NORM.DIST($A65,0,Berechnung!$B$4,TRUE),0))","v":0.99999846937326342},{"$f":"IF(AND($A65=0,Berechnung!$B$5=0),1,IF(Berechnung!$B$5<>0,_xlfn.NORM.DIST($A65,0,Berechnung!$B$5,FALSE),0))","v":4.348846708622365E-4},{"$f":"IF(AND($A65>=0,Berechnung!$B$5=0),1,IF(Berechnung!$B$5<>0,_xlfn.NORM.DIST($A65,0,Berechnung!$B$5,TRUE),0))","v":0.99799765822429576},{"$f":"IF(AND($A65=0,Berechnung!$B$6=0),1,IF(Berechnung!$B$6<>0,_xlfn.NORM.DIST($A65,0,Berechnung!$B$6,FALSE),0))","v":4.3547952330795075E-4},{"$f":"IF(AND($A65>=0,Berechnung!$B$6=0),1,IF(Berechnung!$B$6<>0,_xlfn.NORM.DIST($A65,0,Berechnung!$B$6,TRUE),0))","v":0.99799422644691393},{"$f":"IF(AND($A65=0,Berechnung!$B$7=0),1,IF(Berechnung!$B$7<>0,_xlfn.NORM.DIST($A65,0,Berechnung!$B$7,FALSE),0))","v":8.2733843006999898E-7},{"$f":"IF(AND($A65>=0,Berechnung!$B$7=0),1,IF(Berechnung!$B$7<>0,_xlfn.NORM.DIST($A65,0,Berechnung!$B$7,TRUE),0))","v":0.99999846937326342},{"$f":"IF(AND($A65=0,Berechnung!$B$8=0),1,IF(Berechnung!$B$8<>0,_xlfn.NORM.DIST($A65,0,Berechnung!$B$8,FALSE),0))","v":8.2733843006999898E-7},{"$f":"IF(AND($A65>=0,Berechnung!$B$8=0),1,IF(Berechnung!$B$8<>0,_xlfn.NORM.DIST($A65,0,Berechnung!$B$8,TRUE),0))","v":0.99999846937326342},{"$f":"IF(AND($A65=0,Berechnung!$B$9=0),1,IF(Berechnung!$B$9<>0,_xlfn.NORM.DIST($A65,0,Berechnung!$B$9,FALSE),0))","v":1.0455730473951056E-5},{"$f":"IF(AND($A65>=0,Berechnung!$B$9=0),1,IF(Berechnung!$B$9<>0,_xlfn.NORM.DIST($A65,0,Berechnung!$B$9,TRUE),0))","v":0.99997465507638883},{"$f":"IF(AND($A65=0,Berechnung!$B$10=0),1,IF(Berechnung!$B$10<>0,_xlfn.NORM.DIST($A65,0,Berechnung!$B$10,FALSE),0))","v":4.2346109723725078E-5},{"$f":"IF(AND($A65>=0,Berechnung!$B$10=0),1,IF(Berechnung!$B$10<>0,_xlfn.NORM.DIST($A65,0,Berechnung!$B$10,TRUE),0))","v":0.99987572258994639},{"$f":"IF(AND($A65=0,Berechnung!$B$11=0),1,IF(Berechnung!$B$11<>0,_xlfn.NORM.DIST($A65,0,Berechnung!$B$11,FALSE),0))","v":0},{"$f":"IF(AND($A65>=0,Berechnung!$B$11=0),1,IF(Berechnung!$B$11<>0,_xlfn.NORM.DIST($A65,0,Berechnung!$B$11,TRUE),0))","v":1},{"$f":"Demonstrator!$J$19*'Daten Diagramm'!H65+Demonstrator!$J$24*'Daten Diagramm'!L65","v":8.7757775405646125E-5},{"$f":"Demonstrator!$J$19*'Daten Diagramm'!I65+Demonstrator!$J$24*'Daten Diagramm'!M65","v":0.99959762078799352}]
[43,{"$f":"IF(AND(A66=0,Berechnung!$B$3=0),1,IF(Berechnung!$B$3<>0,_xlfn.NORM.DIST(A66,0,Berechnung!$B$3,FALSE),0))","v":4.8956756423913023E-7},{"$f":"IF(AND($A66>=0,Berechnung!$B$3=0),1,IF(Berechnung!$B$3<>0,_xlfn.NORM.DIST($A66,0,Berechnung!$B$3,TRUE),0))","v":0.99999911378447914},{"$f":"IF(AND($A66=0,Berechnung!$B$4=0),1,IF(Berechnung!$B$4<>0,_xlfn.NORM.DIST($A66,0,Berechnung!$B$4,FALSE),0))","v":4.8956756423913023E-7},{"$f":"IF(AND($A66>=0,Berechnung!$B$4=0),1,IF(Berechnung!$B$4<>0,_xlfn.NORM.DIST($A66,0,Berechnung!$B$4,TRUE),0))","v":0.99999911378447914},{"$f":"IF(AND($A66=0,Berechnung!$B$5=0),1,IF(Berechnung!$B$5<>0,_xlfn.NORM.DIST($A66,0,Berechnung!$B$5,FALSE),0))","v":3.5622065456902499E-4},{"$f":"IF(AND($A66>=0,Berechnung!$B$5=0),1,IF(Berechnung!$B$5<>0,_xlfn.NORM.DIST($A66,0,Berechnung!$B$5,TRUE),0))","v":0.99839205794187569},{"$f":"IF(AND($A66=0,Berechnung!$B$6=0),1,IF(Berechnung!$B$6<>0,_xlfn.NORM.DIST($A66,0,Berechnung!$B$6,FALSE),0))","v":3.5673463028901715E-4},{"$f":"IF(AND($A66>=0,Berechnung!$B$6=0),1,IF(Berechnung!$B$6<>0,_xlfn.NORM.DIST($A66,0,Berechnung!$B$6,TRUE),0))","v":0.99838917988387144},{"$f":"IF(AND($A66=0,Berechnung!$B$7=0),1,IF(Berechnung!$B$7<>0,_xlfn.NORM.DIST($A66,0,Berechnung!$B$7,FALSE),0))","v":4.8956756423913023E-7},{"$f":"IF(AND($A66>=0,Berechnung!$B$7=0),1,IF(Berechnung!$B$7<>0,_xlfn.NORM.DIST($A66,0,Berechnung!$B$7,TRUE),0))","v":0.99999911378447914},{"$f":"IF(AND($A66=0,Berechnung!$B$8=0),1,IF(Berechnung!$B$8<>0,_xlfn.NORM.DIST($A66,0,Berechnung!$B$8,FALSE),0))","v":4.8956756423913023E-7},{"$f":"IF(AND($A66>=0,Berechnung!$B$8=0),1,IF(Berechnung!$B$8<>0,_xlfn.NORM.DIST($A66,0,Berechnung!$B$8,TRUE),0))","v":0.99999911378447914},{"$f":"IF(AND($A66=0,Berechnung!$B$9=0),1,IF(Berechnung!$B$9<>0,_xlfn.NORM.DIST($A66,0,Berechnung!$B$9,FALSE),0))","v":7.0391835912366286E-6},{"$f":"IF(AND($A66>=0,Berechnung!$B$9=0),1,IF(Berechnung!$B$9<>0,_xlfn.NORM.DIST($A66,0,Berechnung!$B$9,TRUE),0))","v":0.99998329686236975},{"$f":"IF(AND($A66=0,Berechnung!$B$10=0),1,IF(Berechnung!$B$10<>0,_xlfn.NORM.DIST($A66,0,Berechnung!$B$10,FALSE),0))","v":3.064520043851413E-5},{"$f":"IF(AND($A66>=0,Berechnung!$B$10=0),1,IF(Berechnung!$B$10<>0,_xlfn.NORM.DIST($A66,0,Berechnung!$B$10,TRUE),0))","v":0.99991192636512527},{"$f":"IF(AND($A66=0,Berechnung!$B$11=0),1,IF(Berechnung!$B$11<>0,_xlfn.NORM.DIST($A66,0,Berechnung!$B$11,FALSE),0))","v":0},{"$f":"IF(AND($A66>=0,Berechnung!$B$11=0),1,IF(Berechnung!$B$11<>0,_xlfn.NORM.DIST($A66,0,Berechnung!$B$11,TRUE),0))","v":1},{"$f":"Demonstrator!$J$19*'Daten Diagramm'!H66+Demonstrator!$J$24*'Daten Diagramm'!L66","v":7.1738580109194727E-5},{"$f":"Demonstrator!$J$19*'Daten Diagramm'!I66+Demonstrator!$J$24*'Daten Diagramm'!M66","v":0.99967712700435762}]
[44,{"$f":"IF(AND(A67=0,Berechnung!$B$3=0),1,IF(Berechnung!$B$3<>0,_xlfn.NORM.DIST(A67,0,Berechnung!$B$3,FALSE),0))","v":2.8614121349848122E-7},{"$f":"IF(AND($A67>=0,Berechnung!$B$3=0),1,IF(Berechnung!$B$3<>0,_xlfn.NORM.DIST($A67,0,Berechnung!$B$3,TRUE),0))","v":0.99999949296645774},{"$f":"IF(AND($A67=0,Berechnung!$B$4=0),1,IF(Berechnung!$B$4<>0,_xlfn.NORM.DIST($A67,0,Berechnung!$B$4,FALSE),0))","v":2.8614121349848122E-7},{"$f":"IF(AND($A67>=0,Berechnung!$B$4=0),1,IF(Berechnung!$B$4<>0,_xlfn.NORM.DIST($A67,0,Berechnung!$B$4,TRUE),0))","v":0.99999949296645774},{"$f":"IF(AND($A67=0,Berechnung!$B$5=0),1,IF(Berechnung!$B$5<>0,_xlfn.NORM.DIST($A67,0,Berechnung!$B$5,FALSE),0))","v":2.9041908571140649E-4},{"$f":"IF(AND($A67>=0,Berechnung!$B$5=0),1,IF(Berechnung!$B$5<>0,_xlfn.NORM.DIST($A67,0,Berechnung!$B$5,TRUE),0))","v":0.99871438472598884},{"$f":"IF(AND($A67=0,Berechnung!$B$6=0),1,IF(Berechnung!$B$6<>0,_xlfn.NORM.DIST($A67,0,Berechnung!$B$6,FALSE),0))","v":2.9086042016045882E-4},{"$f":"IF(AND($A67>=0,Berechnung!$B$6=0),1,IF(Berechnung!$B$6<>0,_xlfn.NORM.DIST($A67,0,Berechnung!$B$6,TRUE),0))","v":0.99871198364684788},{"$f":"IF(AND($A67=0,Berechnung!$B$7=0),1,IF(Berechnung!$B$7<>0,_xlfn.NORM.DIST($A67,0,Berechnung!$B$7,FALSE),0))","v":2.8614121349848122E-7},{"$f":"IF(AND($A67>=0,Berechnung!$B$7=0),1,IF(Berechnung!$B$7<>0,_xlfn.NORM.DIST($A67,0,Berechnung!$B$7,TRUE),0))","v":0.99999949296645774},{"$f":"IF(AND($A67=0,Berechnung!$B$8=0),1,IF(Berechnung!$B$8<>0,_xlfn.NORM.DIST($A67,0,Berechnung!$B$8,FALSE),0))","v":2.8614121349848122E-7},{"$f":"IF(AND($A67>=0,Berechnung!$B$8=0),1,IF(Berechnung!$B$8<>0,_xlfn.NORM.DIST($A67,0,Berechnung!$B$8,TRUE),0))","v":0.99999949296645774},{"$f":"IF(AND($A67=0,Berechnung!$B$9=0),1,IF(Berechnung!$B$9<>0,_xlfn.NORM.DIST($A67,0,Berechnung!$B$9,FALSE),0))","v":4.6951243301258701E-6},{"$f":"IF(AND($A67>=0,Berechnung!$B$9=0),1,IF(Berechnung!$B$9<>0,_xlfn.NORM.DIST($A67,0,Berechnung!$B$9,TRUE),0))","v":0.99998908960643007},{"$f":"IF(AND($A67=0,Berechnung!$B$10=0),1,IF(Berechnung!$B$10<>0,_xlfn.NORM.DIST($A67,0,Berechnung!$B$10,FALSE),0))","v":2.2009322968491109E-5},{"$f":"IF(AND($A67>=0,Berechnung!$B$10=0),1,IF(Berechnung!$B$10<>0,_xlfn.NORM.DIST($A67,0,Berechnung!$B$10,TRUE),0))","v":0.99993803236725087},{"$f":"IF(AND($A67=0,Berechnung!$B$11=0),1,IF(Berechnung!$B$11<>0,_xlfn.NORM.DIST($A67,0,Berechnung!$B$11,FALSE),0))","v":0},{"$f":"IF(AND($A67>=0,Berechnung!$B$11=0),1,IF(Berechnung!$B$11<>0,_xlfn.NORM.DIST($A67,0,Berechnung!$B$11,TRUE),0))","v":1},{"$f":"Demonstrator!$J$19*'Daten Diagramm'!H67+Demonstrator!$J$24*'Daten Diagramm'!L67","v":5.8400997002890534E-5},{"$f":"Demonstrator!$J$19*'Daten Diagramm'!I67+Demonstrator!$J$24*'Daten Diagramm'!M67","v":0.99974199110253581}]
[45,{"$f":"IF(AND(A68=0,Berechnung!$B$3=0),1,IF(Berechnung!$B$3<>0,_xlfn.NORM.DIST(A68,0,Berechnung!$B$3,FALSE),0))","v":1.6519105719269977E-7},{"$f":"IF(AND($A68>=0,Berechnung!$B$3=0),1,IF(Berechnung!$B$3<>0,_xlfn.NORM.DIST($A68,0,Berechnung!$B$3,TRUE),0))","v":0.99999971334842808},{"$f":"IF(AND($A68=0,Berechnung!$B$4=0),1,IF(Berechnung!$B$4<>0,_xlfn.NORM.DIST($A68,0,Berechnung!$B$4,FALSE),0))","v":1.6519105719269977E-7},{"$f":"IF(AND($A68>=0,Berechnung!$B$4=0),1,IF(Berechnung!$B$4<>0,_xlfn.NORM.DIST($A68,0,Berechnung!$B$4,TRUE),0))","v":0.99999971334842808},{"$f":"IF(AND($A68=0,Berechnung!$B$5=0),1,IF(Berechnung!$B$5<>0,_xlfn.NORM.DIST($A68,0,Berechnung!$B$5,FALSE),0))","v":2.3566347055717777E-4},{"$f":"IF(AND($A68>=0,Berechnung!$B$5=0),1,IF(Berechnung!$B$5<>0,_xlfn.NORM.DIST($A68,0,Berechnung!$B$5,TRUE),0))","v":0.99897657588891098},{"$f":"IF(AND($A68=0,Berechnung!$B$6=0),1,IF(Berechnung!$B$6<>0,_xlfn.NORM.DIST($A68,0,Berechnung!$B$6,FALSE),0))","v":2.3604010964704312E-4},{"$f":"IF(AND($A68>=0,Berechnung!$B$6=0),1,IF(Berechnung!$B$6<>0,_xlfn.NORM.DIST($A68,0,Berechnung!$B$6,TRUE),0))","v":0.998974583149704},{"$f":"IF(AND($A68=0,Berechnung!$B$7=0),1,IF(Berechnung!$B$7<>0,_xlfn.NORM.DIST($A68,0,Berechnung!$B$7,FALSE),0))","v":1.6519105719269977E-7},{"$f":"IF(AND($A68>=0,Berechnung!$B$7=0),1,IF(Berechnung!$B$7<>0,_xlfn.NORM.DIST($A68,0,Berechnung!$B$7,TRUE),0))","v":0.99999971334842808},{"$f":"IF(AND($A68=0,Berechnung!$B$8=0),1,IF(Berechnung!$B$8<>0,_xlfn.NORM.DIST($A68,0,Berechnung!$B$8,FALSE),0))","v":1.6519105719269977E-7},{"$f":"IF(AND($A68>=0,Berechnung!$B$8=0),1,IF(Berechnung!$B$8<>0,_xlfn.NORM.DIST($A68,0,Berechnung!$B$8,TRUE),0))","v":0.99999971334842808},{"$f":"IF(AND($A68=0,Berechnung!$B$9=0),1,IF(Berechnung!$B$9<>0,_xlfn.NORM.DIST($A68,0,Berechnung!$B$9,FALSE),0))","v":3.1026214744102455E-6},{"$f":"IF(AND($A68>=0,Berechnung!$B$9=0),1,IF(Berechnung!$B$9<>0,_xlfn.NORM.DIST($A68,0,Berechnung!$B$9,TRUE),0))","v":0.99999293663291999},{"$f":"IF(AND($A68=0,Berechnung!$B$10=0),1,IF(Berechnung!$B$10<>0,_xlfn.NORM.DIST($A68,0,Berechnung!$B$10,FALSE),0))","v":1.5687226597453157E-5},{"$f":"IF(AND($A68>=0,Berechnung!$B$10=0),1,IF(Berechnung!$B$10<>0,_xlfn.NORM.DIST($A68,0,Berechnung!$B$10,TRUE),0))","v":0.99995671440441802},{"$f":"IF(AND($A68=0,Berechnung!$B$11=0),1,IF(Berechnung!$B$11<>0,_xlfn.NORM.DIST($A68,0,Berechnung!$B$11,FALSE),0))","v":0},{"$f":"IF(AND($A68>=0,Berechnung!$B$11=0),1,IF(Berechnung!$B$11<>0,_xlfn.NORM.DIST($A68,0,Berechnung!$B$11,TRUE),0))","v":1},{"$f":"Demonstrator!$J$19*'Daten Diagramm'!H68+Demonstrator!$J$24*'Daten Diagramm'!L68","v":4.7340174775162771E-5},{"$f":"Demonstrator!$J$19*'Daten Diagramm'!I68+Demonstrator!$J$24*'Daten Diagramm'!M68","v":0.99979468730868326}]
[46,{"$f":"IF(AND(A69=0,Berechnung!$B$3=0),1,IF(Berechnung!$B$3<>0,_xlfn.NORM.DIST(A69,0,Berechnung!$B$3,FALSE),0))","v":9.4195681006545222E-8},{"$f":"IF(AND($A69>=0,Berechnung!$B$3=0),1,IF(Berechnung!$B$3<>0,_xlfn.NORM.DIST($A69,0,Berechnung!$B$3,TRUE),0))","v":0.99999983986523022},{"$f":"IF(AND($A69=0,Berechnung!$B$4=0),1,IF(Berechnung!$B$4<>0,_xlfn.NORM.DIST($A69,0,Berechnung!$B$4,FALSE),0))","v":9.4195681006545222E-8},{"$f":"IF(AND($A69>=0,Berechnung!$B$4=0),1,IF(Berechnung!$B$4<>0,_xlfn.NORM.DIST($A69,0,Berechnung!$B$4,TRUE),0))","v":0.99999983986523022},{"$f":"IF(AND($A69=0,Berechnung!$B$5=0),1,IF(Berechnung!$B$5<>0,_xlfn.NORM.DIST($A69,0,Berechnung!$B$5,FALSE),0))","v":1.9033578306895243E-4},{"$f":"IF(AND($A69>=0,Berechnung!$B$5=0),1,IF(Berechnung!$B$5<>0,_xlfn.NORM.DIST($A69,0,Berechnung!$B$5,TRUE),0))","v":0.99918885221327469},{"$f":"IF(AND($A69=0,Berechnung!$B$6=0),1,IF(Berechnung!$B$6<>0,_xlfn.NORM.DIST($A69,0,Berechnung!$B$6,FALSE),0))","v":1.9065526922144919E-4},{"$f":"IF(AND($A69>=0,Berechnung!$B$6=0),1,IF(Berechnung!$B$6<>0,_xlfn.NORM.DIST($A69,0,Berechnung!$B$6,TRUE),0))","v":0.99918720692736351},{"$f":"IF(AND($A69=0,Berechnung!$B$7=0),1,IF(Berechnung!$B$7<>0,_xlfn.NORM.DIST($A69,0,Berechnung!$B$7,FALSE),0))","v":9.4195681006545222E-8},{"$f":"IF(AND($A69>=0,Berechnung!$B$7=0),1,IF(Berechnung!$B$7<>0,_xlfn.NORM.DIST($A69,0,Berechnung!$B$7,TRUE),0))","v":0.99999983986523022},{"$f":"IF(AND($A69=0,Berechnung!$B$8=0),1,IF(Berechnung!$B$8<>0,_xlfn.NORM.DIST($A69,0,Berechnung!$B$8,FALSE),0))","v":9.4195681006545222E-8},{"$f":"IF(AND($A69>=0,Berechnung!$B$8=0),1,IF(Berechnung!$B$8<>0,_xlfn.NORM.DIST($A69,0,Berechnung!$B$8,TRUE),0))","v":0.99999983986523022},{"$f":"IF(AND($A69=0,Berechnung!$B$9=0),1,IF(Berechnung!$B$9<>0,_xlfn.NORM.DIST($A69,0,Berechnung!$B$9,FALSE),0))","v":2.0312687307327896E-6},{"$f":"IF(AND($A69>=0,Berechnung!$B$9=0),1,IF(Berechnung!$B$9<>0,_xlfn.NORM.DIST($A69,0,Berechnung!$B$9,TRUE),0))","v":0.99999546783031024},{"$f":"IF(AND($A69=0,Berechnung!$B$10=0),1,IF(Berechnung!$B$10<>0,_xlfn.NORM.DIST($A69,0,Berechnung!$B$10,FALSE),0))","v":1.1096369902070864E-5},{"$f":"IF(AND($A69>=0,Berechnung!$B$10=0),1,IF(Berechnung!$B$10<>0,_xlfn.NORM.DIST($A69,0,Berechnung!$B$10,TRUE),0))","v":0.99996998240393198},{"$f":"IF(AND($A69=0,Berechnung!$B$11=0),1,IF(Berechnung!$B$11<>0,_xlfn.NORM.DIST($A69,0,Berechnung!$B$11,FALSE),0))","v":0},{"$f":"IF(AND($A69>=0,Berechnung!$B$11=0),1,IF(Berechnung!$B$11<>0,_xlfn.NORM.DIST($A69,0,Berechnung!$B$11,TRUE),0))","v":1},{"$f":"Demonstrator!$J$19*'Daten Diagramm'!H69+Demonstrator!$J$24*'Daten Diagramm'!L69","v":3.8206410389095069E-5},{"$f":"Demonstrator!$J$19*'Daten Diagramm'!I69+Demonstrator!$J$24*'Daten Diagramm'!M69","v":0.9998373132776569}]
[47,{"$f":"IF(AND(A70=0,Berechnung!$B$3=0),1,IF(Berechnung!$B$3<>0,_xlfn.NORM.DIST(A70,0,Berechnung!$B$3,FALSE),0))","v":5.305346917015301E-8},{"$f":"IF(AND($A70>=0,Berechnung!$B$3=0),1,IF(Berechnung!$B$3<>0,_xlfn.NORM.DIST($A70,0,Berechnung!$B$3,TRUE),0))","v":0.9999999116056838},{"$f":"IF(AND($A70=0,Berechnung!$B$4=0),1,IF(Berechnung!$B$4<>0,_xlfn.NORM.DIST($A70,0,Berechnung!$B$4,FALSE),0))","v":5.305346917015301E-8},{"$f":"IF(AND($A70>=0,Berechnung!$B$4=0),1,IF(Berechnung!$B$4<>0,_xlfn.NORM.DIST($A70,0,Berechnung!$B$4,TRUE),0))","v":0.9999999116056838},{"$f":"IF(AND($A70=0,Berechnung!$B$5=0),1,IF(Berechnung!$B$5<>0,_xlfn.NORM.DIST($A70,0,Berechnung!$B$5,FALSE),0))","v":1.5300642783680493E-4},{"$f":"IF(AND($A70>=0,Berechnung!$B$5=0),1,IF(Berechnung!$B$5<>0,_xlfn.NORM.DIST($A70,0,Berechnung!$B$5,TRUE),0))","v":0.9993599116047891},{"$f":"IF(AND($A70=0,Berechnung!$B$6=0),1,IF(Berechnung!$B$6<>0,_xlfn.NORM.DIST($A70,0,Berechnung!$B$6,FALSE),0))","v":1.5327581769972008E-4},{"$f":"IF(AND($A70>=0,Berechnung!$B$6=0),1,IF(Berechnung!$B$6<>0,_xlfn.NORM.DIST($A70,0,Berechnung!$B$6,TRUE),0))","v":0.99935856019070024},{"$f":"IF(AND($A70=0,Berechnung!$B$7=0),1,IF(Berechnung!$B$7<>0,_xlfn.NORM.DIST($A70,0,Berechnung!$B$7,FALSE),0))","v":5.305346917015301E-8},{"$f":"IF(AND($A70>=0,Berechnung!$B$7=0),1,IF(Berechnung!$B$7<>0,_xlfn.NORM.DIST($A70,0,Berechnung!$B$7,TRUE),0))","v":0.9999999116056838},{"$f":"IF(AND($A70=0,Berechnung!$B$8=0),1,IF(Berechnung!$B$8<>0,_xlfn.NORM.DIST($A70,0,Berechnung!$B$8,FALSE),0))","v":5.305346917015301E-8},{"$f":"IF(AND($A70>=0,Berechnung!$B$8=0),1,IF(Berechnung!$B$8<>0,_xlfn.NORM.DIST($A70,0,Berechnung!$B$8,TRUE),0))","v":0.9999999116056838},{"$f":"IF(AND($A70=0,Berechnung!$B$9=0),1,IF(Berechnung!$B$9<>0,_xlfn.NORM.DIST($A70,0,Berechnung!$B$9,FALSE),0))","v":1.317537133118922E-6},{"$f":"IF(AND($A70>=0,Berechnung!$B$9=0),1,IF(Berechnung!$B$9<>0,_xlfn.NORM.DIST($A70,0,Berechnung!$B$9,TRUE),0))","v":0.99999711784135437},{"$f":"IF(AND($A70=0,Berechnung!$B$10=0),1,IF(Berechnung!$B$10<>0,_xlfn.NORM.DIST($A70,0,Berechnung!$B$10,FALSE),0))","v":7.7895245587128096E-6},{"$f":"IF(AND($A70>=0,Berechnung!$B$10=0),1,IF(Berechnung!$B$10<>0,_xlfn.NORM.DIST($A70,0,Berechnung!$B$10,TRUE),0))","v":0.99997933396284233},{"$f":"IF(AND($A70=0,Berechnung!$B$11=0),1,IF(Berechnung!$B$11<>0,_xlfn.NORM.DIST($A70,0,Berechnung!$B$11,FALSE),0))","v":0},{"$f":"IF(AND($A70>=0,Berechnung!$B$11=0),1,IF(Berechnung!$B$11<>0,_xlfn.NORM.DIST($A70,0,Berechnung!$B$11,TRUE),0))","v":1},{"$f":"Demonstrator!$J$19*'Daten Diagramm'!H70+Demonstrator!$J$24*'Daten Diagramm'!L70","v":3.0697606315280129E-5},{"$f":"Demonstrator!$J$19*'Daten Diagramm'!I70+Demonstrator!$J$24*'Daten Diagramm'!M70","v":0.99987164132268713}]
[48,{"$f":"IF(AND(A71=0,Berechnung!$B$3=0),1,IF(Berechnung!$B$3<>0,_xlfn.NORM.DIST(A71,0,Berechnung!$B$3,FALSE),0))","v":2.9514465650243475E-8},{"$f":"IF(AND($A71>=0,Berechnung!$B$3=0),1,IF(Berechnung!$B$3<>0,_xlfn.NORM.DIST($A71,0,Berechnung!$B$3,TRUE),0))","v":0.99999995178696632},{"$f":"IF(AND($A71=0,Berechnung!$B$4=0),1,IF(Berechnung!$B$4<>0,_xlfn.NORM.DIST($A71,0,Berechnung!$B$4,FALSE),0))","v":2.9514465650243475E-8},{"$f":"IF(AND($A71>=0,Berechnung!$B$4=0),1,IF(Berechnung!$B$4<>0,_xlfn.NORM.DIST($A71,0,Berechnung!$B$4,TRUE),0))","v":0.99999995178696632},{"$f":"IF(AND($A71=0,Berechnung!$B$5=0),1,IF(Berechnung!$B$5<>0,_xlfn.NORM.DIST($A71,0,Berechnung!$B$5,FALSE),0))","v":1.2242214019656227E-4},{"$f":"IF(AND($A71>=0,Berechnung!$B$5=0),1,IF(Berechnung!$B$5<>0,_xlfn.NORM.DIST($A71,0,Berechnung!$B$5,TRUE),0))","v":0.99949711161417221},{"$f":"IF(AND($A71=0,Berechnung!$B$6=0),1,IF(Berechnung!$B$6<>0,_xlfn.NORM.DIST($A71,0,Berechnung!$B$6,FALSE),0))","v":1.2264795042935811E-4},{"$f":"IF(AND($A71>=0,Berechnung!$B$6=0),1,IF(Berechnung!$B$6<>0,_xlfn.NORM.DIST($A71,0,Berechnung!$B$6,TRUE),0))","v":0.99949600728053467},{"$f":"IF(AND($A71=0,Berechnung!$B$7=0),1,IF(Berechnung!$B$7<>0,_xlfn.NORM.DIST($A71,0,Berechnung!$B$7,FALSE),0))","v":2.9514465650243475E-8},{"$f":"IF(AND($A71>=0,Berechnung!$B$7=0),1,IF(Berechnung!$B$7<>0,_xlfn.NORM.DIST($A71,0,Berechnung!$B$7,TRUE),0))","v":0.99999995178696632},{"$f":"IF(AND($A71=0,Berechnung!$B$8=0),1,IF(Berechnung!$B$8<>0,_xlfn.NORM.DIST($A71,0,Berechnung!$B$8,FALSE),0))","v":2.9514465650243475E-8},{"$f":"IF(AND($A71>=0,Berechnung!$B$8=0),1,IF(Berechnung!$B$8<>0,_xlfn.NORM.DIST($A71,0,Berechnung!$B$8,TRUE),0))","v":0.99999995178696632},{"$f":"IF(AND($A71=0,Berechnung!$B$9=0),1,IF(Berechnung!$B$9<>0,_xlfn.NORM.DIST($A71,0,Berechnung!$B$9,FALSE),0))","v":8.466720772008112E-7},{"$f":"IF(AND($A71>=0,Berechnung!$B$9=0),1,IF(Berechnung!$B$9<>0,_xlfn.NORM.DIST($A71,0,Berechnung!$B$9,TRUE),0))","v":0.99999818347441749},{"$f":"IF(AND($A71=0,Berechnung!$B$10=0),1,IF(Berechnung!$B$10<>0,_xlfn.NORM.DIST($A71,0,Berechnung!$B$10,FALSE),0))","v":5.4267053976173558E-6},{"$f":"IF(AND($A71>=0,Berechnung!$B$10=0),1,IF(Berechnung!$B$10<>0,_xlfn.NORM.DIST($A71,0,Berechnung!$B$10,TRUE),0))","v":0.99998587520056381},{"$f":"IF(AND($A71=0,Berechnung!$B$11=0),1,IF(Berechnung!$B$11<>0,_xlfn.NORM.DIST($A71,0,Berechnung!$B$11,FALSE),0))","v":0},{"$f":"IF(AND($A71>=0,Berechnung!$B$11=0),1,IF(Berechnung!$B$11<>0,_xlfn.NORM.DIST($A71,0,Berechnung!$B$11,TRUE),0))","v":1},{"$f":"Demonstrator!$J$19*'Daten Diagramm'!H71+Demonstrator!$J$24*'Daten Diagramm'!L71","v":2.4553201658391812E-5},{"$f":"Demonstrator!$J$19*'Daten Diagramm'!I71+Demonstrator!$J$24*'Daten Diagramm'!M71","v":0.99989916288567993}]
[49,{"$f":"IF(AND(A72=0,Berechnung!$B$3=0),1,IF(Berechnung!$B$3<>0,_xlfn.NORM.DIST(A72,0,Berechnung!$B$3,FALSE),0))","v":1.6217891916507342E-8},{"$f":"IF(AND($A72>=0,Berechnung!$B$3=0),1,IF(Berechnung!$B$3<>0,_xlfn.NORM.DIST($A72,0,Berechnung!$B$3,TRUE),0))","v":0.99999997401634022},{"$f":"IF(AND($A72=0,Berechnung!$B$4=0),1,IF(Berechnung!$B$4<>0,_xlfn.NORM.DIST($A72,0,Berechnung!$B$4,FALSE),0))","v":1.6217891916507342E-8},{"$f":"IF(AND($A72>=0,Berechnung!$B$4=0),1,IF(Berechnung!$B$4<>0,_xlfn.NORM.DIST($A72,0,Berechnung!$B$4,TRUE),0))","v":0.99999997401634022},{"$f":"IF(AND($A72=0,Berechnung!$B$5=0),1,IF(Berechnung!$B$5<>0,_xlfn.NORM.DIST($A72,0,Berechnung!$B$5,FALSE),0))","v":9.7492524879597625E-5},{"$f":"IF(AND($A72>=0,Berechnung!$B$5=0),1,IF(Berechnung!$B$5<>0,_xlfn.NORM.DIST($A72,0,Berechnung!$B$5,TRUE),0))","v":0.99960663912395864},{"$f":"IF(AND($A72=0,Berechnung!$B$6=0),1,IF(Berechnung!$B$6<>0,_xlfn.NORM.DIST($A72,0,Berechnung!$B$6,FALSE),0))","v":9.768070216163942E-5},{"$f":"IF(AND($A72>=0,Berechnung!$B$6=0),1,IF(Berechnung!$B$6<>0,_xlfn.NORM.DIST($A72,0,Berechnung!$B$6,TRUE),0))","v":0.99960574131266433},{"$f":"IF(AND($A72=0,Berechnung!$B$7=0),1,IF(Berechnung!$B$7<>0,_xlfn.NORM.DIST($A72,0,Berechnung!$B$7,FALSE),0))","v":1.6217891916507342E-8},{"$f":"IF(AND($A72>=0,Berechnung!$B$7=0),1,IF(Berechnung!$B$7<>0,_xlfn.NORM.DIST($A72,0,Berechnung!$B$7,TRUE),0))","v":0.99999997401634022},{"$f":"IF(AND($A72=0,Berechnung!$B$8=0),1,IF(Berechnung!$B$8<>0,_xlfn.NORM.DIST($A72,0,Berechnung!$B$8,FALSE),0))","v":1.6217891916507342E-8},{"$f":"IF(AND($A72>=0,Berechnung!$B$8=0),1,IF(Berechnung!$B$8<>0,_xlfn.NORM.DIST($A72,0,Berechnung!$B$8,TRUE),0))","v":0.99999997401634022},{"$f":"IF(AND($A72=0,Berechnung!$B$9=0),1,IF(Berechnung!$B$9<>0,_xlfn.NORM.DIST($A72,0,Berechnung!$B$9,FALSE),0))","v":5.3904435501380368E-7},{"$f":"IF(AND($A72>=0,Berechnung!$B$9=0),1,IF(Berechnung!$B$9<>0,_xlfn.NORM.DIST($A72,0,Berechnung!$B$9,TRUE),0))","v":0.99999886532390714},{"$f":"IF(AND($A72=0,Berechnung!$B$10=0),1,IF(Berechnung!$B$10<>0,_xlfn.NORM.DIST($A72,0,Berechnung!$B$10,FALSE),0))","v":3.7519479888281111E-6},{"$f":"IF(AND($A72>=0,Berechnung!$B$10=0),1,IF(Berechnung!$B$10<>0,_xlfn.NORM.DIST($A72,0,Berechnung!$B$10,TRUE),0))","v":0.99999041600922156},{"$f":"IF(AND($A72=0,Berechnung!$B$11=0),1,IF(Berechnung!$B$11<>0,_xlfn.NORM.DIST($A72,0,Berechnung!$B$11,FALSE),0))","v":0},{"$f":"IF(AND($A72>=0,Berechnung!$B$11=0),1,IF(Berechnung!$B$11<>0,_xlfn.NORM.DIST($A72,0,Berechnung!$B$11,TRUE),0))","v":1},{"$f":"Demonstrator!$J$19*'Daten Diagramm'!H72+Demonstrator!$J$24*'Daten Diagramm'!L72","v":1.9549114745861086E-5},{"$f":"Demonstrator!$J$19*'Daten Diagramm'!I72+Demonstrator!$J$24*'Daten Diagramm'!M72","v":0.99992112747560502}]
[50,{"$f":"IF(AND(A73=0,Berechnung!$B$3=0),1,IF(Berechnung!$B$3<>0,_xlfn.NORM.DIST(A73,0,Berechnung!$B$3,FALSE),0))","v":8.8022199874779734E-9},{"$f":"IF(AND($A73>=0,Berechnung!$B$3=0),1,IF(Berechnung!$B$3<>0,_xlfn.NORM.DIST($A73,0,Berechnung!$B$3,TRUE),0))","v":0.99999998616349106},{"$f":"IF(AND($A73=0,Berechnung!$B$4=0),1,IF(Berechnung!$B$4<>0,_xlfn.NORM.DIST($A73,0,Berechnung!$B$4,FALSE),0))","v":8.8022199874779734E-9},{"$f":"IF(AND($A73>=0,Berechnung!$B$4=0),1,IF(Berechnung!$B$4<>0,_xlfn.NORM.DIST($A73,0,Berechnung!$B$4,TRUE),0))","v":0.99999998616349106},{"$f":"IF(AND($A73=0,Berechnung!$B$5=0),1,IF(Berechnung!$B$5<>0,_xlfn.NORM.DIST($A73,0,Berechnung!$B$5,FALSE),0))","v":7.7275838666087743E-5},{"$f":"IF(AND($A73>=0,Berechnung!$B$5=0),1,IF(Berechnung!$B$5<>0,_xlfn.NORM.DIST($A73,0,Berechnung!$B$5,TRUE),0))","v":0.99969366614957189},{"$f":"IF(AND($A73=0,Berechnung!$B$6=0),1,IF(Berechnung!$B$6<>0,_xlfn.NORM.DIST($A73,0,Berechnung!$B$6,FALSE),0))","v":7.7431750020335753E-5},{"$f":"IF(AND($A73>=0,Berechnung!$B$6=0),1,IF(Berechnung!$B$6<>0,_xlfn.NORM.DIST($A73,0,Berechnung!$B$6,TRUE),0))","v":0.99969293995942554},{"$f":"IF(AND($A73=0,Berechnung!$B$7=0),1,IF(Berechnung!$B$7<>0,_xlfn.NORM.DIST($A73,0,Berechnung!$B$7,FALSE),0))","v":8.8022199874779734E-9},{"$f":"IF(AND($A73>=0,Berechnung!$B$7=0),1,IF(Berechnung!$B$7<>0,_xlfn.NORM.DIST($A73,0,Berechnung!$B$7,TRUE),0))","v":0.99999998616349106},{"$f":"IF(AND($A73=0,Berechnung!$B$8=0),1,IF(Berechnung!$B$8<>0,_xlfn.NORM.DIST($A73,0,Berechnung!$B$8,FALSE),0))","v":8.8022199874779734E-9},{"$f":"IF(AND($A73>=0,Berechnung!$B$8=0),1,IF(Berechnung!$B$8<>0,_xlfn.NORM.DIST($A73,0,Berechnung!$B$8,TRUE),0))","v":0.99999998616349106},{"$f":"IF(AND($A73=0,Berechnung!$B$9=0),1,IF(Berechnung!$B$9<>0,_xlfn.NORM.DIST($A73,0,Berechnung!$B$9,FALSE),0))","v":3.4000919313592096E-7},{"$f":"IF(AND($A73>=0,Berechnung!$B$9=0),1,IF(Berechnung!$B$9<>0,_xlfn.NORM.DIST($A73,0,Berechnung!$B$9,TRUE),0))","v":0.99999929756828054},{"$f":"IF(AND($A73=0,Berechnung!$B$10=0),1,IF(Berechnung!$B$10<>0,_xlfn.NORM.DIST($A73,0,Berechnung!$B$10,FALSE),0))","v":2.5743799398141999E-6},{"$f":"IF(AND($A73>=0,Berechnung!$B$10=0),1,IF(Berechnung!$B$10<>0,_xlfn.NORM.DIST($A73,0,Berechnung!$B$10,TRUE),0))","v":0.99999354427627929},{"$f":"IF(AND($A73=0,Berechnung!$B$11=0),1,IF(Berechnung!$B$11<>0,_xlfn.NORM.DIST($A73,0,Berechnung!$B$11,FALSE),0))","v":0},{"$f":"IF(AND($A73>=0,Berechnung!$B$11=0),1,IF(Berechnung!$B$11<>0,_xlfn.NORM.DIST($A73,0,Berechnung!$B$11,TRUE),0))","v":1},{"$f":"Demonstrator!$J$19*'Daten Diagramm'!H73+Demonstrator!$J$24*'Daten Diagramm'!L73","v":1.5493391780057132E-5},{"$f":"Demonstrator!$J$19*'Daten Diagramm'!I73+Demonstrator!$J$24*'Daten Diagramm'!M73","v":0.99993857692267807}]
[51,{"$f":"IF(AND(A74=0,Berechnung!$B$3=0),1,IF(Berechnung!$B$3<>0,_xlfn.NORM.DIST(A74,0,Berechnung!$B$3,FALSE),0))","v":4.7187652738387625E-9},{"$f":"IF(AND($A74>=0,Berechnung!$B$3=0),1,IF(Berechnung!$B$3<>0,_xlfn.NORM.DIST($A74,0,Berechnung!$B$3,TRUE),0))","v":0.99999999271988993},{"$f":"IF(AND($A74=0,Berechnung!$B$4=0),1,IF(Berechnung!$B$4<>0,_xlfn.NORM.DIST($A74,0,Berechnung!$B$4,FALSE),0))","v":4.7187652738387625E-9},{"$f":"IF(AND($A74>=0,Berechnung!$B$4=0),1,IF(Berechnung!$B$4<>0,_xlfn.NORM.DIST($A74,0,Berechnung!$B$4,TRUE),0))","v":0.99999999271988993},{"$f":"IF(AND($A74=0,Berechnung!$B$5=0),1,IF(Berechnung!$B$5<>0,_xlfn.NORM.DIST($A74,0,Berechnung!$B$5,FALSE),0))","v":6.0964525089118346E-5},{"$f":"IF(AND($A74>=0,Berechnung!$B$5=0),1,IF(Berechnung!$B$5<>0,_xlfn.NORM.DIST($A74,0,Berechnung!$B$5,TRUE),0))","v":0.99976249126075978},{"$f":"IF(AND($A74=0,Berechnung!$B$6=0),1,IF(Berechnung!$B$6<>0,_xlfn.NORM.DIST($A74,0,Berechnung!$B$6,FALSE),0))","v":6.1092964713451366E-5},{"$f":"IF(AND($A74>=0,Berechnung!$B$6=0),1,IF(Berechnung!$B$6<>0,_xlfn.NORM.DIST($A74,0,Berechnung!$B$6,TRUE),0))","v":0.99976190687001609},{"$f":"IF(AND($A74=0,Berechnung!$B$7=0),1,IF(Berechnung!$B$7<>0,_xlfn.NORM.DIST($A74,0,Berechnung!$B$7,FALSE),0))","v":4.7187652738387625E-9},{"$f":"IF(AND($A74>=0,Berechnung!$B$7=0),1,IF(Berechnung!$B$7<>0,_xlfn.NORM.DIST($A74,0,Berechnung!$B$7,TRUE),0))","v":0.99999999271988993},{"$f":"IF(AND($A74=0,Berechnung!$B$8=0),1,IF(Berechnung!$B$8<>0,_xlfn.NORM.DIST($A74,0,Berechnung!$B$8,FALSE),0))","v":4.7187652738387625E-9},{"$f":"IF(AND($A74>=0,Berechnung!$B$8=0),1,IF(Berechnung!$B$8<>0,_xlfn.NORM.DIST($A74,0,Berechnung!$B$8,TRUE),0))","v":0.99999999271988993},{"$f":"IF(AND($A74=0,Berechnung!$B$9=0),1,IF(Berechnung!$B$9<>0,_xlfn.NORM.DIST($A74,0,Berechnung!$B$9,FALSE),0))","v":2.1247787235976572E-7},{"$f":"IF(AND($A74>=0,Berechnung!$B$9=0),1,IF(Berechnung!$B$9<>0,_xlfn.NORM.DIST($A74,0,Berechnung!$B$9,TRUE),0))","v":0.9999995690434873},{"$f":"IF(AND($A74=0,Berechnung!$B$10=0),1,IF(Berechnung!$B$10<>0,_xlfn.NORM.DIST($A74,0,Berechnung!$B$10,FALSE),0))","v":1.7530073833862762E-6},{"$f":"IF(AND($A74>=0,Berechnung!$B$10=0),1,IF(Berechnung!$B$10<>0,_xlfn.NORM.DIST($A74,0,Berechnung!$B$10,TRUE),0))","v":0.99999568308423337},{"$f":"IF(AND($A74=0,Berechnung!$B$11=0),1,IF(Berechnung!$B$11<>0,_xlfn.NORM.DIST($A74,0,Berechnung!$B$11,FALSE),0))","v":0},{"$f":"IF(AND($A74>=0,Berechnung!$B$11=0),1,IF(Berechnung!$B$11<>0,_xlfn.NORM.DIST($A74,0,Berechnung!$B$11,TRUE),0))","v":1},{"$f":"Demonstrator!$J$19*'Daten Diagramm'!H74+Demonstrator!$J$24*'Daten Diagramm'!L74","v":1.2222367954909342E-5},{"$f":"Demonstrator!$J$19*'Daten Diagramm'!I74+Demonstrator!$J$24*'Daten Diagramm'!M74","v":0.99995237554991512}]
[52,{"$f":"IF(AND(A75=0,Berechnung!$B$3=0),1,IF(Berechnung!$B$3<>0,_xlfn.NORM.DIST(A75,0,Berechnung!$B$3,FALSE),0))","v":2.4986352972183621E-9},{"$f":"IF(AND($A75>=0,Berechnung!$B$3=0),1,IF(Berechnung!$B$3<>0,_xlfn.NORM.DIST($A75,0,Berechnung!$B$3,TRUE),0))","v":0.99999999621531555},{"$f":"IF(AND($A75=0,Berechnung!$B$4=0),1,IF(Berechnung!$B$4<>0,_xlfn.NORM.DIST($A75,0,Berechnung!$B$4,FALSE),0))","v":2.4986352972183621E-9},{"$f":"IF(AND($A75>=0,Berechnung!$B$4=0),1,IF(Berechnung!$B$4<>0,_xlfn.NORM.DIST($A75,0,Berechnung!$B$4,TRUE),0))","v":0.99999999621531555},{"$f":"IF(AND($A75=0,Berechnung!$B$5=0),1,IF(Berechnung!$B$5<>0,_xlfn.NORM.DIST($A75,0,Berechnung!$B$5,FALSE),0))","v":4.7870914235968235E-5},{"$f":"IF(AND($A75>=0,Berechnung!$B$5=0),1,IF(Berechnung!$B$5<>0,_xlfn.NORM.DIST($A75,0,Berechnung!$B$5,TRUE),0))","v":0.99981666658969459},{"$f":"IF(AND($A75=0,Berechnung!$B$6=0),1,IF(Berechnung!$B$6<>0,_xlfn.NORM.DIST($A75,0,Berechnung!$B$6,FALSE),0))","v":4.7976123256672693E-5},{"$f":"IF(AND($A75>=0,Berechnung!$B$6=0),1,IF(Berechnung!$B$6<>0,_xlfn.NORM.DIST($A75,0,Berechnung!$B$6,TRUE),0))","v":0.99981619869217497},{"$f":"IF(AND($A75=0,Berechnung!$B$7=0),1,IF(Berechnung!$B$7<>0,_xlfn.NORM.DIST($A75,0,Berechnung!$B$7,FALSE),0))","v":2.4986352972183621E-9},{"$f":"IF(AND($A75>=0,Berechnung!$B$7=0),1,IF(Berechnung!$B$7<>0,_xlfn.NORM.DIST($A75,0,Berechnung!$B$7,TRUE),0))","v":0.99999999621531555},{"$f":"IF(AND($A75=0,Berechnung!$B$8=0),1,IF(Berechnung!$B$8<>0,_xlfn.NORM.DIST($A75,0,Berechnung!$B$8,FALSE),0))","v":2.4986352972183621E-9},{"$f":"IF(AND($A75>=0,Berechnung!$B$8=0),1,IF(Berechnung!$B$8<>0,_xlfn.NORM.DIST($A75,0,Berechnung!$B$8,TRUE),0))","v":0.99999999621531555},{"$f":"IF(AND($A75=0,Berechnung!$B$9=0),1,IF(Berechnung!$B$9<>0,_xlfn.NORM.DIST($A75,0,Berechnung!$B$9,FALSE),0))","v":1.3155084748941544E-7},{"$f":"IF(AND($A75>=0,Berechnung!$B$9=0),1,IF(Berechnung!$B$9<>0,_xlfn.NORM.DIST($A75,0,Berechnung!$B$9,TRUE),0))","v":0.99999973796734454},{"$f":"IF(AND($A75=0,Berechnung!$B$10=0),1,IF(Berechnung!$B$10<>0,_xlfn.NORM.DIST($A75,0,Berechnung!$B$10,FALSE),0))","v":1.1846501595825171E-6},{"$f":"IF(AND($A75>=0,Berechnung!$B$10=0),1,IF(Berechnung!$B$10<>0,_xlfn.NORM.DIST($A75,0,Berechnung!$B$10,TRUE),0))","v":0.99999713431711101},{"$f":"IF(AND($A75=0,Berechnung!$B$11=0),1,IF(Berechnung!$B$11<>0,_xlfn.NORM.DIST($A75,0,Berechnung!$B$11,FALSE),0))","v":0},{"$f":"IF(AND($A75>=0,Berechnung!$B$11=0),1,IF(Berechnung!$B$11<>0,_xlfn.NORM.DIST($A75,0,Berechnung!$B$11,TRUE),0))","v":1},{"$f":"Demonstrator!$J$19*'Daten Diagramm'!H75+Demonstrator!$J$24*'Daten Diagramm'!L75","v":9.5972235595723112E-6},{"$f":"Demonstrator!$J$19*'Daten Diagramm'!I75+Demonstrator!$J$24*'Daten Diagramm'!M75","v":0.99996323671068743}]
[53,{"$f":"IF(AND(A76=0,Berechnung!$B$3=0),1,IF(Berechnung!$B$3<>0,_xlfn.NORM.DIST(A76,0,Berechnung!$B$3,FALSE),0))","v":1.3068198018568114E-9},{"$f":"IF(AND($A76>=0,Berechnung!$B$3=0),1,IF(Berechnung!$B$3<>0,_xlfn.NORM.DIST($A76,0,Berechnung!$B$3,TRUE),0))","v":0.99999999805599638},{"$f":"IF(AND($A76=0,Berechnung!$B$4=0),1,IF(Berechnung!$B$4<>0,_xlfn.NORM.DIST($A76,0,Berechnung!$B$4,FALSE),0))","v":1.3068198018568114E-9},{"$f":"IF(AND($A76>=0,Berechnung!$B$4=0),1,IF(Berechnung!$B$4<>0,_xlfn.NORM.DIST($A76,0,Berechnung!$B$4,TRUE),0))","v":0.99999999805599638},{"$f":"IF(AND($A76=0,Berechnung!$B$5=0),1,IF(Berechnung!$B$5<>0,_xlfn.NORM.DIST($A76,0,Berechnung!$B$5,FALSE),0))","v":3.7413411196688172E-5},{"$f":"IF(AND($A76>=0,Berechnung!$B$5=0),1,IF(Berechnung!$B$5<>0,_xlfn.NORM.DIST($A76,0,Berechnung!$B$5,TRUE),0))","v":0.99985911075977374},{"$f":"IF(AND($A76=0,Berechnung!$B$6=0),1,IF(Berechnung!$B$6<>0,_xlfn.NORM.DIST($A76,0,Berechnung!$B$6,FALSE),0))","v":3.7499107069897559E-5},{"$f":"IF(AND($A76>=0,Berechnung!$B$6=0),1,IF(Berechnung!$B$6<>0,_xlfn.NORM.DIST($A76,0,Berechnung!$B$6,TRUE),0))","v":0.99985873802581848},{"$f":"IF(AND($A76=0,Berechnung!$B$7=0),1,IF(Berechnung!$B$7<>0,_xlfn.NORM.DIST($A76,0,Berechnung!$B$7,FALSE),0))","v":1.3068198018568114E-9},{"$f":"IF(AND($A76>=0,Berechnung!$B$7=0),1,IF(Berechnung!$B$7<>0,_xlfn.NORM.DIST($A76,0,Berechnung!$B$7,TRUE),0))","v":0.99999999805599638},{"$f":"IF(AND($A76=0,Berechnung!$B$8=0),1,IF(Berechnung!$B$8<>0,_xlfn.NORM.DIST($A76,0,Berechnung!$B$8,FALSE),0))","v":1.3068198018568114E-9},{"$f":"IF(AND($A76>=0,Berechnung!$B$8=0),1,IF(Berechnung!$B$8<>0,_xlfn.NORM.DIST($A76,0,Berechnung!$B$8,TRUE),0))","v":0.99999999805599638},{"$f":"IF(AND($A76=0,Berechnung!$B$9=0),1,IF(Berechnung!$B$9<>0,_xlfn.NORM.DIST($A76,0,Berechnung!$B$9,FALSE),0))","v":8.0692000718343991E-8},{"$f":"IF(AND($A76>=0,Berechnung!$B$9=0),1,IF(Berechnung!$B$9<>0,_xlfn.NORM.DIST($A76,0,Berechnung!$B$9,TRUE),0))","v":0.99999984210595994},{"$f":"IF(AND($A76=0,Berechnung!$B$10=0),1,IF(Berechnung!$B$10<>0,_xlfn.NORM.DIST($A76,0,Berechnung!$B$10,FALSE),0))","v":7.9449607974435312E-7},{"$f":"IF(AND($A76>=0,Berechnung!$B$10=0),1,IF(Berechnung!$B$10<>0,_xlfn.NORM.DIST($A76,0,Berechnung!$B$10,TRUE),0))","v":0.99999811155382656},{"$f":"IF(AND($A76=0,Berechnung!$B$11=0),1,IF(Berechnung!$B$11<>0,_xlfn.NORM.DIST($A76,0,Berechnung!$B$11,FALSE),0))","v":0},{"$f":"IF(AND($A76>=0,Berechnung!$B$11=0),1,IF(Berechnung!$B$11<>0,_xlfn.NORM.DIST($A76,0,Berechnung!$B$11,TRUE),0))","v":1},{"$f":"Demonstrator!$J$19*'Daten Diagramm'!H76+Demonstrator!$J$24*'Daten Diagramm'!L76","v":7.5008668698209956E-6},{"$f":"Demonstrator!$J$19*'Daten Diagramm'!I76+Demonstrator!$J$24*'Daten Diagramm'!M76","v":0.99997174604996086}]
[54,{"$f":"IF(AND(A77=0,Berechnung!$B$3=0),1,IF(Berechnung!$B$3<>0,_xlfn.NORM.DIST(A77,0,Berechnung!$B$3,FALSE),0))","v":6.7509809442480959E-10},{"$f":"IF(AND($A77>=0,Berechnung!$B$3=0),1,IF(Berechnung!$B$3<>0,_xlfn.NORM.DIST($A77,0,Berechnung!$B$3,TRUE),0))","v":0.9999999990134123},{"$f":"IF(AND($A77=0,Berechnung!$B$4=0),1,IF(Berechnung!$B$4<>0,_xlfn.NORM.DIST($A77,0,Berechnung!$B$4,FALSE),0))","v":6.7509809442480959E-10},{"$f":"IF(AND($A77>=0,Berechnung!$B$4=0),1,IF(Berechnung!$B$4<>0,_xlfn.NORM.DIST($A77,0,Berechnung!$B$4,TRUE),0))","v":0.9999999990134123},{"$f":"IF(AND($A77=0,Berechnung!$B$5=0),1,IF(Berechnung!$B$5<>0,_xlfn.NORM.DIST($A77,0,Berechnung!$B$5,FALSE),0))","v":2.9103414945453698E-5},{"$f":"IF(AND($A77>=0,Berechnung!$B$5=0),1,IF(Berechnung!$B$5<>0,_xlfn.NORM.DIST($A77,0,Berechnung!$B$5,TRUE),0))","v":0.99989220835111003},{"$f":"IF(AND($A77=0,Berechnung!$B$6=0),1,IF(Berechnung!$B$6<>0,_xlfn.NORM.DIST($A77,0,Berechnung!$B$6,FALSE),0))","v":2.9172827601131246E-5},{"$f":"IF(AND($A77>=0,Berechnung!$B$6=0),1,IF(Berechnung!$B$6<>0,_xlfn.NORM.DIST($A77,0,Berechnung!$B$6,TRUE),0))","v":0.99989191292152879},{"$f":"IF(AND($A77=0,Berechnung!$B$7=0),1,IF(Berechnung!$B$7<>0,_xlfn.NORM.DIST($A77,0,Berechnung!$B$7,FALSE),0))","v":6.7509809442480959E-10},{"$f":"IF(AND($A77>=0,Berechnung!$B$7=0),1,IF(Berechnung!$B$7<>0,_xlfn.NORM.DIST($A77,0,Berechnung!$B$7,TRUE),0))","v":0.9999999990134123},{"$f":"IF(AND($A77=0,Berechnung!$B$8=0),1,IF(Berechnung!$B$8<>0,_xlfn.NORM.DIST($A77,0,Berechnung!$B$8,FALSE),0))","v":6.7509809442480959E-10},{"$f":"IF(AND($A77>=0,Berechnung!$B$8=0),1,IF(Berechnung!$B$8<>0,_xlfn.NORM.DIST($A77,0,Berechnung!$B$8,TRUE),0))","v":0.9999999990134123},{"$f":"IF(AND($A77=0,Berechnung!$B$9=0),1,IF(Berechnung!$B$9<>0,_xlfn.NORM.DIST($A77,0,Berechnung!$B$9,FALSE),0))","v":4.903703571275098E-8},{"$f":"IF(AND($A77>=0,Berechnung!$B$9=0),1,IF(Berechnung!$B$9<>0,_xlfn.NORM.DIST($A77,0,Berechnung!$B$9,TRUE),0))","v":0.99999990571115649},{"$f":"IF(AND($A77=0,Berechnung!$B$10=0),1,IF(Berechnung!$B$10<>0,_xlfn.NORM.DIST($A77,0,Berechnung!$B$10,FALSE),0))","v":5.2879661854402601E-7},{"$f":"IF(AND($A77>=0,Berechnung!$B$10=0),1,IF(Berechnung!$B$10<>0,_xlfn.NORM.DIST($A77,0,Berechnung!$B$10,TRUE),0))","v":0.99999876462391046},{"$f":"IF(AND($A77=0,Berechnung!$B$11=0),1,IF(Berechnung!$B$11<>0,_xlfn.NORM.DIST($A77,0,Berechnung!$B$11,FALSE),0))","v":0},{"$f":"IF(AND($A77>=0,Berechnung!$B$11=0),1,IF(Berechnung!$B$11<>0,_xlfn.NORM.DIST($A77,0,Berechnung!$B$11,TRUE),0))","v":1},{"$f":"Demonstrator!$J$19*'Daten Diagramm'!H77+Demonstrator!$J$24*'Daten Diagramm'!L77","v":5.8351055987017876E-6},{"$f":"Demonstrator!$J$19*'Daten Diagramm'!I77+Demonstrator!$J$24*'Daten Diagramm'!M77","v":0.99997838179503562}]
[55,{"$f":"IF(AND(A78=0,Berechnung!$B$3=0),1,IF(Berechnung!$B$3<>0,_xlfn.NORM.DIST(A78,0,Berechnung!$B$3,FALSE),0))","v":3.4447395980241831E-10},{"$f":"IF(AND($A78>=0,Berechnung!$B$3=0),1,IF(Berechnung!$B$3<>0,_xlfn.NORM.DIST($A78,0,Berechnung!$B$3,TRUE),0))","v":0.99999999950530072},{"$f":"IF(AND($A78=0,Berechnung!$B$4=0),1,IF(Berechnung!$B$4<>0,_xlfn.NORM.DIST($A78,0,Berechnung!$B$4,FALSE),0))","v":3.4447395980241831E-10},{"$f":"IF(AND($A78>=0,Berechnung!$B$4=0),1,IF(Berechnung!$B$4<>0,_xlfn.NORM.DIST($A78,0,Berechnung!$B$4,TRUE),0))","v":0.99999999950530072},{"$f":"IF(AND($A78=0,Berechnung!$B$5=0),1,IF(Berechnung!$B$5<>0,_xlfn.NORM.DIST($A78,0,Berechnung!$B$5,FALSE),0))","v":2.2533136852264624E-5},{"$f":"IF(AND($A78>=0,Berechnung!$B$5=0),1,IF(Berechnung!$B$5<>0,_xlfn.NORM.DIST($A78,0,Berechnung!$B$5,TRUE),0))","v":0.99991789672338294},{"$f":"IF(AND($A78=0,Berechnung!$B$6=0),1,IF(Berechnung!$B$6<>0,_xlfn.NORM.DIST($A78,0,Berechnung!$B$6,FALSE),0))","v":2.2589049074271221E-5},{"$f":"IF(AND($A78>=0,Berechnung!$B$6=0),1,IF(Berechnung!$B$6<>0,_xlfn.NORM.DIST($A78,0,Berechnung!$B$6,TRUE),0))","v":0.99991766374185909},{"$f":"IF(AND($A78=0,Berechnung!$B$7=0),1,IF(Berechnung!$B$7<>0,_xlfn.NORM.DIST($A78,0,Berechnung!$B$7,FALSE),0))","v":3.4447395980241831E-10},{"$f":"IF(AND($A78>=0,Berechnung!$B$7=0),1,IF(Berechnung!$B$7<>0,_xlfn.NORM.DIST($A78,0,Berechnung!$B$7,TRUE),0))","v":0.99999999950530072},{"$f":"IF(AND($A78=0,Berechnung!$B$8=0),1,IF(Berechnung!$B$8<>0,_xlfn.NORM.DIST($A78,0,Berechnung!$B$8,FALSE),0))","v":3.4447395980241831E-10},{"$f":"IF(AND($A78>=0,Berechnung!$B$8=0),1,IF(Berechnung!$B$8<>0,_xlfn.NORM.DIST($A78,0,Berechnung!$B$8,TRUE),0))","v":0.99999999950530072},{"$f":"IF(AND($A78=0,Berechnung!$B$9=0),1,IF(Berechnung!$B$9<>0,_xlfn.NORM.DIST($A78,0,Berechnung!$B$9,FALSE),0))","v":2.9523974855358585E-8},{"$f":"IF(AND($A78>=0,Berechnung!$B$9=0),1,IF(Berechnung!$B$9<>0,_xlfn.NORM.DIST($A78,0,Berechnung!$B$9,TRUE),0))","v":0.99999994419986937},{"$f":"IF(AND($A78=0,Berechnung!$B$10=0),1,IF(Berechnung!$B$10<>0,_xlfn.NORM.DIST($A78,0,Berechnung!$B$10,FALSE),0))","v":3.4928573516614584E-7},{"$f":"IF(AND($A78>=0,Berechnung!$B$10=0),1,IF(Berechnung!$B$10<>0,_xlfn.NORM.DIST($A78,0,Berechnung!$B$10,TRUE),0))","v":0.99999919775279955},{"$f":"IF(AND($A78=0,Berechnung!$B$11=0),1,IF(Berechnung!$B$11<>0,_xlfn.NORM.DIST($A78,0,Berechnung!$B$11,FALSE),0))","v":0},{"$f":"IF(AND($A78>=0,Berechnung!$B$11=0),1,IF(Berechnung!$B$11<>0,_xlfn.NORM.DIST($A78,0,Berechnung!$B$11,TRUE),0))","v":1},{"$f":"Demonstrator!$J$19*'Daten Diagramm'!H78+Demonstrator!$J$24*'Daten Diagramm'!L78","v":4.5180853940220848E-6},{"$f":"Demonstrator!$J$19*'Daten Diagramm'!I78+Demonstrator!$J$24*'Daten Diagramm'!M78","v":0.99998353235261239}]
[56,{"$f":"IF(AND(A79=0,Berechnung!$B$3=0),1,IF(Berechnung!$B$3<>0,_xlfn.NORM.DIST(A79,0,Berechnung!$B$3,FALSE),0))","v":1.7361380379784211E-10},{"$f":"IF(AND($A79>=0,Berechnung!$B$3=0),1,IF(Berechnung!$B$3<>0,_xlfn.NORM.DIST($A79,0,Berechnung!$B$3,TRUE),0))","v":0.99999999975491893},{"$f":"IF(AND($A79=0,Berechnung!$B$4=0),1,IF(Berechnung!$B$4<>0,_xlfn.NORM.DIST($A79,0,Berechnung!$B$4,FALSE),0))","v":1.7361380379784211E-10},{"$f":"IF(AND($A79>=0,Berechnung!$B$4=0),1,IF(Berechnung!$B$4<>0,_xlfn.NORM.DIST($A79,0,Berechnung!$B$4,TRUE),0))","v":0.99999999975491893},{"$f":"IF(AND($A79=0,Berechnung!$B$5=0),1,IF(Berechnung!$B$5<>0,_xlfn.NORM.DIST($A79,0,Berechnung!$B$5,FALSE),0))","v":1.7364425371981161E-5},{"$f":"IF(AND($A79>=0,Berechnung!$B$5=0),1,IF(Berechnung!$B$5<>0,_xlfn.NORM.DIST($A79,0,Berechnung!$B$5,TRUE),0))","v":0.99993774115375444},{"$f":"IF(AND($A79=0,Berechnung!$B$6=0),1,IF(Berechnung!$B$6<>0,_xlfn.NORM.DIST($A79,0,Berechnung!$B$6,FALSE),0))","v":1.7409215313885498E-5},{"$f":"IF(AND($A79>=0,Berechnung!$B$6=0),1,IF(Berechnung!$B$6<>0,_xlfn.NORM.DIST($A79,0,Berechnung!$B$6,TRUE),0))","v":0.99993755834085607},{"$f":"IF(AND($A79=0,Berechnung!$B$7=0),1,IF(Berechnung!$B$7<>0,_xlfn.NORM.DIST($A79,0,Berechnung!$B$7,FALSE),0))","v":1.7361380379784211E-10},{"$f":"IF(AND($A79>=0,Berechnung!$B$7=0),1,IF(Berechnung!$B$7<>0,_xlfn.NORM.DIST($A79,0,Berechnung!$B$7,TRUE),0))","v":0.99999999975491893},{"$f":"IF(AND($A79=0,Berechnung!$B$8=0),1,IF(Berechnung!$B$8<>0,_xlfn.NORM.DIST($A79,0,Berechnung!$B$8,FALSE),0))","v":1.7361380379784211E-10},{"$f":"IF(AND($A79>=0,Berechnung!$B$8=0),1,IF(Berechnung!$B$8<>0,_xlfn.NORM.DIST($A79,0,Berechnung!$B$8,TRUE),0))","v":0.99999999975491893},{"$f":"IF(AND($A79=0,Berechnung!$B$9=0),1,IF(Berechnung!$B$9<>0,_xlfn.NORM.DIST($A79,0,Berechnung!$B$9,FALSE),0))","v":1.7610931847673168E-8},{"$f":"IF(AND($A79>=0,Berechnung!$B$9=0),1,IF(Berechnung!$B$9<>0,_xlfn.NORM.DIST($A79,0,Berechnung!$B$9,TRUE),0))","v":0.99999996727446849},{"$f":"IF(AND($A79=0,Berechnung!$B$10=0),1,IF(Berechnung!$B$10<>0,_xlfn.NORM.DIST($A79,0,Berechnung!$B$10,FALSE),0))","v":2.2896457741790823E-7},{"$f":"IF(AND($A79>=0,Berechnung!$B$10=0),1,IF(Berechnung!$B$10<>0,_xlfn.NORM.DIST($A79,0,Berechnung!$B$10,TRUE),0))","v":0.99999948283615359},{"$f":"IF(AND($A79=0,Berechnung!$B$11=0),1,IF(Berechnung!$B$11<>0,_xlfn.NORM.DIST($A79,0,Berechnung!$B$11,FALSE),0))","v":0},{"$f":"IF(AND($A79>=0,Berechnung!$B$11=0),1,IF(Berechnung!$B$11<>0,_xlfn.NORM.DIST($A79,0,Berechnung!$B$11,TRUE),0))","v":1},{"$f":"Demonstrator!$J$19*'Daten Diagramm'!H79+Demonstrator!$J$24*'Daten Diagramm'!L79","v":3.481981953820137E-6},{"$f":"Demonstrator!$J$19*'Daten Diagramm'!I79+Demonstrator!$J$24*'Daten Diagramm'!M79","v":0.99998751147210641}]
[57,{"$f":"IF(AND(A80=0,Berechnung!$B$3=0),1,IF(Berechnung!$B$3<>0,_xlfn.NORM.DIST(A80,0,Berechnung!$B$3,FALSE),0))","v":8.6427200756329948E-11},{"$f":"IF(AND($A80>=0,Berechnung!$B$3=0),1,IF(Berechnung!$B$3<>0,_xlfn.NORM.DIST($A80,0,Berechnung!$B$3,TRUE),0))","v":0.99999999988003974},{"$f":"IF(AND($A80=0,Berechnung!$B$4=0),1,IF(Berechnung!$B$4<>0,_xlfn.NORM.DIST($A80,0,Berechnung!$B$4,FALSE),0))","v":8.6427200756329948E-11},{"$f":"IF(AND($A80>=0,Berechnung!$B$4=0),1,IF(Berechnung!$B$4<>0,_xlfn.NORM.DIST($A80,0,Berechnung!$B$4,TRUE),0))","v":0.99999999988003974},{"$f":"IF(AND($A80=0,Berechnung!$B$5=0),1,IF(Berechnung!$B$5<>0,_xlfn.NORM.DIST($A80,0,Berechnung!$B$5,FALSE),0))","v":1.331865093097514E-5},{"$f":"IF(AND($A80>=0,Berechnung!$B$5=0),1,IF(Berechnung!$B$5<>0,_xlfn.NORM.DIST($A80,0,Berechnung!$B$5,TRUE),0))","v":0.99995299932699544},{"$f":"IF(AND($A80=0,Berechnung!$B$6=0),1,IF(Berechnung!$B$6<>0,_xlfn.NORM.DIST($A80,0,Berechnung!$B$6,FALSE),0))","v":1.3354335062209125E-5},{"$f":"IF(AND($A80>=0,Berechnung!$B$6=0),1,IF(Berechnung!$B$6<>0,_xlfn.NORM.DIST($A80,0,Berechnung!$B$6,TRUE),0))","v":0.99995285659704336},{"$f":"IF(AND($A80=0,Berechnung!$B$7=0),1,IF(Berechnung!$B$7<>0,_xlfn.NORM.DIST($A80,0,Berechnung!$B$7,FALSE),0))","v":8.6427200756329948E-11},{"$f":"IF(AND($A80>=0,Berechnung!$B$7=0),1,IF(Berechnung!$B$7<>0,_xlfn.NORM.DIST($A80,0,Berechnung!$B$7,TRUE),0))","v":0.99999999988003974},{"$f":"IF(AND($A80=0,Berechnung!$B$8=0),1,IF(Berechnung!$B$8<>0,_xlfn.NORM.DIST($A80,0,Berechnung!$B$8,FALSE),0))","v":8.6427200756329948E-11},{"$f":"IF(AND($A80>=0,Berechnung!$B$8=0),1,IF(Berechnung!$B$8<>0,_xlfn.NORM.DIST($A80,0,Berechnung!$B$8,TRUE),0))","v":0.99999999988003974},{"$f":"IF(AND($A80=0,Berechnung!$B$9=0),1,IF(Berechnung!$B$9<>0,_xlfn.NORM.DIST($A80,0,Berechnung!$B$9,FALSE),0))","v":1.0407507633690547E-8},{"$f":"IF(AND($A80>=0,Berechnung!$B$9=0),1,IF(Berechnung!$B$9<>0,_xlfn.NORM.DIST($A80,0,Berechnung!$B$9,TRUE),0))","v":0.99999998097996978},{"$f":"IF(AND($A80=0,Berechnung!$B$10=0),1,IF(Berechnung!$B$10<>0,_xlfn.NORM.DIST($A80,0,Berechnung!$B$10,FALSE),0))","v":1.4895360468520748E-7},{"$f":"IF(AND($A80>=0,Berechnung!$B$10=0),1,IF(Berechnung!$B$10<>0,_xlfn.NORM.DIST($A80,0,Berechnung!$B$10,TRUE),0))","v":0.99999966905512083},{"$f":"IF(AND($A80=0,Berechnung!$B$11=0),1,IF(Berechnung!$B$11<>0,_xlfn.NORM.DIST($A80,0,Berechnung!$B$11,FALSE),0))","v":0},{"$f":"IF(AND($A80>=0,Berechnung!$B$11=0),1,IF(Berechnung!$B$11<>0,_xlfn.NORM.DIST($A80,0,Berechnung!$B$11,TRUE),0))","v":1},{"$f":"Demonstrator!$J$19*'Daten Diagramm'!H80+Demonstrator!$J$24*'Daten Diagramm'!L80","v":2.6709361542024292E-6},{"$f":"Demonstrator!$J$19*'Daten Diagramm'!I80+Demonstrator!$J$24*'Daten Diagramm'!M80","v":0.99999057122344048}]
[58,{"$f":"IF(AND(A81=0,Berechnung!$B$3=0),1,IF(Berechnung!$B$3<>0,_xlfn.NORM.DIST(A81,0,Berechnung!$B$3,FALSE),0))","v":4.2496677934247165E-11},{"$f":"IF(AND($A81>=0,Berechnung!$B$3=0),1,IF(Berechnung!$B$3<>0,_xlfn.NORM.DIST($A81,0,Berechnung!$B$3,TRUE),0))","v":0.99999999994198774},{"$f":"IF(AND($A81=0,Berechnung!$B$4=0),1,IF(Berechnung!$B$4<>0,_xlfn.NORM.DIST($A81,0,Berechnung!$B$4,FALSE),0))","v":4.2496677934247165E-11},{"$f":"IF(AND($A81>=0,Berechnung!$B$4=0),1,IF(Berechnung!$B$4<>0,_xlfn.NORM.DIST($A81,0,Berechnung!$B$4,TRUE),0))","v":0.99999999994198774},{"$f":"IF(AND($A81=0,Berechnung!$B$5=0),1,IF(Berechnung!$B$5<>0,_xlfn.NORM.DIST($A81,0,Berechnung!$B$5,FALSE),0))","v":1.0167662356771746E-5},{"$f":"IF(AND($A81>=0,Berechnung!$B$5=0),1,IF(Berechnung!$B$5<>0,_xlfn.NORM.DIST($A81,0,Berechnung!$B$5,TRUE),0))","v":0.9999646762468537},{"$f":"IF(AND($A81=0,Berechnung!$B$6=0),1,IF(Berechnung!$B$6<>0,_xlfn.NORM.DIST($A81,0,Berechnung!$B$6,FALSE),0))","v":1.0195937503703378E-5},{"$f":"IF(AND($A81>=0,Berechnung!$B$6=0),1,IF(Berechnung!$B$6<>0,_xlfn.NORM.DIST($A81,0,Berechnung!$B$6,TRUE),0))","v":0.99996456536737977},{"$f":"IF(AND($A81=0,Berechnung!$B$7=0),1,IF(Berechnung!$B$7<>0,_xlfn.NORM.DIST($A81,0,Berechnung!$B$7,FALSE),0))","v":4.2496677934247165E-11},{"$f":"IF(AND($A81>=0,Berechnung!$B$7=0),1,IF(Berechnung!$B$7<>0,_xlfn.NORM.DIST($A81,0,Berechnung!$B$7,TRUE),0))","v":0.99999999994198774},{"$f":"IF(AND($A81=0,Berechnung!$B$8=0),1,IF(Berechnung!$B$8<>0,_xlfn.NORM.DIST($A81,0,Berechnung!$B$8,FALSE),0))","v":4.2496677934247165E-11},{"$f":"IF(AND($A81>=0,Berechnung!$B$8=0),1,IF(Berechnung!$B$8<>0,_xlfn.NORM.DIST($A81,0,Berechnung!$B$8,TRUE),0))","v":0.99999999994198774},{"$f":"IF(AND($A81=0,Berechnung!$B$9=0),1,IF(Berechnung!$B$9<>0,_xlfn.NORM.DIST($A81,0,Berechnung!$B$9,FALSE),0))","v":6.0935170670589869E-9},{"$f":"IF(AND($A81>=0,Berechnung!$B$9=0),1,IF(Berechnung!$B$9<>0,_xlfn.NORM.DIST($A81,0,Berechnung!$B$9,TRUE),0))","v":0.99999998904517973},{"$f":"IF(AND($A81=0,Berechnung!$B$10=0),1,IF(Berechnung!$B$10<>0,_xlfn.NORM.DIST($A81,0,Berechnung!$B$10,FALSE),0))","v":9.6167650494809813E-8},{"$f":"IF(AND($A81>=0,Berechnung!$B$10=0),1,IF(Berechnung!$B$10<>0,_xlfn.NORM.DIST($A81,0,Berechnung!$B$10,TRUE),0))","v":0.99999978977347703},{"$f":"IF(AND($A81=0,Berechnung!$B$11=0),1,IF(Berechnung!$B$11<>0,_xlfn.NORM.DIST($A81,0,Berechnung!$B$11,FALSE),0))","v":0},{"$f":"IF(AND($A81>=0,Berechnung!$B$11=0),1,IF(Berechnung!$B$11<>0,_xlfn.NORM.DIST($A81,0,Berechnung!$B$11,TRUE),0))","v":1},{"$f":"Demonstrator!$J$19*'Daten Diagramm'!H81+Demonstrator!$J$24*'Daten Diagramm'!L81","v":2.0392214980830225E-6},{"$f":"Demonstrator!$J$19*'Daten Diagramm'!I81+Demonstrator!$J$24*'Daten Diagramm'!M81","v":0.99999291302706617}]
[59,{"$f":"IF(AND(A82=0,Berechnung!$B$3=0),1,IF(Berechnung!$B$3<>0,_xlfn.NORM.DIST(A82,0,Berechnung!$B$3,FALSE),0))","v":2.063943743942297E-11},{"$f":"IF(AND($A82>=0,Berechnung!$B$3=0),1,IF(Berechnung!$B$3<>0,_xlfn.NORM.DIST($A82,0,Berechnung!$B$3,TRUE),0))","v":0.99999999997228239},{"$f":"IF(AND($A82=0,Berechnung!$B$4=0),1,IF(Berechnung!$B$4<>0,_xlfn.NORM.DIST($A82,0,Berechnung!$B$4,FALSE),0))","v":2.063943743942297E-11},{"$f":"IF(AND($A82>=0,Berechnung!$B$4=0),1,IF(Berechnung!$B$4<>0,_xlfn.NORM.DIST($A82,0,Berechnung!$B$4,TRUE),0))","v":0.99999999997228239},{"$f":"IF(AND($A82=0,Berechnung!$B$5=0),1,IF(Berechnung!$B$5<>0,_xlfn.NORM.DIST($A82,0,Berechnung!$B$5,FALSE),0))","v":7.7257927552508351E-6},{"$f":"IF(AND($A82>=0,Berechnung!$B$5=0),1,IF(Berechnung!$B$5<>0,_xlfn.NORM.DIST($A82,0,Berechnung!$B$5,TRUE),0))","v":0.99997357063158165},{"$f":"IF(AND($A82=0,Berechnung!$B$6=0),1,IF(Berechnung!$B$6<>0,_xlfn.NORM.DIST($A82,0,Berechnung!$B$6,FALSE),0))","v":7.7480762371469319E-6},{"$f":"IF(AND($A82>=0,Berechnung!$B$6=0),1,IF(Berechnung!$B$6<>0,_xlfn.NORM.DIST($A82,0,Berechnung!$B$6,TRUE),0))","v":0.99997348492394567},{"$f":"IF(AND($A82=0,Berechnung!$B$7=0),1,IF(Berechnung!$B$7<>0,_xlfn.NORM.DIST($A82,0,Berechnung!$B$7,FALSE),0))","v":2.063943743942297E-11},{"$f":"IF(AND($A82>=0,Berechnung!$B$7=0),1,IF(Berechnung!$B$7<>0,_xlfn.NORM.DIST($A82,0,Berechnung!$B$7,TRUE),0))","v":0.99999999997228239},{"$f":"IF(AND($A82=0,Berechnung!$B$8=0),1,IF(Berechnung!$B$8<>0,_xlfn.NORM.DIST($A82,0,Berechnung!$B$8,FALSE),0))","v":2.063943743942297E-11},{"$f":"IF(AND($A82>=0,Berechnung!$B$8=0),1,IF(Berechnung!$B$8<>0,_xlfn.NORM.DIST($A82,0,Berechnung!$B$8,TRUE),0))","v":0.99999999997228239},{"$f":"IF(AND($A82=0,Berechnung!$B$9=0),1,IF(Berechnung!$B$9<>0,_xlfn.NORM.DIST($A82,0,Berechnung!$B$9,FALSE),0))","v":3.5346483815169862E-9},{"$f":"IF(AND($A82>=0,Berechnung!$B$9=0),1,IF(Berechnung!$B$9<>0,_xlfn.NORM.DIST($A82,0,Berechnung!$B$9,TRUE),0))","v":0.99999999374732895},{"$f":"IF(AND($A82=0,Berechnung!$B$10=0),1,IF(Berechnung!$B$10<>0,_xlfn.NORM.DIST($A82,0,Berechnung!$B$10,FALSE),0))","v":6.1617243131632146E-8},{"$f":"IF(AND($A82>=0,Berechnung!$B$10=0),1,IF(Berechnung!$B$10<>0,_xlfn.NORM.DIST($A82,0,Berechnung!$B$10,TRUE),0))","v":0.999999867437531},{"$f":"IF(AND($A82=0,Berechnung!$B$11=0),1,IF(Berechnung!$B$11<>0,_xlfn.NORM.DIST($A82,0,Berechnung!$B$11,FALSE),0))","v":0},{"$f":"IF(AND($A82>=0,Berechnung!$B$11=0),1,IF(Berechnung!$B$11<>0,_xlfn.NORM.DIST($A82,0,Berechnung!$B$11,TRUE),0))","v":1},{"$f":"Demonstrator!$J$19*'Daten Diagramm'!H82+Demonstrator!$J$24*'Daten Diagramm'!L82","v":1.5496317589793375E-6},{"$f":"Demonstrator!$J$19*'Daten Diagramm'!I82+Demonstrator!$J$24*'Daten Diagramm'!M82","v":0.99999469696261511}]
[60,{"$f":"IF(AND(A83=0,Berechnung!$B$3=0),1,IF(Berechnung!$B$3<>0,_xlfn.NORM.DIST(A83,0,Berechnung!$B$3,FALSE),0))","v":9.901000208169058E-12},{"$f":"IF(AND($A83>=0,Berechnung!$B$3=0),1,IF(Berechnung!$B$3<>0,_xlfn.NORM.DIST($A83,0,Berechnung!$B$3,TRUE),0))","v":0.99999999998691602},{"$f":"IF(AND($A83=0,Berechnung!$B$4=0),1,IF(Berechnung!$B$4<>0,_xlfn.NORM.DIST($A83,0,Berechnung!$B$4,FALSE),0))","v":9.901000208169058E-12},{"$f":"IF(AND($A83>=0,Berechnung!$B$4=0),1,IF(Berechnung!$B$4<>0,_xlfn.NORM.DIST($A83,0,Berechnung!$B$4,TRUE),0))","v":0.99999999998691602},{"$f":"IF(AND($A83=0,Berechnung!$B$5=0),1,IF(Berechnung!$B$5<>0,_xlfn.NORM.DIST($A83,0,Berechnung!$B$5,FALSE),0))","v":5.842867674963305E-6},{"$f":"IF(AND($A83>=0,Berechnung!$B$5=0),1,IF(Berechnung!$B$5<>0,_xlfn.NORM.DIST($A83,0,Berechnung!$B$5,TRUE),0))","v":0.99998031382125563},{"$f":"IF(AND($A83=0,Berechnung!$B$6=0),1,IF(Berechnung!$B$6<>0,_xlfn.NORM.DIST($A83,0,Berechnung!$B$6,FALSE),0))","v":5.8603348297895462E-6},{"$f":"IF(AND($A83>=0,Berechnung!$B$6=0),1,IF(Berechnung!$B$6<>0,_xlfn.NORM.DIST($A83,0,Berechnung!$B$6,TRUE),0))","v":0.99998024790014162},{"$f":"IF(AND($A83=0,Berechnung!$B$7=0),1,IF(Berechnung!$B$7<>0,_xlfn.NORM.DIST($A83,0,Berechnung!$B$7,FALSE),0))","v":9.901000208169058E-12},{"$f":"IF(AND($A83>=0,Berechnung!$B$7=0),1,IF(Berechnung!$B$7<>0,_xlfn.NORM.DIST($A83,0,Berechnung!$B$7,TRUE),0))","v":0.99999999998691602},{"$f":"IF(AND($A83=0,Berechnung!$B$8=0),1,IF(Berechnung!$B$8<>0,_xlfn.NORM.DIST($A83,0,Berechnung!$B$8,FALSE),0))","v":9.901000208169058E-12},{"$f":"IF(AND($A83>=0,Berechnung!$B$8=0),1,IF(Berechnung!$B$8<>0,_xlfn.NORM.DIST($A83,0,Berechnung!$B$8,TRUE),0))","v":0.99999999998691602},{"$f":"IF(AND($A83=0,Berechnung!$B$9=0),1,IF(Berechnung!$B$9<>0,_xlfn.NORM.DIST($A83,0,Berechnung!$B$9,FALSE),0))","v":2.0313338030071703E-9},{"$f":"IF(AND($A83>=0,Berechnung!$B$9=0),1,IF(Berechnung!$B$9<>0,_xlfn.NORM.DIST($A83,0,Berechnung!$B$9,TRUE),0))","v":0.99999999646337501},{"$f":"IF(AND($A83=0,Berechnung!$B$10=0),1,IF(Berechnung!$B$10<>0,_xlfn.NORM.DIST($A83,0,Berechnung!$B$10,FALSE),0))","v":3.9180573637447428E-8},{"$f":"IF(AND($A83>=0,Berechnung!$B$10=0),1,IF(Berechnung!$B$10<>0,_xlfn.NORM.DIST($A83,0,Berechnung!$B$10,TRUE),0))","v":0.99999991702410973},{"$f":"IF(AND($A83=0,Berechnung!$B$11=0),1,IF(Berechnung!$B$11<>0,_xlfn.NORM.DIST($A83,0,Berechnung!$B$11,FALSE),0))","v":0},{"$f":"IF(AND($A83>=0,Berechnung!$B$11=0),1,IF(Berechnung!$B$11<>0,_xlfn.NORM.DIST($A83,0,Berechnung!$B$11,TRUE),0))","v":1},{"$f":"Demonstrator!$J$19*'Daten Diagramm'!H83+Demonstrator!$J$24*'Daten Diagramm'!L83","v":1.1720748867580756E-6},{"$f":"Demonstrator!$J$19*'Daten Diagramm'!I83+Demonstrator!$J$24*'Daten Diagramm'!M83","v":0.99999604956956112}]
[61,{"$f":"IF(AND(A84=0,Berechnung!$B$3=0),1,IF(Berechnung!$B$3<>0,_xlfn.NORM.DIST(A84,0,Berechnung!$B$3,FALSE),0))","v":4.6913585166765737E-12},{"$f":"IF(AND($A84>=0,Berechnung!$B$3=0),1,IF(Berechnung!$B$3<>0,_xlfn.NORM.DIST($A84,0,Berechnung!$B$3,TRUE),0))","v":0.9999999999938981},{"$f":"IF(AND($A84=0,Berechnung!$B$4=0),1,IF(Berechnung!$B$4<>0,_xlfn.NORM.DIST($A84,0,Berechnung!$B$4,FALSE),0))","v":4.6913585166765737E-12},{"$f":"IF(AND($A84>=0,Berechnung!$B$4=0),1,IF(Berechnung!$B$4<>0,_xlfn.NORM.DIST($A84,0,Berechnung!$B$4,TRUE),0))","v":0.9999999999938981},{"$f":"IF(AND($A84=0,Berechnung!$B$5=0),1,IF(Berechnung!$B$5<>0,_xlfn.NORM.DIST($A84,0,Berechnung!$B$5,FALSE),0))","v":4.3981507032834453E-6},{"$f":"IF(AND($A84>=0,Berechnung!$B$5=0),1,IF(Berechnung!$B$5<>0,_xlfn.NORM.DIST($A84,0,Berechnung!$B$5,TRUE),0))","v":0.99998540216794474},{"$f":"IF(AND($A84=0,Berechnung!$B$6=0),1,IF(Berechnung!$B$6<>0,_xlfn.NORM.DIST($A84,0,Berechnung!$B$6,FALSE),0))","v":4.4117693501528639E-6},{"$f":"IF(AND($A84>=0,Berechnung!$B$6=0),1,IF(Berechnung!$B$6<>0,_xlfn.NORM.DIST($A84,0,Berechnung!$B$6,TRUE),0))","v":0.99998535171687852},{"$f":"IF(AND($A84=0,Berechnung!$B$7=0),1,IF(Berechnung!$B$7<>0,_xlfn.NORM.DIST($A84,0,Berechnung!$B$7,FALSE),0))","v":4.6913585166765737E-12},{"$f":"IF(AND($A84>=0,Berechnung!$B$7=0),1,IF(Berechnung!$B$7<>0,_xlfn.NORM.DIST($A84,0,Berechnung!$B$7,TRUE),0))","v":0.9999999999938981},{"$f":"IF(AND($A84=0,Berechnung!$B$8=0),1,IF(Berechnung!$B$8<>0,_xlfn.NORM.DIST($A84,0,Berechnung!$B$8,FALSE),0))","v":4.6913585166765737E-12},{"$f":"IF(AND($A84>=0,Berechnung!$B$8=0),1,IF(Berechnung!$B$8<>0,_xlfn.NORM.DIST($A84,0,Berechnung!$B$8,TRUE),0))","v":0.9999999999938981},{"$f":"IF(AND($A84=0,Berechnung!$B$9=0),1,IF(Berechnung!$B$9<>0,_xlfn.NORM.DIST($A84,0,Berechnung!$B$9,FALSE),0))","v":1.1565735751878761E-9},{"$f":"IF(AND($A84>=0,Berechnung!$B$9=0),1,IF(Berechnung!$B$9<>0,_xlfn.NORM.DIST($A84,0,Berechnung!$B$9,TRUE),0))","v":0.99999999801768558},{"$f":"IF(AND($A84=0,Berechnung!$B$10=0),1,IF(Berechnung!$B$10<>0,_xlfn.NORM.DIST($A84,0,Berechnung!$B$10,FALSE),0))","v":2.4724902425927298E-8},{"$f":"IF(AND($A84>=0,Berechnung!$B$10=0),1,IF(Berechnung!$B$10<>0,_xlfn.NORM.DIST($A84,0,Berechnung!$B$10,TRUE),0))","v":0.99999994844406592},{"$f":"IF(AND($A84=0,Berechnung!$B$11=0),1,IF(Berechnung!$B$11<>0,_xlfn.NORM.DIST($A84,0,Berechnung!$B$11,FALSE),0))","v":0},{"$f":"IF(AND($A84>=0,Berechnung!$B$11=0),1,IF(Berechnung!$B$11<>0,_xlfn.NORM.DIST($A84,0,Berechnung!$B$11,TRUE),0))","v":1},{"$f":"Demonstrator!$J$19*'Daten Diagramm'!H84+Demonstrator!$J$24*'Daten Diagramm'!L84","v":8.8235762311738588E-7},{"$f":"Demonstrator!$J$19*'Daten Diagramm'!I84+Demonstrator!$J$24*'Daten Diagramm'!M84","v":0.99999707033849417}]
[62,{"$f":"IF(AND(A85=0,Berechnung!$B$3=0),1,IF(Berechnung!$B$3<>0,_xlfn.NORM.DIST(A85,0,Berechnung!$B$3,FALSE),0))","v":2.1956166558093783E-12},{"$f":"IF(AND($A85>=0,Berechnung!$B$3=0),1,IF(Berechnung!$B$3<>0,_xlfn.NORM.DIST($A85,0,Berechnung!$B$3,TRUE),0))","v":0.99999999999718847},{"$f":"IF(AND($A85=0,Berechnung!$B$4=0),1,IF(Berechnung!$B$4<>0,_xlfn.NORM.DIST($A85,0,Berechnung!$B$4,FALSE),0))","v":2.1956166558093783E-12},{"$f":"IF(AND($A85>=0,Berechnung!$B$4=0),1,IF(Berechnung!$B$4<>0,_xlfn.NORM.DIST($A85,0,Berechnung!$B$4,TRUE),0))","v":0.99999999999718847},{"$f":"IF(AND($A85=0,Berechnung!$B$5=0),1,IF(Berechnung!$B$5<>0,_xlfn.NORM.DIST($A85,0,Berechnung!$B$5,FALSE),0))","v":3.2951502407513815E-6},{"$f":"IF(AND($A85>=0,Berechnung!$B$5=0),1,IF(Berechnung!$B$5<>0,_xlfn.NORM.DIST($A85,0,Berechnung!$B$5,TRUE),0))","v":0.99998922380874644},{"$f":"IF(AND($A85=0,Berechnung!$B$6=0),1,IF(Berechnung!$B$6<>0,_xlfn.NORM.DIST($A85,0,Berechnung!$B$6,FALSE),0))","v":3.3057118344663614E-6},{"$f":"IF(AND($A85>=0,Berechnung!$B$6=0),1,IF(Berechnung!$B$6<>0,_xlfn.NORM.DIST($A85,0,Berechnung!$B$6,TRUE),0))","v":0.99998918538843584},{"$f":"IF(AND($A85=0,Berechnung!$B$7=0),1,IF(Berechnung!$B$7<>0,_xlfn.NORM.DIST($A85,0,Berechnung!$B$7,FALSE),0))","v":2.1956166558093783E-12},{"$f":"IF(AND($A85>=0,Berechnung!$B$7=0),1,IF(Berechnung!$B$7<>0,_xlfn.NORM.DIST($A85,0,Berechnung!$B$7,TRUE),0))","v":0.99999999999718847},{"$f":"IF(AND($A85=0,Berechnung!$B$8=0),1,IF(Berechnung!$B$8<>0,_xlfn.NORM.DIST($A85,0,Berechnung!$B$8,FALSE),0))","v":2.1956166558093783E-12},{"$f":"IF(AND($A85>=0,Berechnung!$B$8=0),1,IF(Berechnung!$B$8<>0,_xlfn.NORM.DIST($A85,0,Berechnung!$B$8,TRUE),0))","v":0.99999999999718847},{"$f":"IF(AND($A85=0,Berechnung!$B$9=0),1,IF(Berechnung!$B$9<>0,_xlfn.NORM.DIST($A85,0,Berechnung!$B$9,FALSE),0))","v":6.5241228094295451E-10},{"$f":"IF(AND($A85>=0,Berechnung!$B$9=0),1,IF(Berechnung!$B$9<>0,_xlfn.NORM.DIST($A85,0,Berechnung!$B$9,TRUE),0))","v":0.99999999889893432},{"$f":"IF(AND($A85=0,Berechnung!$B$10=0),1,IF(Berechnung!$B$10<>0,_xlfn.NORM.DIST($A85,0,Berechnung!$B$10,FALSE),0))","v":1.5484373982491629E-8},{"$f":"IF(AND($A85>=0,Berechnung!$B$10=0),1,IF(Berechnung!$B$10<>0,_xlfn.NORM.DIST($A85,0,Berechnung!$B$10,TRUE),0))","v":0.99999996820212811},{"$f":"IF(AND($A85=0,Berechnung!$B$11=0),1,IF(Berechnung!$B$11<>0,_xlfn.NORM.DIST($A85,0,Berechnung!$B$11,FALSE),0))","v":0},{"$f":"IF(AND($A85>=0,Berechnung!$B$11=0),1,IF(Berechnung!$B$11<>0,_xlfn.NORM.DIST($A85,0,Berechnung!$B$11,TRUE),0))","v":1},{"$f":"Demonstrator!$J$19*'Daten Diagramm'!H85+Demonstrator!$J$24*'Daten Diagramm'!L85","v":6.6114412338659672E-7},{"$f":"Demonstrator!$J$19*'Daten Diagramm'!I85+Demonstrator!$J$24*'Daten Diagramm'!M85","v":0.99999783707543799}]
[63,{"$f":"IF(AND(A86=0,Berechnung!$B$3=0),1,IF(Berechnung!$B$3<>0,_xlfn.NORM.DIST(A86,0,Berechnung!$B$3,FALSE),0))","v":1.0149689342627326E-12},{"$f":"IF(AND($A86>=0,Berechnung!$B$3=0),1,IF(Berechnung!$B$3<>0,_xlfn.NORM.DIST($A86,0,Berechnung!$B$3,TRUE),0))","v":0.99999999999872013},{"$f":"IF(AND($A86=0,Berechnung!$B$4=0),1,IF(Berechnung!$B$4<>0,_xlfn.NORM.DIST($A86,0,Berechnung!$B$4,FALSE),0))","v":1.0149689342627326E-12},{"$f":"IF(AND($A86>=0,Berechnung!$B$4=0),1,IF(Berechnung!$B$4<>0,_xlfn.NORM.DIST($A86,0,Berechnung!$B$4,TRUE),0))","v":0.99999999999872013},{"$f":"IF(AND($A86=0,Berechnung!$B$5=0),1,IF(Berechnung!$B$5<>0,_xlfn.NORM.DIST($A86,0,Berechnung!$B$5,FALSE),0))","v":2.4572050204248259E-6},{"$f":"IF(AND($A86>=0,Berechnung!$B$5=0),1,IF(Berechnung!$B$5<>0,_xlfn.NORM.DIST($A86,0,Berechnung!$B$5,TRUE),0))","v":0.99999208064197931},{"$f":"IF(AND($A86=0,Berechnung!$B$6=0),1,IF(Berechnung!$B$6<>0,_xlfn.NORM.DIST($A86,0,Berechnung!$B$6,FALSE),0))","v":2.465352420809929E-6},{"$f":"IF(AND($A86>=0,Berechnung!$B$6=0),1,IF(Berechnung!$B$6<>0,_xlfn.NORM.DIST($A86,0,Berechnung!$B$6,TRUE),0))","v":0.99999205152811588},{"$f":"IF(AND($A86=0,Berechnung!$B$7=0),1,IF(Berechnung!$B$7<>0,_xlfn.NORM.DIST($A86,0,Berechnung!$B$7,FALSE),0))","v":1.0149689342627326E-12},{"$f":"IF(AND($A86>=0,Berechnung!$B$7=0),1,IF(Berechnung!$B$7<>0,_xlfn.NORM.DIST($A86,0,Berechnung!$B$7,TRUE),0))","v":0.99999999999872013},{"$f":"IF(AND($A86=0,Berechnung!$B$8=0),1,IF(Berechnung!$B$8<>0,_xlfn.NORM.DIST($A86,0,Berechnung!$B$8,FALSE),0))","v":1.0149689342627326E-12},{"$f":"IF(AND($A86>=0,Berechnung!$B$8=0),1,IF(Berechnung!$B$8<>0,_xlfn.NORM.DIST($A86,0,Berechnung!$B$8,TRUE),0))","v":0.99999999999872013},{"$f":"IF(AND($A86=0,Berechnung!$B$9=0),1,IF(Berechnung!$B$9<>0,_xlfn.NORM.DIST($A86,0,Berechnung!$B$9,FALSE),0))","v":3.6460941732205493E-10},{"$f":"IF(AND($A86>=0,Berechnung!$B$9=0),1,IF(Berechnung!$B$9<>0,_xlfn.NORM.DIST($A86,0,Berechnung!$B$9,TRUE),0))","v":0.99999999939395023},{"$f":"IF(AND($A86=0,Berechnung!$B$10=0),1,IF(Berechnung!$B$10<>0,_xlfn.NORM.DIST($A86,0,Berechnung!$B$10,FALSE),0))","v":9.623830977157829E-9},{"$f":"IF(AND($A86>=0,Berechnung!$B$10=0),1,IF(Berechnung!$B$10<>0,_xlfn.NORM.DIST($A86,0,Berechnung!$B$10,TRUE),0))","v":0.99999998053262174},{"$f":"IF(AND($A86=0,Berechnung!$B$11=0),1,IF(Berechnung!$B$11<>0,_xlfn.NORM.DIST($A86,0,Berechnung!$B$11,FALSE),0))","v":0},{"$f":"IF(AND($A86>=0,Berechnung!$B$11=0),1,IF(Berechnung!$B$11<>0,_xlfn.NORM.DIST($A86,0,Berechnung!$B$11,TRUE),0))","v":1},{"$f":"Demonstrator!$J$19*'Daten Diagramm'!H86+Demonstrator!$J$24*'Daten Diagramm'!L86","v":4.930712961371331E-7},{"$f":"Demonstrator!$J$19*'Daten Diagramm'!I86+Demonstrator!$J$24*'Daten Diagramm'!M86","v":0.99999841030459935}]
[64,{"$f":"IF(AND(A87=0,Berechnung!$B$3=0),1,IF(Berechnung!$B$3<>0,_xlfn.NORM.DIST(A87,0,Berechnung!$B$3,FALSE),0))","v":4.6343339153057952E-13},{"$f":"IF(AND($A87>=0,Berechnung!$B$3=0),1,IF(Berechnung!$B$3<>0,_xlfn.NORM.DIST($A87,0,Berechnung!$B$3,TRUE),0))","v":0.99999999999942446},{"$f":"IF(AND($A87=0,Berechnung!$B$4=0),1,IF(Berechnung!$B$4<>0,_xlfn.NORM.DIST($A87,0,Berechnung!$B$4,FALSE),0))","v":4.6343339153057952E-13},{"$f":"IF(AND($A87>=0,Berechnung!$B$4=0),1,IF(Berechnung!$B$4<>0,_xlfn.NORM.DIST($A87,0,Berechnung!$B$4,TRUE),0))","v":0.99999999999942446},{"$f":"IF(AND($A87=0,Berechnung!$B$5=0),1,IF(Berechnung!$B$5<>0,_xlfn.NORM.DIST($A87,0,Berechnung!$B$5,FALSE),0))","v":1.823763946035451E-6},{"$f":"IF(AND($A87>=0,Berechnung!$B$5=0),1,IF(Berechnung!$B$5<>0,_xlfn.NORM.DIST($A87,0,Berechnung!$B$5,TRUE),0))","v":0.99999420624308077},{"$f":"IF(AND($A87=0,Berechnung!$B$6=0),1,IF(Berechnung!$B$6<>0,_xlfn.NORM.DIST($A87,0,Berechnung!$B$6,FALSE),0))","v":1.8300158538838391E-6},{"$f":"IF(AND($A87>=0,Berechnung!$B$6=0),1,IF(Berechnung!$B$6<>0,_xlfn.NORM.DIST($A87,0,Berechnung!$B$6,TRUE),0))","v":0.99999418429023545},{"$f":"IF(AND($A87=0,Berechnung!$B$7=0),1,IF(Berechnung!$B$7<>0,_xlfn.NORM.DIST($A87,0,Berechnung!$B$7,FALSE),0))","v":4.6343339153057952E-13},{"$f":"IF(AND($A87>=0,Berechnung!$B$7=0),1,IF(Berechnung!$B$7<>0,_xlfn.NORM.DIST($A87,0,Berechnung!$B$7,TRUE),0))","v":0.99999999999942446},{"$f":"IF(AND($A87=0,Berechnung!$B$8=0),1,IF(Berechnung!$B$8<>0,_xlfn.NORM.DIST($A87,0,Berechnung!$B$8,FALSE),0))","v":4.6343339153057952E-13},{"$f":"IF(AND($A87>=0,Berechnung!$B$8=0),1,IF(Berechnung!$B$8<>0,_xlfn.NORM.DIST($A87,0,Berechnung!$B$8,TRUE),0))","v":0.99999999999942446},{"$f":"IF(AND($A87=0,Berechnung!$B$9=0),1,IF(Berechnung!$B$9<>0,_xlfn.NORM.DIST($A87,0,Berechnung!$B$9,FALSE),0))","v":2.0187871318944972E-10},{"$f":"IF(AND($A87>=0,Berechnung!$B$9=0),1,IF(Berechnung!$B$9<>0,_xlfn.NORM.DIST($A87,0,Berechnung!$B$9,TRUE),0))","v":0.99999999966943631},{"$f":"IF(AND($A87=0,Berechnung!$B$10=0),1,IF(Berechnung!$B$10<>0,_xlfn.NORM.DIST($A87,0,Berechnung!$B$10,FALSE),0))","v":5.9360505578625359E-9},{"$f":"IF(AND($A87>=0,Berechnung!$B$10=0),1,IF(Berechnung!$B$10<>0,_xlfn.NORM.DIST($A87,0,Berechnung!$B$10,TRUE),0))","v":0.99999998816946578},{"$f":"IF(AND($A87=0,Berechnung!$B$11=0),1,IF(Berechnung!$B$11<>0,_xlfn.NORM.DIST($A87,0,Berechnung!$B$11,FALSE),0))","v":0},{"$f":"IF(AND($A87>=0,Berechnung!$B$11=0),1,IF(Berechnung!$B$11<>0,_xlfn.NORM.DIST($A87,0,Berechnung!$B$11,TRUE),0))","v":1},{"$f":"Demonstrator!$J$19*'Daten Diagramm'!H87+Demonstrator!$J$24*'Daten Diagramm'!L87","v":3.6600354152348097E-7},{"$f":"Demonstrator!$J$19*'Daten Diagramm'!I87+Demonstrator!$J$24*'Daten Diagramm'!M87","v":0.99999883685758673}]
[65,{"$f":"IF(AND(A88=0,Berechnung!$B$3=0),1,IF(Berechnung!$B$3<>0,_xlfn.NORM.DIST(A88,0,Berechnung!$B$3,FALSE),0))","v":2.0900671294217505E-13},{"$f":"IF(AND($A88>=0,Berechnung!$B$3=0),1,IF(Berechnung!$B$3<>0,_xlfn.NORM.DIST($A88,0,Berechnung!$B$3,TRUE),0))","v":0.99999999999974432},{"$f":"IF(AND($A88=0,Berechnung!$B$4=0),1,IF(Berechnung!$B$4<>0,_xlfn.NORM.DIST($A88,0,Berechnung!$B$4,FALSE),0))","v":2.0900671294217505E-13},{"$f":"IF(AND($A88>=0,Berechnung!$B$4=0),1,IF(Berechnung!$B$4<>0,_xlfn.NORM.DIST($A88,0,Berechnung!$B$4,TRUE),0))","v":0.99999999999974432},{"$f":"IF(AND($A88=0,Berechnung!$B$5=0),1,IF(Berechnung!$B$5<>0,_xlfn.NORM.DIST($A88,0,Berechnung!$B$5,FALSE),0))","v":1.3472770644853649E-6},{"$f":"IF(AND($A88>=0,Berechnung!$B$5=0),1,IF(Berechnung!$B$5<>0,_xlfn.NORM.DIST($A88,0,Berechnung!$B$5,TRUE),0))","v":0.99999578037272052},{"$f":"IF(AND($A88=0,Berechnung!$B$6=0),1,IF(Berechnung!$B$6<>0,_xlfn.NORM.DIST($A88,0,Berechnung!$B$6,FALSE),0))","v":1.3520492711004327E-6},{"$f":"IF(AND($A88>=0,Berechnung!$B$6=0),1,IF(Berechnung!$B$6<>0,_xlfn.NORM.DIST($A88,0,Berechnung!$B$6,TRUE),0))","v":0.99999576390106715},{"$f":"IF(AND($A88=0,Berechnung!$B$7=0),1,IF(Berechnung!$B$7<>0,_xlfn.NORM.DIST($A88,0,Berechnung!$B$7,FALSE),0))","v":2.0900671294217505E-13},{"$f":"IF(AND($A88>=0,Berechnung!$B$7=0),1,IF(Berechnung!$B$7<>0,_xlfn.NORM.DIST($A88,0,Berechnung!$B$7,TRUE),0))","v":0.99999999999974432},{"$f":"IF(AND($A88=0,Berechnung!$B$8=0),1,IF(Berechnung!$B$8<>0,_xlfn.NORM.DIST($A88,0,Berechnung!$B$8,FALSE),0))","v":2.0900671294217505E-13},{"$f":"IF(AND($A88>=0,Berechnung!$B$8=0),1,IF(Berechnung!$B$8<>0,_xlfn.NORM.DIST($A88,0,Berechnung!$B$8,TRUE),0))","v":0.99999999999974432},{"$f":"IF(AND($A88=0,Berechnung!$B$9=0),1,IF(Berechnung!$B$9<>0,_xlfn.NORM.DIST($A88,0,Berechnung!$B$9,FALSE),0))","v":1.1074141438895597E-10},{"$f":"IF(AND($A88>=0,Berechnung!$B$9=0),1,IF(Berechnung!$B$9<>0,_xlfn.NORM.DIST($A88,0,Berechnung!$B$9,TRUE),0))","v":0.99999999982133025},{"$f":"IF(AND($A88=0,Berechnung!$B$10=0),1,IF(Berechnung!$B$10<>0,_xlfn.NORM.DIST($A88,0,Berechnung!$B$10,FALSE),0))","v":3.6336447452251141E-9},{"$f":"IF(AND($A88>=0,Berechnung!$B$10=0),1,IF(Berechnung!$B$10<>0,_xlfn.NORM.DIST($A88,0,Berechnung!$B$10,TRUE),0))","v":0.9999999928634834},{"$f":"IF(AND($A88=0,Berechnung!$B$11=0),1,IF(Berechnung!$B$11<>0,_xlfn.NORM.DIST($A88,0,Berechnung!$B$11,FALSE),0))","v":0},{"$f":"IF(AND($A88>=0,Berechnung!$B$11=0),1,IF(Berechnung!$B$11<>0,_xlfn.NORM.DIST($A88,0,Berechnung!$B$11,TRUE),0))","v":1},{"$f":"Demonstrator!$J$19*'Daten Diagramm'!H88+Demonstrator!$J$24*'Daten Diagramm'!L88","v":2.7041002142545683E-7},{"$f":"Demonstrator!$J$19*'Daten Diagramm'!I88+Demonstrator!$J$24*'Daten Diagramm'!M88","v":0.99999915278000895}]
[66,{"$f":"IF(AND(A89=0,Berechnung!$B$3=0),1,IF(Berechnung!$B$3<>0,_xlfn.NORM.DIST(A89,0,Berechnung!$B$3,FALSE),0))","v":9.3104674779885378E-14},{"$f":"IF(AND($A89>=0,Berechnung!$B$3=0),1,IF(Berechnung!$B$3<>0,_xlfn.NORM.DIST($A89,0,Berechnung!$B$3,TRUE),0))","v":0.99999999999988776},{"$f":"IF(AND($A89=0,Berechnung!$B$4=0),1,IF(Berechnung!$B$4<>0,_xlfn.NORM.DIST($A89,0,Berechnung!$B$4,FALSE),0))","v":9.3104674779885378E-14},{"$f":"IF(AND($A89>=0,Berechnung!$B$4=0),1,IF(Berechnung!$B$4<>0,_xlfn.NORM.DIST($A89,0,Berechnung!$B$4,TRUE),0))","v":0.99999999999988776},{"$f":"IF(AND($A89=0,Berechnung!$B$5=0),1,IF(Berechnung!$B$5<>0,_xlfn.NORM.DIST($A89,0,Berechnung!$B$5,FALSE),0))","v":9.9061811631475401E-7},{"$f":"IF(AND($A89>=0,Berechnung!$B$5=0),1,IF(Berechnung!$B$5<>0,_xlfn.NORM.DIST($A89,0,Berechnung!$B$5,TRUE),0))","v":0.99999694064810618},{"$f":"IF(AND($A89=0,Berechnung!$B$6=0),1,IF(Berechnung!$B$6<>0,_xlfn.NORM.DIST($A89,0,Berechnung!$B$6,FALSE),0))","v":9.9424177946216826E-7},{"$f":"IF(AND($A89>=0,Berechnung!$B$6=0),1,IF(Berechnung!$B$6<>0,_xlfn.NORM.DIST($A89,0,Berechnung!$B$6,TRUE),0))","v":0.99999692834988751},{"$f":"IF(AND($A89=0,Berechnung!$B$7=0),1,IF(Berechnung!$B$7<>0,_xlfn.NORM.DIST($A89,0,Berechnung!$B$7,FALSE),0))","v":9.3104674779885378E-14},{"$f":"IF(AND($A89>=0,Berechnung!$B$7=0),1,IF(Berechnung!$B$7<>0,_xlfn.NORM.DIST($A89,0,Berechnung!$B$7,TRUE),0))","v":0.99999999999988776},{"$f":"IF(AND($A89=0,Berechnung!$B$8=0),1,IF(Berechnung!$B$8<>0,_xlfn.NORM.DIST($A89,0,Berechnung!$B$8,FALSE),0))","v":9.3104674779885378E-14},{"$f":"IF(AND($A89>=0,Berechnung!$B$8=0),1,IF(Berechnung!$B$8<>0,_xlfn.NORM.DIST($A89,0,Berechnung!$B$8,TRUE),0))","v":0.99999999999988776},{"$f":"IF(AND($A89=0,Berechnung!$B$9=0),1,IF(Berechnung!$B$9<>0,_xlfn.NORM.DIST($A89,0,Berechnung!$B$9,FALSE),0))","v":6.0184754911446119E-11},{"$f":"IF(AND($A89>=0,Berechnung!$B$9=0),1,IF(Berechnung!$B$9<>0,_xlfn.NORM.DIST($A89,0,Berechnung!$B$9,TRUE),0))","v":0.99999999990430399},{"$f":"IF(AND($A89=0,Berechnung!$B$10=0),1,IF(Berechnung!$B$10<>0,_xlfn.NORM.DIST($A89,0,Berechnung!$B$10,FALSE),0))","v":2.2074079782700362E-9},{"$f":"IF(AND($A89>=0,Berechnung!$B$10=0),1,IF(Berechnung!$B$10<>0,_xlfn.NORM.DIST($A89,0,Berechnung!$B$10,TRUE),0))","v":0.99999999572682285},{"$f":"IF(AND($A89=0,Berechnung!$B$11=0),1,IF(Berechnung!$B$11<>0,_xlfn.NORM.DIST($A89,0,Berechnung!$B$11,FALSE),0))","v":0},{"$f":"IF(AND($A89>=0,Berechnung!$B$11=0),1,IF(Berechnung!$B$11<>0,_xlfn.NORM.DIST($A89,0,Berechnung!$B$11,TRUE),0))","v":1},{"$f":"Demonstrator!$J$19*'Daten Diagramm'!H89+Demonstrator!$J$24*'Daten Diagramm'!L89","v":1.9884843037617345E-7},{"$f":"Demonstrator!$J$19*'Daten Diagramm'!I89+Demonstrator!$J$24*'Daten Diagramm'!M89","v":0.99999938566988766}]
[67,{"$f":"IF(AND(A90=0,Berechnung!$B$3=0),1,IF(Berechnung!$B$3<>0,_xlfn.NORM.DIST(A90,0,Berechnung!$B$3,FALSE),0))","v":4.0965765952957567E-14},{"$f":"IF(AND($A90>=0,Berechnung!$B$3=0),1,IF(Berechnung!$B$3<>0,_xlfn.NORM.DIST($A90,0,Berechnung!$B$3,TRUE),0))","v":0.99999999999995137},{"$f":"IF(AND($A90=0,Berechnung!$B$4=0),1,IF(Berechnung!$B$4<>0,_xlfn.NORM.DIST($A90,0,Berechnung!$B$4,FALSE),0))","v":4.0965765952957567E-14},{"$f":"IF(AND($A90>=0,Berechnung!$B$4=0),1,IF(Berechnung!$B$4<>0,_xlfn.NORM.DIST($A90,0,Berechnung!$B$4,TRUE),0))","v":0.99999999999995137},{"$f":"IF(AND($A90=0,Berechnung!$B$5=0),1,IF(Berechnung!$B$5<>0,_xlfn.NORM.DIST($A90,0,Berechnung!$B$5,FALSE),0))","v":7.2496438929969163E-7},{"$f":"IF(AND($A90>=0,Berechnung!$B$5=0),1,IF(Berechnung!$B$5<>0,_xlfn.NORM.DIST($A90,0,Berechnung!$B$5,TRUE),0))","v":0.99999779187142901},{"$f":"IF(AND($A90=0,Berechnung!$B$6=0),1,IF(Berechnung!$B$6<>0,_xlfn.NORM.DIST($A90,0,Berechnung!$B$6,FALSE),0))","v":7.2770158967032459E-7},{"$f":"IF(AND($A90>=0,Berechnung!$B$6=0),1,IF(Berechnung!$B$6<>0,_xlfn.NORM.DIST($A90,0,Berechnung!$B$6,TRUE),0))","v":0.99999778273431694},{"$f":"IF(AND($A90=0,Berechnung!$B$7=0),1,IF(Berechnung!$B$7<>0,_xlfn.NORM.DIST($A90,0,Berechnung!$B$7,FALSE),0))","v":4.0965765952957567E-14},{"$f":"IF(AND($A90>=0,Berechnung!$B$7=0),1,IF(Berechnung!$B$7<>0,_xlfn.NORM.DIST($A90,0,Berechnung!$B$7,TRUE),0))","v":0.99999999999995137},{"$f":"IF(AND($A90=0,Berechnung!$B$8=0),1,IF(Berechnung!$B$8<>0,_xlfn.NORM.DIST($A90,0,Berechnung!$B$8,FALSE),0))","v":4.0965765952957567E-14},{"$f":"IF(AND($A90>=0,Berechnung!$B$8=0),1,IF(Berechnung!$B$8<>0,_xlfn.NORM.DIST($A90,0,Berechnung!$B$8,TRUE),0))","v":0.99999999999995137},{"$f":"IF(AND($A90=0,Berechnung!$B$9=0),1,IF(Berechnung!$B$9<>0,_xlfn.NORM.DIST($A90,0,Berechnung!$B$9,FALSE),0))","v":3.2405581471736951E-11},{"$f":"IF(AND($A90>=0,Berechnung!$B$9=0),1,IF(Berechnung!$B$9<>0,_xlfn.NORM.DIST($A90,0,Berechnung!$B$9,TRUE),0))","v":0.99999999994920974},{"$f":"IF(AND($A90=0,Berechnung!$B$10=0),1,IF(Berechnung!$B$10<>0,_xlfn.NORM.DIST($A90,0,Berechnung!$B$10,FALSE),0))","v":1.330816020395965E-9},{"$f":"IF(AND($A90>=0,Berechnung!$B$10=0),1,IF(Berechnung!$B$10<>0,_xlfn.NORM.DIST($A90,0,Berechnung!$B$10,TRUE),0))","v":0.99999999746022106},{"$f":"IF(AND($A90=0,Berechnung!$B$11=0),1,IF(Berechnung!$B$11<>0,_xlfn.NORM.DIST($A90,0,Berechnung!$B$11,FALSE),0))","v":0},{"$f":"IF(AND($A90>=0,Berechnung!$B$11=0),1,IF(Berechnung!$B$11<>0,_xlfn.NORM.DIST($A90,0,Berechnung!$B$11,TRUE),0))","v":1},{"$f":"Demonstrator!$J$19*'Daten Diagramm'!H90+Demonstrator!$J$24*'Daten Diagramm'!L90","v":1.4554035070667767E-7},{"$f":"Demonstrator!$J$19*'Daten Diagramm'!I90+Demonstrator!$J$24*'Daten Diagramm'!M90","v":0.99999955654682449}]
[68,{"$f":"IF(AND(A91=0,Berechnung!$B$3=0),1,IF(Berechnung!$B$3<>0,_xlfn.NORM.DIST(A91,0,Berechnung!$B$3,FALSE),0))","v":1.7803648493275642E-14},{"$f":"IF(AND($A91>=0,Berechnung!$B$3=0),1,IF(Berechnung!$B$3<>0,_xlfn.NORM.DIST($A91,0,Berechnung!$B$3,TRUE),0))","v":0.99999999999997913},{"$f":"IF(AND($A91=0,Berechnung!$B$4=0),1,IF(Berechnung!$B$4<>0,_xlfn.NORM.DIST($A91,0,Berechnung!$B$4,FALSE),0))","v":1.7803648493275642E-14},{"$f":"IF(AND($A91>=0,Berechnung!$B$4=0),1,IF(Berechnung!$B$4<>0,_xlfn.NORM.DIST($A91,0,Berechnung!$B$4,TRUE),0))","v":0.99999999999997913},{"$f":"IF(AND($A91=0,Berechnung!$B$5=0),1,IF(Berechnung!$B$5<>0,_xlfn.NORM.DIST($A91,0,Berechnung!$B$5,FALSE),0))","v":5.2806592136881404E-7},{"$f":"IF(AND($A91>=0,Berechnung!$B$5=0),1,IF(Berechnung!$B$5<>0,_xlfn.NORM.DIST($A91,0,Berechnung!$B$5,TRUE),0))","v":0.99999841343821894},{"$f":"IF(AND($A91=0,Berechnung!$B$6=0),1,IF(Berechnung!$B$6<>0,_xlfn.NORM.DIST($A91,0,Berechnung!$B$6,FALSE),0))","v":5.3012277503537214E-7},{"$f":"IF(AND($A91>=0,Berechnung!$B$6=0),1,IF(Berechnung!$B$6<>0,_xlfn.NORM.DIST($A91,0,Berechnung!$B$6,TRUE),0))","v":0.99999840668298512},{"$f":"IF(AND($A91=0,Berechnung!$B$7=0),1,IF(Berechnung!$B$7<>0,_xlfn.NORM.DIST($A91,0,Berechnung!$B$7,FALSE),0))","v":1.7803648493275642E-14},{"$f":"IF(AND($A91>=0,Berechnung!$B$7=0),1,IF(Berechnung!$B$7<>0,_xlfn.NORM.DIST($A91,0,Berechnung!$B$7,TRUE),0))","v":0.99999999999997913},{"$f":"IF(AND($A91=0,Berechnung!$B$8=0),1,IF(Berechnung!$B$8<>0,_xlfn.NORM.DIST($A91,0,Berechnung!$B$8,FALSE),0))","v":1.7803648493275642E-14},{"$f":"IF(AND($A91>=0,Berechnung!$B$8=0),1,IF(Berechnung!$B$8<>0,_xlfn.NORM.DIST($A91,0,Berechnung!$B$8,TRUE),0))","v":0.99999999999997913},{"$f":"IF(AND($A91=0,Berechnung!$B$9=0),1,IF(Berechnung!$B$9<>0,_xlfn.NORM.DIST($A91,0,Berechnung!$B$9,FALSE),0))","v":1.7286617920824096E-11},{"$f":"IF(AND($A91>=0,Berechnung!$B$9=0),1,IF(Berechnung!$B$9<>0,_xlfn.NORM.DIST($A91,0,Berechnung!$B$9,TRUE),0))","v":0.99999999997328781},{"$f":"IF(AND($A91=0,Berechnung!$B$10=0),1,IF(Berechnung!$B$10<>0,_xlfn.NORM.DIST($A91,0,Berechnung!$B$10,FALSE),0))","v":7.9624863715951974E-10},{"$f":"IF(AND($A91>=0,Berechnung!$B$10=0),1,IF(Berechnung!$B$10<>0,_xlfn.NORM.DIST($A91,0,Berechnung!$B$10,TRUE),0))","v":0.99999999850162957},{"$f":"IF(AND($A91=0,Berechnung!$B$11=0),1,IF(Berechnung!$B$11<>0,_xlfn.NORM.DIST($A91,0,Berechnung!$B$11,FALSE),0))","v":0},{"$f":"IF(AND($A91>=0,Berechnung!$B$11=0),1,IF(Berechnung!$B$11<>0,_xlfn.NORM.DIST($A91,0,Berechnung!$B$11,TRUE),0))","v":1},{"$f":"Demonstrator!$J$19*'Daten Diagramm'!H91+Demonstrator!$J$24*'Daten Diagramm'!L91","v":1.0602456924999319E-7},{"$f":"Demonstrator!$J$19*'Daten Diagramm'!I91+Demonstrator!$J$24*'Daten Diagramm'!M91","v":0.99999968133658035}]
[69,{"$f":"IF(AND(A92=0,Berechnung!$B$3=0),1,IF(Berechnung!$B$3<>0,_xlfn.NORM.DIST(A92,0,Berechnung!$B$3,FALSE),0))","v":7.6424971011853814E-15},{"$f":"IF(AND($A92>=0,Berechnung!$B$3=0),1,IF(Berechnung!$B$3<>0,_xlfn.NORM.DIST($A92,0,Berechnung!$B$3,TRUE),0))","v":0.99999999999999123},{"$f":"IF(AND($A92=0,Berechnung!$B$4=0),1,IF(Berechnung!$B$4<>0,_xlfn.NORM.DIST($A92,0,Berechnung!$B$4,FALSE),0))","v":7.6424971011853814E-15},{"$f":"IF(AND($A92>=0,Berechnung!$B$4=0),1,IF(Berechnung!$B$4<>0,_xlfn.NORM.DIST($A92,0,Berechnung!$B$4,TRUE),0))","v":0.99999999999999123},{"$f":"IF(AND($A92=0,Berechnung!$B$5=0),1,IF(Berechnung!$B$5<>0,_xlfn.NORM.DIST($A92,0,Berechnung!$B$5,FALSE),0))","v":3.8284296148219992E-7},{"$f":"IF(AND($A92>=0,Berechnung!$B$5=0),1,IF(Berechnung!$B$5<>0,_xlfn.NORM.DIST($A92,0,Berechnung!$B$5,TRUE),0))","v":0.99999886518383052},{"$f":"IF(AND($A92=0,Berechnung!$B$6=0),1,IF(Berechnung!$B$6<>0,_xlfn.NORM.DIST($A92,0,Berechnung!$B$6,FALSE),0))","v":3.8438056963785176E-7},{"$f":"IF(AND($A92>=0,Berechnung!$B$6=0),1,IF(Berechnung!$B$6<>0,_xlfn.NORM.DIST($A92,0,Berechnung!$B$6,TRUE),0))","v":0.99999886021402584},{"$f":"IF(AND($A92=0,Berechnung!$B$7=0),1,IF(Berechnung!$B$7<>0,_xlfn.NORM.DIST($A92,0,Berechnung!$B$7,FALSE),0))","v":7.6424971011853814E-15},{"$f":"IF(AND($A92>=0,Berechnung!$B$7=0),1,IF(Berechnung!$B$7<>0,_xlfn.NORM.DIST($A92,0,Berechnung!$B$7,TRUE),0))","v":0.99999999999999123},{"$f":"IF(AND($A92=0,Berechnung!$B$8=0),1,IF(Berechnung!$B$8<>0,_xlfn.NORM.DIST($A92,0,Berechnung!$B$8,FALSE),0))","v":7.6424971011853814E-15},{"$f":"IF(AND($A92>=0,Berechnung!$B$8=0),1,IF(Berechnung!$B$8<>0,_xlfn.NORM.DIST($A92,0,Berechnung!$B$8,TRUE),0))","v":0.99999999999999123},{"$f":"IF(AND($A92=0,Berechnung!$B$9=0),1,IF(Berechnung!$B$9<>0,_xlfn.NORM.DIST($A92,0,Berechnung!$B$9,FALSE),0))","v":9.1360220597335971E-12},{"$f":"IF(AND($A92>=0,Berechnung!$B$9=0),1,IF(Berechnung!$B$9<>0,_xlfn.NORM.DIST($A92,0,Berechnung!$B$9,TRUE),0))","v":0.9999999999860788},{"$f":"IF(AND($A92=0,Berechnung!$B$10=0),1,IF(Berechnung!$B$10<>0,_xlfn.NORM.DIST($A92,0,Berechnung!$B$10,FALSE),0))","v":4.7279693568877867E-10},{"$f":"IF(AND($A92>=0,Berechnung!$B$10=0),1,IF(Berechnung!$B$10<>0,_xlfn.NORM.DIST($A92,0,Berechnung!$B$10,TRUE),0))","v":0.99999999912255766},{"$f":"IF(AND($A92=0,Berechnung!$B$11=0),1,IF(Berechnung!$B$11<>0,_xlfn.NORM.DIST($A92,0,Berechnung!$B$11,FALSE),0))","v":0},{"$f":"IF(AND($A92>=0,Berechnung!$B$11=0),1,IF(Berechnung!$B$11<>0,_xlfn.NORM.DIST($A92,0,Berechnung!$B$11,TRUE),0))","v":1},{"$f":"Demonstrator!$J$19*'Daten Diagramm'!H92+Demonstrator!$J$24*'Daten Diagramm'!L92","v":7.6876120041568028E-8},{"$f":"Demonstrator!$J$19*'Daten Diagramm'!I92+Demonstrator!$J$24*'Daten Diagramm'!M92","v":0.99999977204279822}]
[70,{"$f":"IF(AND(A93=0,Berechnung!$B$3=0),1,IF(Berechnung!$B$3<>0,_xlfn.NORM.DIST(A93,0,Berechnung!$B$3,FALSE),0))","v":3.2404094786656558E-15},{"$f":"IF(AND($A93>=0,Berechnung!$B$3=0),1,IF(Berechnung!$B$3<>0,_xlfn.NORM.DIST($A93,0,Berechnung!$B$3,TRUE),0))","v":0.99999999999999634},{"$f":"IF(AND($A93=0,Berechnung!$B$4=0),1,IF(Berechnung!$B$4<>0,_xlfn.NORM.DIST($A93,0,Berechnung!$B$4,FALSE),0))","v":3.2404094786656558E-15},{"$f":"IF(AND($A93>=0,Berechnung!$B$4=0),1,IF(Berechnung!$B$4<>0,_xlfn.NORM.DIST($A93,0,Berechnung!$B$4,TRUE),0))","v":0.99999999999999634},{"$f":"IF(AND($A93=0,Berechnung!$B$5=0),1,IF(Berechnung!$B$5<>0,_xlfn.NORM.DIST($A93,0,Berechnung!$B$5,FALSE),0))","v":2.7625761085164671E-7},{"$f":"IF(AND($A93>=0,Berechnung!$B$5=0),1,IF(Berechnung!$B$5<>0,_xlfn.NORM.DIST($A93,0,Berechnung!$B$5,TRUE),0))","v":0.99999919196869613},{"$f":"IF(AND($A93=0,Berechnung!$B$6=0),1,IF(Berechnung!$B$6<>0,_xlfn.NORM.DIST($A93,0,Berechnung!$B$6,FALSE),0))","v":2.7740112222584956E-7},{"$f":"IF(AND($A93>=0,Berechnung!$B$6=0),1,IF(Berechnung!$B$6<>0,_xlfn.NORM.DIST($A93,0,Berechnung!$B$6,TRUE),0))","v":0.99999918833031254},{"$f":"IF(AND($A93=0,Berechnung!$B$7=0),1,IF(Berechnung!$B$7<>0,_xlfn.NORM.DIST($A93,0,Berechnung!$B$7,FALSE),0))","v":3.2404094786656558E-15},{"$f":"IF(AND($A93>=0,Berechnung!$B$7=0),1,IF(Berechnung!$B$7<>0,_xlfn.NORM.DIST($A93,0,Berechnung!$B$7,TRUE),0))","v":0.99999999999999634},{"$f":"IF(AND($A93=0,Berechnung!$B$8=0),1,IF(Berechnung!$B$8<>0,_xlfn.NORM.DIST($A93,0,Berechnung!$B$8,FALSE),0))","v":3.2404094786656558E-15},{"$f":"IF(AND($A93>=0,Berechnung!$B$8=0),1,IF(Berechnung!$B$8<>0,_xlfn.NORM.DIST($A93,0,Berechnung!$B$8,TRUE),0))","v":0.99999999999999634},{"$f":"IF(AND($A93=0,Berechnung!$B$9=0),1,IF(Berechnung!$B$9<>0,_xlfn.NORM.DIST($A93,0,Berechnung!$B$9,FALSE),0))","v":4.783669182127112E-12},{"$f":"IF(AND($A93>=0,Berechnung!$B$9=0),1,IF(Berechnung!$B$9<>0,_xlfn.NORM.DIST($A93,0,Berechnung!$B$9,TRUE),0))","v":0.99999999999281075},{"$f":"IF(AND($A93=0,Berechnung!$B$10=0),1,IF(Berechnung!$B$10<>0,_xlfn.NORM.DIST($A93,0,Berechnung!$B$10,FALSE),0))","v":2.7860946965660315E-10},{"$f":"IF(AND($A93>=0,Berechnung!$B$10=0),1,IF(Berechnung!$B$10<>0,_xlfn.NORM.DIST($A93,0,Berechnung!$B$10,TRUE),0))","v":0.9999999994899742},{"$f":"IF(AND($A93=0,Berechnung!$B$11=0),1,IF(Berechnung!$B$11<>0,_xlfn.NORM.DIST($A93,0,Berechnung!$B$11,FALSE),0))","v":0},{"$f":"IF(AND($A93>=0,Berechnung!$B$11=0),1,IF(Berechnung!$B$11<>0,_xlfn.NORM.DIST($A93,0,Berechnung!$B$11,TRUE),0))","v":1},{"$f":"Demonstrator!$J$19*'Daten Diagramm'!H93+Demonstrator!$J$24*'Daten Diagramm'!L93","v":5.5480227037497481E-8},{"$f":"Demonstrator!$J$19*'Daten Diagramm'!I93+Demonstrator!$J$24*'Daten Diagramm'!M93","v":0.9999998376660596}]
[71,{"$f":"IF(AND(A94=0,Berechnung!$B$3=0),1,IF(Berechnung!$B$3<>0,_xlfn.NORM.DIST(A94,0,Berechnung!$B$3,FALSE),0))","v":1.3570718589875456E-15},{"$f":"IF(AND($A94>=0,Berechnung!$B$3=0),1,IF(Berechnung!$B$3<>0,_xlfn.NORM.DIST($A94,0,Berechnung!$B$3,TRUE),0))","v":0.99999999999999845},{"$f":"IF(AND($A94=0,Berechnung!$B$4=0),1,IF(Berechnung!$B$4<>0,_xlfn.NORM.DIST($A94,0,Berechnung!$B$4,FALSE),0))","v":1.3570718589875456E-15},{"$f":"IF(AND($A94>=0,Berechnung!$B$4=0),1,IF(Berechnung!$B$4<>0,_xlfn.NORM.DIST($A94,0,Berechnung!$B$4,TRUE),0))","v":0.99999999999999845},{"$f":"IF(AND($A94=0,Berechnung!$B$5=0),1,IF(Berechnung!$B$5<>0,_xlfn.NORM.DIST($A94,0,Berechnung!$B$5,FALSE),0))","v":1.9841243862216057E-7},{"$f":"IF(AND($A94>=0,Berechnung!$B$5=0),1,IF(Berechnung!$B$5<>0,_xlfn.NORM.DIST($A94,0,Berechnung!$B$5,TRUE),0))","v":0.99999942725236257},{"$f":"IF(AND($A94=0,Berechnung!$B$6=0),1,IF(Berechnung!$B$6<>0,_xlfn.NORM.DIST($A94,0,Berechnung!$B$6,FALSE),0))","v":1.9925848574204677E-7},{"$f":"IF(AND($A94>=0,Berechnung!$B$6=0),1,IF(Berechnung!$B$6<>0,_xlfn.NORM.DIST($A94,0,Berechnung!$B$6,TRUE),0))","v":0.99999942460172453},{"$f":"IF(AND($A94=0,Berechnung!$B$7=0),1,IF(Berechnung!$B$7<>0,_xlfn.NORM.DIST($A94,0,Berechnung!$B$7,FALSE),0))","v":1.3570718589875456E-15},{"$f":"IF(AND($A94>=0,Berechnung!$B$7=0),1,IF(Berechnung!$B$7<>0,_xlfn.NORM.DIST($A94,0,Berechnung!$B$7,TRUE),0))","v":0.99999999999999845},{"$f":"IF(AND($A94=0,Berechnung!$B$8=0),1,IF(Berechnung!$B$8<>0,_xlfn.NORM.DIST($A94,0,Berechnung!$B$8,FALSE),0))","v":1.3570718589875456E-15},{"$f":"IF(AND($A94>=0,Berechnung!$B$8=0),1,IF(Berechnung!$B$8<>0,_xlfn.NORM.DIST($A94,0,Berechnung!$B$8,TRUE),0))","v":0.99999999999999845},{"$f":"IF(AND($A94=0,Berechnung!$B$9=0),1,IF(Berechnung!$B$9<>0,_xlfn.NORM.DIST($A94,0,Berechnung!$B$9,FALSE),0))","v":2.4815442780930585E-12},{"$f":"IF(AND($A94>=0,Berechnung!$B$9=0),1,IF(Berechnung!$B$9<>0,_xlfn.NORM.DIST($A94,0,Berechnung!$B$9,TRUE),0))","v":0.99999999999632105},{"$f":"IF(AND($A94=0,Berechnung!$B$10=0),1,IF(Berechnung!$B$10<>0,_xlfn.NORM.DIST($A94,0,Berechnung!$B$10,FALSE),0))","v":1.629342415704882E-10},{"$f":"IF(AND($A94>=0,Berechnung!$B$10=0),1,IF(Berechnung!$B$10<>0,_xlfn.NORM.DIST($A94,0,Berechnung!$B$10,TRUE),0))","v":0.9999999997057355},{"$f":"IF(AND($A94=0,Berechnung!$B$11=0),1,IF(Berechnung!$B$11<>0,_xlfn.NORM.DIST($A94,0,Berechnung!$B$11,FALSE),0))","v":0},{"$f":"IF(AND($A94>=0,Berechnung!$B$11=0),1,IF(Berechnung!$B$11<>0,_xlfn.NORM.DIST($A94,0,Berechnung!$B$11,TRUE),0))","v":1},{"$f":"Demonstrator!$J$19*'Daten Diagramm'!H94+Demonstrator!$J$24*'Daten Diagramm'!L94","v":3.985169823406683E-8},{"$f":"Demonstrator!$J$19*'Daten Diagramm'!I94+Demonstrator!$J$24*'Daten Diagramm'!M94","v":0.99999988492034375}]
[72,{"$f":"IF(AND(A95=0,Berechnung!$B$3=0),1,IF(Berechnung!$B$3<>0,_xlfn.NORM.DIST(A95,0,Berechnung!$B$3,FALSE),0))","v":5.6136345372632144E-16},{"$f":"IF(AND($A95>=0,Berechnung!$B$3=0),1,IF(Berechnung!$B$3<>0,_xlfn.NORM.DIST($A95,0,Berechnung!$B$3,TRUE),0))","v":0.99999999999999933},{"$f":"IF(AND($A95=0,Berechnung!$B$4=0),1,IF(Berechnung!$B$4<>0,_xlfn.NORM.DIST($A95,0,Berechnung!$B$4,FALSE),0))","v":5.6136345372632144E-16},{"$f":"IF(AND($A95>=0,Berechnung!$B$4=0),1,IF(Berechnung!$B$4<>0,_xlfn.NORM.DIST($A95,0,Berechnung!$B$4,TRUE),0))","v":0.99999999999999933},{"$f":"IF(AND($A95=0,Berechnung!$B$5=0),1,IF(Berechnung!$B$5<>0,_xlfn.NORM.DIST($A95,0,Berechnung!$B$5,FALSE),0))","v":1.4183538667427922E-7},{"$f":"IF(AND($A95>=0,Berechnung!$B$5=0),1,IF(Berechnung!$B$5<>0,_xlfn.NORM.DIST($A95,0,Berechnung!$B$5,TRUE),0))","v":0.99999959586241982},{"$f":"IF(AND($A95=0,Berechnung!$B$6=0),1,IF(Berechnung!$B$6<>0,_xlfn.NORM.DIST($A95,0,Berechnung!$B$6,FALSE),0))","v":1.4245813740446004E-7},{"$f":"IF(AND($A95>=0,Berechnung!$B$6=0),1,IF(Berechnung!$B$6<>0,_xlfn.NORM.DIST($A95,0,Berechnung!$B$6,TRUE),0))","v":0.99999959394079907},{"$f":"IF(AND($A95=0,Berechnung!$B$7=0),1,IF(Berechnung!$B$7<>0,_xlfn.NORM.DIST($A95,0,Berechnung!$B$7,FALSE),0))","v":5.6136345372632144E-16},{"$f":"IF(AND($A95>=0,Berechnung!$B$7=0),1,IF(Berechnung!$B$7<>0,_xlfn.NORM.DIST($A95,0,Berechnung!$B$7,TRUE),0))","v":0.99999999999999933},{"$f":"IF(AND($A95=0,Berechnung!$B$8=0),1,IF(Berechnung!$B$8<>0,_xlfn.NORM.DIST($A95,0,Berechnung!$B$8,FALSE),0))","v":5.6136345372632144E-16},{"$f":"IF(AND($A95>=0,Berechnung!$B$8=0),1,IF(Berechnung!$B$8<>0,_xlfn.NORM.DIST($A95,0,Berechnung!$B$8,TRUE),0))","v":0.99999999999999933},{"$f":"IF(AND($A95=0,Berechnung!$B$9=0),1,IF(Berechnung!$B$9<>0,_xlfn.NORM.DIST($A95,0,Berechnung!$B$9,FALSE),0))","v":1.2753806140731169E-12},{"$f":"IF(AND($A95>=0,Berechnung!$B$9=0),1,IF(Berechnung!$B$9<>0,_xlfn.NORM.DIST($A95,0,Berechnung!$B$9,TRUE),0))","v":0.99999999999813449},{"$f":"IF(AND($A95=0,Berechnung!$B$10=0),1,IF(Berechnung!$B$10<>0,_xlfn.NORM.DIST($A95,0,Berechnung!$B$10,FALSE),0))","v":9.4563627280774685E-11},{"$f":"IF(AND($A95>=0,Berechnung!$B$10=0),1,IF(Berechnung!$B$10<>0,_xlfn.NORM.DIST($A95,0,Berechnung!$B$10,TRUE),0))","v":0.99999999983147914},{"$f":"IF(AND($A95=0,Berechnung!$B$11=0),1,IF(Berechnung!$B$11<>0,_xlfn.NORM.DIST($A95,0,Berechnung!$B$11,FALSE),0))","v":0},{"$f":"IF(AND($A95>=0,Berechnung!$B$11=0),1,IF(Berechnung!$B$11<>0,_xlfn.NORM.DIST($A95,0,Berechnung!$B$11,TRUE),0))","v":1},{"$f":"Demonstrator!$J$19*'Daten Diagramm'!H95+Demonstrator!$J$24*'Daten Diagramm'!L95","v":2.8491627929982766E-8},{"$f":"Demonstrator!$J$19*'Daten Diagramm'!I95+Demonstrator!$J$24*'Daten Diagramm'!M95","v":0.99999991878815919}]
[73,{"$f":"IF(AND(A96=0,Berechnung!$B$3=0),1,IF(Berechnung!$B$3<>0,_xlfn.NORM.DIST(A96,0,Berechnung!$B$3,FALSE),0))","v":2.2936321413176071E-16},{"$f":"IF(AND($A96>=0,Berechnung!$B$3=0),1,IF(Berechnung!$B$3<>0,_xlfn.NORM.DIST($A96,0,Berechnung!$B$3,TRUE),0))","v":0.99999999999999978},{"$f":"IF(AND($A96=0,Berechnung!$B$4=0),1,IF(Berechnung!$B$4<>0,_xlfn.NORM.DIST($A96,0,Berechnung!$B$4,FALSE),0))","v":2.2936321413176071E-16},{"$f":"IF(AND($A96>=0,Berechnung!$B$4=0),1,IF(Berechnung!$B$4<>0,_xlfn.NORM.DIST($A96,0,Berechnung!$B$4,TRUE),0))","v":0.99999999999999978},{"$f":"IF(AND($A96=0,Berechnung!$B$5=0),1,IF(Berechnung!$B$5<>0,_xlfn.NORM.DIST($A96,0,Berechnung!$B$5,FALSE),0))","v":1.0091630899445742E-7},{"$f":"IF(AND($A96>=0,Berechnung!$B$5=0),1,IF(Berechnung!$B$5<>0,_xlfn.NORM.DIST($A96,0,Berechnung!$B$5,TRUE),0))","v":0.99999971612680194},{"$f":"IF(AND($A96=0,Berechnung!$B$6=0),1,IF(Berechnung!$B$6<>0,_xlfn.NORM.DIST($A96,0,Berechnung!$B$6,FALSE),0))","v":1.0137235184157236E-7},{"$f":"IF(AND($A96>=0,Berechnung!$B$6=0),1,IF(Berechnung!$B$6<>0,_xlfn.NORM.DIST($A96,0,Berechnung!$B$6,TRUE),0))","v":0.99999971474048488},{"$f":"IF(AND($A96=0,Berechnung!$B$7=0),1,IF(Berechnung!$B$7<>0,_xlfn.NORM.DIST($A96,0,Berechnung!$B$7,FALSE),0))","v":2.2936321413176071E-16},{"$f":"IF(AND($A96>=0,Berechnung!$B$7=0),1,IF(Berechnung!$B$7<>0,_xlfn.NORM.DIST($A96,0,Berechnung!$B$7,TRUE),0))","v":0.99999999999999978},{"$f":"IF(AND($A96=0,Berechnung!$B$8=0),1,IF(Berechnung!$B$8<>0,_xlfn.NORM.DIST($A96,0,Berechnung!$B$8,FALSE),0))","v":2.2936321413176071E-16},{"$f":"IF(AND($A96>=0,Berechnung!$B$8=0),1,IF(Berechnung!$B$8<>0,_xlfn.NORM.DIST($A96,0,Berechnung!$B$8,TRUE),0))","v":0.99999999999999978},{"$f":"IF(AND($A96=0,Berechnung!$B$9=0),1,IF(Berechnung!$B$9<>0,_xlfn.NORM.DIST($A96,0,Berechnung!$B$9,FALSE),0))","v":6.4940329239965665E-13},{"$f":"IF(AND($A96>=0,Berechnung!$B$9=0),1,IF(Berechnung!$B$9<>0,_xlfn.NORM.DIST($A96,0,Berechnung!$B$9,TRUE),0))","v":0.99999999999906264},{"$f":"IF(AND($A96=0,Berechnung!$B$10=0),1,IF(Berechnung!$B$10<>0,_xlfn.NORM.DIST($A96,0,Berechnung!$B$10,FALSE),0))","v":5.446671101628353E-11},{"$f":"IF(AND($A96>=0,Berechnung!$B$10=0),1,IF(Berechnung!$B$10<>0,_xlfn.NORM.DIST($A96,0,Berechnung!$B$10,TRUE),0))","v":0.99999999990420607},{"$f":"IF(AND($A96=0,Berechnung!$B$11=0),1,IF(Berechnung!$B$11<>0,_xlfn.NORM.DIST($A96,0,Berechnung!$B$11,FALSE),0))","v":0},{"$f":"IF(AND($A96>=0,Berechnung!$B$11=0),1,IF(Berechnung!$B$11<>0,_xlfn.NORM.DIST($A96,0,Berechnung!$B$11,TRUE),0))","v":1},{"$f":"Demonstrator!$J$19*'Daten Diagramm'!H96+Demonstrator!$J$24*'Daten Diagramm'!L96","v":2.0274470551805038E-8},{"$f":"Demonstrator!$J$19*'Daten Diagramm'!I96+Demonstrator!$J$24*'Daten Diagramm'!M96","v":0.9999999429480968}]
[74,{"$f":"IF(AND(A97=0,Berechnung!$B$3=0),1,IF(Berechnung!$B$3<>0,_xlfn.NORM.DIST(A97,0,Berechnung!$B$3,FALSE),0))","v":9.2563919505088751E-17},{"$f":"IF(AND($A97>=0,Berechnung!$B$3=0),1,IF(Berechnung!$B$3<>0,_xlfn.NORM.DIST($A97,0,Berechnung!$B$3,TRUE),0))","v":0.99999999999999989},{"$f":"IF(AND($A97=0,Berechnung!$B$4=0),1,IF(Berechnung!$B$4<>0,_xlfn.NORM.DIST($A97,0,Berechnung!$B$4,FALSE),0))","v":9.2563919505088751E-17},{"$f":"IF(AND($A97>=0,Berechnung!$B$4=0),1,IF(Berechnung!$B$4<>0,_xlfn.NORM.DIST($A97,0,Berechnung!$B$4,TRUE),0))","v":0.99999999999999989},{"$f":"IF(AND($A97=0,Berechnung!$B$5=0),1,IF(Berechnung!$B$5<>0,_xlfn.NORM.DIST($A97,0,Berechnung!$B$5,FALSE),0))","v":7.146595103605104E-8},{"$f":"IF(AND($A97>=0,Berechnung!$B$5=0),1,IF(Berechnung!$B$5<>0,_xlfn.NORM.DIST($A97,0,Berechnung!$B$5,TRUE),0))","v":0.99999980150606937},{"$f":"IF(AND($A97=0,Berechnung!$B$6=0),1,IF(Berechnung!$B$6<>0,_xlfn.NORM.DIST($A97,0,Berechnung!$B$6,FALSE),0))","v":7.1798208350933842E-8},{"$f":"IF(AND($A97>=0,Berechnung!$B$6=0),1,IF(Berechnung!$B$6<>0,_xlfn.NORM.DIST($A97,0,Berechnung!$B$6,TRUE),0))","v":0.99999980051080739},{"$f":"IF(AND($A97=0,Berechnung!$B$7=0),1,IF(Berechnung!$B$7<>0,_xlfn.NORM.DIST($A97,0,Berechnung!$B$7,FALSE),0))","v":9.2563919505088751E-17},{"$f":"IF(AND($A97>=0,Berechnung!$B$7=0),1,IF(Berechnung!$B$7<>0,_xlfn.NORM.DIST($A97,0,Berechnung!$B$7,TRUE),0))","v":0.99999999999999989},{"$f":"IF(AND($A97=0,Berechnung!$B$8=0),1,IF(Berechnung!$B$8<>0,_xlfn.NORM.DIST($A97,0,Berechnung!$B$8,FALSE),0))","v":9.2563919505088751E-17},{"$f":"IF(AND($A97>=0,Berechnung!$B$8=0),1,IF(Berechnung!$B$8<>0,_xlfn.NORM.DIST($A97,0,Berechnung!$B$8,TRUE),0))","v":0.99999999999999989},{"$f":"IF(AND($A97=0,Berechnung!$B$9=0),1,IF(Berechnung!$B$9<>0,_xlfn.NORM.DIST($A97,0,Berechnung!$B$9,FALSE),0))","v":3.2760162922696121E-13},{"$f":"IF(AND($A97>=0,Berechnung!$B$9=0),1,IF(Berechnung!$B$9<>0,_xlfn.NORM.DIST($A97,0,Berechnung!$B$9,TRUE),0))","v":0.99999999999953326},{"$f":"IF(AND($A97=0,Berechnung!$B$10=0),1,IF(Berechnung!$B$10<>0,_xlfn.NORM.DIST($A97,0,Berechnung!$B$10,FALSE),0))","v":3.1133894468551591E-11},{"$f":"IF(AND($A97>=0,Berechnung!$B$10=0),1,IF(Berechnung!$B$10<>0,_xlfn.NORM.DIST($A97,0,Berechnung!$B$10,TRUE),0))","v":0.99999999994595079},{"$f":"IF(AND($A97=0,Berechnung!$B$11=0),1,IF(Berechnung!$B$11<>0,_xlfn.NORM.DIST($A97,0,Berechnung!$B$11,FALSE),0))","v":0},{"$f":"IF(AND($A97>=0,Berechnung!$B$11=0),1,IF(Berechnung!$B$11<>0,_xlfn.NORM.DIST($A97,0,Berechnung!$B$11,TRUE),0))","v":1},{"$f":"Demonstrator!$J$19*'Daten Diagramm'!H97+Demonstrator!$J$24*'Daten Diagramm'!L97","v":1.4359641744237901E-8},{"$f":"Demonstrator!$J$19*'Daten Diagramm'!I97+Demonstrator!$J$24*'Daten Diagramm'!M97","v":0.99999996010216141}]
[75,{"$f":"IF(AND(A98=0,Berechnung!$B$3=0),1,IF(Berechnung!$B$3<>0,_xlfn.NORM.DIST(A98,0,Berechnung!$B$3,FALSE),0))","v":3.6897593832524669E-17},{"$f":"IF(AND($A98>=0,Berechnung!$B$3=0),1,IF(Berechnung!$B$3<>0,_xlfn.NORM.DIST($A98,0,Berechnung!$B$3,TRUE),0))","v":1},{"$f":"IF(AND($A98=0,Berechnung!$B$4=0),1,IF(Berechnung!$B$4<>0,_xlfn.NORM.DIST($A98,0,Berechnung!$B$4,FALSE),0))","v":3.6897593832524669E-17},{"$f":"IF(AND($A98>=0,Berechnung!$B$4=0),1,IF(Berechnung!$B$4<>0,_xlfn.NORM.DIST($A98,0,Berechnung!$B$4,TRUE),0))","v":1},{"$f":"IF(AND($A98=0,Berechnung!$B$5=0),1,IF(Berechnung!$B$5<>0,_xlfn.NORM.DIST($A98,0,Berechnung!$B$5,FALSE),0))","v":5.0373027782173347E-8},{"$f":"IF(AND($A98>=0,Berechnung!$B$5=0),1,IF(Berechnung!$B$5<>0,_xlfn.NORM.DIST($A98,0,Berechnung!$B$5,TRUE),0))","v":0.99999986183556244},{"$f":"IF(AND($A98=0,Berechnung!$B$6=0),1,IF(Berechnung!$B$6<>0,_xlfn.NORM.DIST($A98,0,Berechnung!$B$6,FALSE),0))","v":5.0613866593951152E-8},{"$f":"IF(AND($A98>=0,Berechnung!$B$6=0),1,IF(Berechnung!$B$6<>0,_xlfn.NORM.DIST($A98,0,Berechnung!$B$6,TRUE),0))","v":0.99999986112452199},{"$f":"IF(AND($A98=0,Berechnung!$B$7=0),1,IF(Berechnung!$B$7<>0,_xlfn.NORM.DIST($A98,0,Berechnung!$B$7,FALSE),0))","v":3.6897593832524669E-17},{"$f":"IF(AND($A98>=0,Berechnung!$B$7=0),1,IF(Berechnung!$B$7<>0,_xlfn.NORM.DIST($A98,0,Berechnung!$B$7,TRUE),0))","v":1},{"$f":"IF(AND($A98=0,Berechnung!$B$8=0),1,IF(Berechnung!$B$8<>0,_xlfn.NORM.DIST($A98,0,Berechnung!$B$8,FALSE),0))","v":3.6897593832524669E-17},{"$f":"IF(AND($A98>=0,Berechnung!$B$8=0),1,IF(Berechnung!$B$8<>0,_xlfn.NORM.DIST($A98,0,Berechnung!$B$8,TRUE),0))","v":1},{"$f":"IF(AND($A98=0,Berechnung!$B$9=0),1,IF(Berechnung!$B$9<>0,_xlfn.NORM.DIST($A98,0,Berechnung!$B$9,FALSE),0))","v":1.6373235627120036E-13},{"$f":"IF(AND($A98>=0,Berechnung!$B$9=0),1,IF(Berechnung!$B$9<>0,_xlfn.NORM.DIST($A98,0,Berechnung!$B$9,TRUE),0))","v":0.99999999999976974},{"$f":"IF(AND($A98=0,Berechnung!$B$10=0),1,IF(Berechnung!$B$10<>0,_xlfn.NORM.DIST($A98,0,Berechnung!$B$10,FALSE),0))","v":1.7661639512937234E-11},{"$f":"IF(AND($A98>=0,Berechnung!$B$10=0),1,IF(Berechnung!$B$10<>0,_xlfn.NORM.DIST($A98,0,Berechnung!$B$10,TRUE),0))","v":0.99999999996973044},{"$f":"IF(AND($A98=0,Berechnung!$B$11=0),1,IF(Berechnung!$B$11<>0,_xlfn.NORM.DIST($A98,0,Berechnung!$B$11,FALSE),0))","v":0},{"$f":"IF(AND($A98>=0,Berechnung!$B$11=0),1,IF(Berechnung!$B$11<>0,_xlfn.NORM.DIST($A98,0,Berechnung!$B$11,TRUE),0))","v":1},{"$f":"Demonstrator!$J$19*'Daten Diagramm'!H98+Demonstrator!$J$24*'Daten Diagramm'!L98","v":1.0122773348308304E-8},{"$f":"Demonstrator!$J$19*'Daten Diagramm'!I98+Demonstrator!$J$24*'Daten Diagramm'!M98","v":0.99999997222490444}]
[76,{"$f":"IF(AND(A99=0,Berechnung!$B$3=0),1,IF(Berechnung!$B$3<>0,_xlfn.NORM.DIST(A99,0,Berechnung!$B$3,FALSE),0))","v":1.4527560590413454E-17},{"$f":"IF(AND($A99>=0,Berechnung!$B$3=0),1,IF(Berechnung!$B$3<>0,_xlfn.NORM.DIST($A99,0,Berechnung!$B$3,TRUE),0))","v":1},{"$f":"IF(AND($A99=0,Berechnung!$B$4=0),1,IF(Berechnung!$B$4<>0,_xlfn.NORM.DIST($A99,0,Berechnung!$B$4,FALSE),0))","v":1.4527560590413454E-17},{"$f":"IF(AND($A99>=0,Berechnung!$B$4=0),1,IF(Berechnung!$B$4<>0,_xlfn.NORM.DIST($A99,0,Berechnung!$B$4,TRUE),0))","v":1},{"$f":"IF(AND($A99=0,Berechnung!$B$5=0),1,IF(Berechnung!$B$5<>0,_xlfn.NORM.DIST($A99,0,Berechnung!$B$5,FALSE),0))","v":3.533930409108015E-8},{"$f":"IF(AND($A99>=0,Berechnung!$B$5=0),1,IF(Berechnung!$B$5<>0,_xlfn.NORM.DIST($A99,0,Berechnung!$B$5,TRUE),0))","v":0.99999990426514707},{"$f":"IF(AND($A99=0,Berechnung!$B$6=0),1,IF(Berechnung!$B$6<>0,_xlfn.NORM.DIST($A99,0,Berechnung!$B$6,FALSE),0))","v":3.5512990842979198E-8},{"$f":"IF(AND($A99>=0,Berechnung!$B$6=0),1,IF(Berechnung!$B$6<>0,_xlfn.NORM.DIST($A99,0,Berechnung!$B$6,TRUE),0))","v":0.99999990375963033},{"$f":"IF(AND($A99=0,Berechnung!$B$7=0),1,IF(Berechnung!$B$7<>0,_xlfn.NORM.DIST($A99,0,Berechnung!$B$7,FALSE),0))","v":1.4527560590413454E-17},{"$f":"IF(AND($A99>=0,Berechnung!$B$7=0),1,IF(Berechnung!$B$7<>0,_xlfn.NORM.DIST($A99,0,Berechnung!$B$7,TRUE),0))","v":1},{"$f":"IF(AND($A99=0,Berechnung!$B$8=0),1,IF(Berechnung!$B$8<>0,_xlfn.NORM.DIST($A99,0,Berechnung!$B$8,FALSE),0))","v":1.4527560590413454E-17},{"$f":"IF(AND($A99>=0,Berechnung!$B$8=0),1,IF(Berechnung!$B$8<>0,_xlfn.NORM.DIST($A99,0,Berechnung!$B$8,TRUE),0))","v":1},{"$f":"IF(AND($A99=0,Berechnung!$B$9=0),1,IF(Berechnung!$B$9<>0,_xlfn.NORM.DIST($A99,0,Berechnung!$B$9,FALSE),0))","v":8.1073675574175606E-14},{"$f":"IF(AND($A99>=0,Berechnung!$B$9=0),1,IF(Berechnung!$B$9<>0,_xlfn.NORM.DIST($A99,0,Berechnung!$B$9,TRUE),0))","v":0.99999999999988742},{"$f":"IF(AND($A99=0,Berechnung!$B$10=0),1,IF(Berechnung!$B$10<>0,_xlfn.NORM.DIST($A99,0,Berechnung!$B$10,FALSE),0))","v":9.9431468344385233E-12},{"$f":"IF(AND($A99>=0,Berechnung!$B$10=0),1,IF(Berechnung!$B$10<>0,_xlfn.NORM.DIST($A99,0,Berechnung!$B$10,TRUE),0))","v":0.99999999998317379},{"$f":"IF(AND($A99=0,Berechnung!$B$11=0),1,IF(Berechnung!$B$11<>0,_xlfn.NORM.DIST($A99,0,Berechnung!$B$11,FALSE),0))","v":0},{"$f":"IF(AND($A99>=0,Berechnung!$B$11=0),1,IF(Berechnung!$B$11<>0,_xlfn.NORM.DIST($A99,0,Berechnung!$B$11,TRUE),0))","v":1},{"$f":"Demonstrator!$J$19*'Daten Diagramm'!H99+Demonstrator!$J$24*'Daten Diagramm'!L99","v":7.1025981802178864E-9},{"$f":"Demonstrator!$J$19*'Daten Diagramm'!I99+Demonstrator!$J$24*'Daten Diagramm'!M99","v":0.99999998075192609}]
[77,{"$f":"IF(AND(A100=0,Berechnung!$B$3=0),1,IF(Berechnung!$B$3<>0,_xlfn.NORM.DIST(A100,0,Berechnung!$B$3,FALSE),0))","v":5.6497038691964577E-18},{"$f":"IF(AND($A100>=0,Berechnung!$B$3=0),1,IF(Berechnung!$B$3<>0,_xlfn.NORM.DIST($A100,0,Berechnung!$B$3,TRUE),0))","v":1},{"$f":"IF(AND($A100=0,Berechnung!$B$4=0),1,IF(Berechnung!$B$4<>0,_xlfn.NORM.DIST($A100,0,Berechnung!$B$4,FALSE),0))","v":5.6497038691964577E-18},{"$f":"IF(AND($A100>=0,Berechnung!$B$4=0),1,IF(Berechnung!$B$4<>0,_xlfn.NORM.DIST($A100,0,Berechnung!$B$4,TRUE),0))","v":1},{"$f":"IF(AND($A100=0,Berechnung!$B$5=0),1,IF(Berechnung!$B$5<>0,_xlfn.NORM.DIST($A100,0,Berechnung!$B$5,FALSE),0))","v":2.4676240196187818E-8},{"$f":"IF(AND($A100>=0,Berechnung!$B$5=0),1,IF(Berechnung!$B$5<>0,_xlfn.NORM.DIST($A100,0,Berechnung!$B$5,TRUE),0))","v":0.99999993396605558},{"$f":"IF(AND($A100=0,Berechnung!$B$6=0),1,IF(Berechnung!$B$6<>0,_xlfn.NORM.DIST($A100,0,Berechnung!$B$6,FALSE),0))","v":2.4800863780623504E-8},{"$f":"IF(AND($A100>=0,Berechnung!$B$6=0),1,IF(Berechnung!$B$6<>0,_xlfn.NORM.DIST($A100,0,Berechnung!$B$6,TRUE),0))","v":0.99999993360840167},{"$f":"IF(AND($A100=0,Berechnung!$B$7=0),1,IF(Berechnung!$B$7<>0,_xlfn.NORM.DIST($A100,0,Berechnung!$B$7,FALSE),0))","v":5.6497038691964577E-18},{"$f":"IF(AND($A100>=0,Berechnung!$B$7=0),1,IF(Berechnung!$B$7<>0,_xlfn.NORM.DIST($A100,0,Berechnung!$B$7,TRUE),0))","v":1},{"$f":"IF(AND($A100=0,Berechnung!$B$8=0),1,IF(Berechnung!$B$8<>0,_xlfn.NORM.DIST($A100,0,Berechnung!$B$8,FALSE),0))","v":5.6497038691964577E-18},{"$f":"IF(AND($A100>=0,Berechnung!$B$8=0),1,IF(Berechnung!$B$8<>0,_xlfn.NORM.DIST($A100,0,Berechnung!$B$8,TRUE),0))","v":1},{"$f":"IF(AND($A100=0,Berechnung!$B$9=0),1,IF(Berechnung!$B$9<>0,_xlfn.NORM.DIST($A100,0,Berechnung!$B$9,FALSE),0))","v":3.9772428130933229E-14},{"$f":"IF(AND($A100>=0,Berechnung!$B$9=0),1,IF(Berechnung!$B$9<>0,_xlfn.NORM.DIST($A100,0,Berechnung!$B$9,TRUE),0))","v":0.99999999999994549},{"$f":"IF(AND($A100=0,Berechnung!$B$10=0),1,IF(Berechnung!$B$10<>0,_xlfn.NORM.DIST($A100,0,Berechnung!$B$10,FALSE),0))","v":5.5553568196409469E-12},{"$f":"IF(AND($A100>=0,Berechnung!$B$10=0),1,IF(Berechnung!$B$10<>0,_xlfn.NORM.DIST($A100,0,Berechnung!$B$10,TRUE),0))","v":0.9999999999907162},{"$f":"IF(AND($A100=0,Berechnung!$B$11=0),1,IF(Berechnung!$B$11<>0,_xlfn.NORM.DIST($A100,0,Berechnung!$B$11,FALSE),0))","v":0},{"$f":"IF(AND($A100>=0,Berechnung!$B$11=0),1,IF(Berechnung!$B$11<>0,_xlfn.NORM.DIST($A100,0,Berechnung!$B$11,TRUE),0))","v":1},{"$f":"Demonstrator!$J$19*'Daten Diagramm'!H100+Demonstrator!$J$24*'Daten Diagramm'!L100","v":4.9601727606444628E-9},{"$f":"Demonstrator!$J$19*'Daten Diagramm'!I100+Demonstrator!$J$24*'Daten Diagramm'!M100","v":0.99999998672168033}]
[78,{"$f":"IF(AND(A101=0,Berechnung!$B$3=0),1,IF(Berechnung!$B$3<>0,_xlfn.NORM.DIST(A101,0,Berechnung!$B$3,FALSE),0))","v":2.1701862813246088E-18},{"$f":"IF(AND($A101>=0,Berechnung!$B$3=0),1,IF(Berechnung!$B$3<>0,_xlfn.NORM.DIST($A101,0,Berechnung!$B$3,TRUE),0))","v":1},{"$f":"IF(AND($A101=0,Berechnung!$B$4=0),1,IF(Berechnung!$B$4<>0,_xlfn.NORM.DIST($A101,0,Berechnung!$B$4,FALSE),0))","v":2.1701862813246088E-18},{"$f":"IF(AND($A101>=0,Berechnung!$B$4=0),1,IF(Berechnung!$B$4<>0,_xlfn.NORM.DIST($A101,0,Berechnung!$B$4,TRUE),0))","v":1},{"$f":"IF(AND($A101=0,Berechnung!$B$5=0),1,IF(Berechnung!$B$5<>0,_xlfn.NORM.DIST($A101,0,Berechnung!$B$5,FALSE),0))","v":1.7149878345706074E-8},{"$f":"IF(AND($A101>=0,Berechnung!$B$5=0),1,IF(Berechnung!$B$5<>0,_xlfn.NORM.DIST($A101,0,Berechnung!$B$5,TRUE),0))","v":0.99999995465948832},{"$f":"IF(AND($A101=0,Berechnung!$B$6=0),1,IF(Berechnung!$B$6<>0,_xlfn.NORM.DIST($A101,0,Berechnung!$B$6,FALSE),0))","v":1.7238845955374351E-8},{"$f":"IF(AND($A101>=0,Berechnung!$B$6=0),1,IF(Berechnung!$B$6<>0,_xlfn.NORM.DIST($A101,0,Berechnung!$B$6,TRUE),0))","v":0.99999995440767508},{"$f":"IF(AND($A101=0,Berechnung!$B$7=0),1,IF(Berechnung!$B$7<>0,_xlfn.NORM.DIST($A101,0,Berechnung!$B$7,FALSE),0))","v":2.1701862813246088E-18},{"$f":"IF(AND($A101>=0,Berechnung!$B$7=0),1,IF(Berechnung!$B$7<>0,_xlfn.NORM.DIST($A101,0,Berechnung!$B$7,TRUE),0))","v":1},{"$f":"IF(AND($A101=0,Berechnung!$B$8=0),1,IF(Berechnung!$B$8<>0,_xlfn.NORM.DIST($A101,0,Berechnung!$B$8,FALSE),0))","v":2.1701862813246088E-18},{"$f":"IF(AND($A101>=0,Berechnung!$B$8=0),1,IF(Berechnung!$B$8<>0,_xlfn.NORM.DIST($A101,0,Berechnung!$B$8,TRUE),0))","v":1},{"$f":"IF(AND($A101=0,Berechnung!$B$9=0),1,IF(Berechnung!$B$9<>0,_xlfn.NORM.DIST($A101,0,Berechnung!$B$9,FALSE),0))","v":1.9330417800309456E-14},{"$f":"IF(AND($A101>=0,Berechnung!$B$9=0),1,IF(Berechnung!$B$9<>0,_xlfn.NORM.DIST($A101,0,Berechnung!$B$9,TRUE),0))","v":0.9999999999999738},{"$f":"IF(AND($A101=0,Berechnung!$B$10=0),1,IF(Berechnung!$B$10<>0,_xlfn.NORM.DIST($A101,0,Berechnung!$B$10,FALSE),0))","v":3.0803164430459495E-12},{"$f":"IF(AND($A101>=0,Berechnung!$B$10=0),1,IF(Berechnung!$B$10<>0,_xlfn.NORM.DIST($A101,0,Berechnung!$B$10,TRUE),0))","v":0.99999999999491573},{"$f":"IF(AND($A101=0,Berechnung!$B$11=0),1,IF(Berechnung!$B$11<>0,_xlfn.NORM.DIST($A101,0,Berechnung!$B$11,FALSE),0))","v":0},{"$f":"IF(AND($A101>=0,Berechnung!$B$11=0),1,IF(Berechnung!$B$11<>0,_xlfn.NORM.DIST($A101,0,Berechnung!$B$11,TRUE),0))","v":1},{"$f":"Demonstrator!$J$19*'Daten Diagramm'!H101+Demonstrator!$J$24*'Daten Diagramm'!L101","v":3.4477691928110185E-9},{"$f":"Demonstrator!$J$19*'Daten Diagramm'!I101+Demonstrator!$J$24*'Daten Diagramm'!M101","v":0.99999999088153502}]
[79,{"$f":"IF(AND(A102=0,Berechnung!$B$3=0),1,IF(Berechnung!$B$3<>0,_xlfn.NORM.DIST(A102,0,Berechnung!$B$3,FALSE),0))","v":8.2339207479137457E-19},{"$f":"IF(AND($A102>=0,Berechnung!$B$3=0),1,IF(Berechnung!$B$3<>0,_xlfn.NORM.DIST($A102,0,Berechnung!$B$3,TRUE),0))","v":1},{"$f":"IF(AND($A102=0,Berechnung!$B$4=0),1,IF(Berechnung!$B$4<>0,_xlfn.NORM.DIST($A102,0,Berechnung!$B$4,FALSE),0))","v":8.2339207479137457E-19},{"$f":"IF(AND($A102>=0,Berechnung!$B$4=0),1,IF(Berechnung!$B$4<>0,_xlfn.NORM.DIST($A102,0,Berechnung!$B$4,TRUE),0))","v":1},{"$f":"IF(AND($A102=0,Berechnung!$B$5=0),1,IF(Berechnung!$B$5<>0,_xlfn.NORM.DIST($A102,0,Berechnung!$B$5,FALSE),0))","v":1.1863262963202594E-8},{"$f":"IF(AND($A102>=0,Berechnung!$B$5=0),1,IF(Berechnung!$B$5<>0,_xlfn.NORM.DIST($A102,0,Berechnung!$B$5,TRUE),0))","v":0.99999996900966326},{"$f":"IF(AND($A102=0,Berechnung!$B$6=0),1,IF(Berechnung!$B$6<>0,_xlfn.NORM.DIST($A102,0,Berechnung!$B$6,FALSE),0))","v":1.1926455581300403E-8},{"$f":"IF(AND($A102>=0,Berechnung!$B$6=0),1,IF(Berechnung!$B$6<>0,_xlfn.NORM.DIST($A102,0,Berechnung!$B$6,TRUE),0))","v":0.9999999688332285},{"$f":"IF(AND($A102=0,Berechnung!$B$7=0),1,IF(Berechnung!$B$7<>0,_xlfn.NORM.DIST($A102,0,Berechnung!$B$7,FALSE),0))","v":8.2339207479137457E-19},{"$f":"IF(AND($A102>=0,Berechnung!$B$7=0),1,IF(Berechnung!$B$7<>0,_xlfn.NORM.DIST($A102,0,Berechnung!$B$7,TRUE),0))","v":1},{"$f":"IF(AND($A102=0,Berechnung!$B$8=0),1,IF(Berechnung!$B$8<>0,_xlfn.NORM.DIST($A102,0,Berechnung!$B$8,FALSE),0))","v":8.2339207479137457E-19},{"$f":"IF(AND($A102>=0,Berechnung!$B$8=0),1,IF(Berechnung!$B$8<>0,_xlfn.NORM.DIST($A102,0,Berechnung!$B$8,TRUE),0))","v":1},{"$f":"IF(AND($A102=0,Berechnung!$B$9=0),1,IF(Berechnung!$B$9<>0,_xlfn.NORM.DIST($A102,0,Berechnung!$B$9,FALSE),0))","v":9.3080191461742221E-15},{"$f":"IF(AND($A102>=0,Berechnung!$B$9=0),1,IF(Berechnung!$B$9<>0,_xlfn.NORM.DIST($A102,0,Berechnung!$B$9,TRUE),0))","v":0.99999999999998757},{"$f":"IF(AND($A102=0,Berechnung!$B$10=0),1,IF(Berechnung!$B$10<>0,_xlfn.NORM.DIST($A102,0,Berechnung!$B$10,FALSE),0))","v":1.6950166900409509E-12},{"$f":"IF(AND($A102>=0,Berechnung!$B$10=0),1,IF(Berechnung!$B$10<>0,_xlfn.NORM.DIST($A102,0,Berechnung!$B$10,TRUE),0))","v":0.99999999999723632},{"$f":"IF(AND($A102=0,Berechnung!$B$11=0),1,IF(Berechnung!$B$11<>0,_xlfn.NORM.DIST($A102,0,Berechnung!$B$11,FALSE),0))","v":0},{"$f":"IF(AND($A102>=0,Berechnung!$B$11=0),1,IF(Berechnung!$B$11<>0,_xlfn.NORM.DIST($A102,0,Berechnung!$B$11,TRUE),0))","v":1},{"$f":"Demonstrator!$J$19*'Daten Diagramm'!H102+Demonstrator!$J$24*'Daten Diagramm'!L102","v":2.3852911169187937E-9},{"$f":"Demonstrator!$J$19*'Daten Diagramm'!I102+Demonstrator!$J$24*'Daten Diagramm'!M102","v":0.99999999376664572}]
[80,{"$f":"IF(AND(A103=0,Berechnung!$B$3=0),1,IF(Berechnung!$B$3<>0,_xlfn.NORM.DIST(A103,0,Berechnung!$B$3,FALSE),0))","v":3.0857070380124876E-19},{"$f":"IF(AND($A103>=0,Berechnung!$B$3=0),1,IF(Berechnung!$B$3<>0,_xlfn.NORM.DIST($A103,0,Berechnung!$B$3,TRUE),0))","v":1},{"$f":"IF(AND($A103=0,Berechnung!$B$4=0),1,IF(Berechnung!$B$4<>0,_xlfn.NORM.DIST($A103,0,Berechnung!$B$4,FALSE),0))","v":3.0857070380124876E-19},{"$f":"IF(AND($A103>=0,Berechnung!$B$4=0),1,IF(Berechnung!$B$4<>0,_xlfn.NORM.DIST($A103,0,Berechnung!$B$4,TRUE),0))","v":1},{"$f":"IF(AND($A103=0,Berechnung!$B$5=0),1,IF(Berechnung!$B$5<>0,_xlfn.NORM.DIST($A103,0,Berechnung!$B$5,FALSE),0))","v":8.1678608317051622E-9},{"$f":"IF(AND($A103>=0,Berechnung!$B$5=0),1,IF(Berechnung!$B$5<>0,_xlfn.NORM.DIST($A103,0,Berechnung!$B$5,TRUE),0))","v":0.99999997891441761},{"$f":"IF(AND($A103=0,Berechnung!$B$6=0),1,IF(Berechnung!$B$6<>0,_xlfn.NORM.DIST($A103,0,Berechnung!$B$6,FALSE),0))","v":8.21251972164098E-9},{"$f":"IF(AND($A103>=0,Berechnung!$B$6=0),1,IF(Berechnung!$B$6<>0,_xlfn.NORM.DIST($A103,0,Berechnung!$B$6,TRUE),0))","v":0.99999997879139579},{"$f":"IF(AND($A103=0,Berechnung!$B$7=0),1,IF(Berechnung!$B$7<>0,_xlfn.NORM.DIST($A103,0,Berechnung!$B$7,FALSE),0))","v":3.0857070380124876E-19},{"$f":"IF(AND($A103>=0,Berechnung!$B$7=0),1,IF(Berechnung!$B$7<>0,_xlfn.NORM.DIST($A103,0,Berechnung!$B$7,TRUE),0))","v":1},{"$f":"IF(AND($A103=0,Berechnung!$B$8=0),1,IF(Berechnung!$B$8<>0,_xlfn.NORM.DIST($A103,0,Berechnung!$B$8,FALSE),0))","v":3.0857070380124876E-19},{"$f":"IF(AND($A103>=0,Berechnung!$B$8=0),1,IF(Berechnung!$B$8<>0,_xlfn.NORM.DIST($A103,0,Berechnung!$B$8,TRUE),0))","v":1},{"$f":"IF(AND($A103=0,Berechnung!$B$9=0),1,IF(Berechnung!$B$9<>0,_xlfn.NORM.DIST($A103,0,Berechnung!$B$9,FALSE),0))","v":4.4404827484413191E-15},{"$f":"IF(AND($A103>=0,Berechnung!$B$9=0),1,IF(Berechnung!$B$9<>0,_xlfn.NORM.DIST($A103,0,Berechnung!$B$9,TRUE),0))","v":0.99999999999999412},{"$f":"IF(AND($A103=0,Berechnung!$B$10=0),1,IF(Berechnung!$B$10<>0,_xlfn.NORM.DIST($A103,0,Berechnung!$B$10,FALSE),0))","v":9.2565231774882825E-13},{"$f":"IF(AND($A103>=0,Berechnung!$B$10=0),1,IF(Berechnung!$B$10<>0,_xlfn.NORM.DIST($A103,0,Berechnung!$B$10,TRUE),0))","v":0.99999999999850886},{"$f":"IF(AND($A103=0,Berechnung!$B$11=0),1,IF(Berechnung!$B$11<>0,_xlfn.NORM.DIST($A103,0,Berechnung!$B$11,FALSE),0))","v":0},{"$f":"IF(AND($A103>=0,Berechnung!$B$11=0),1,IF(Berechnung!$B$11<>0,_xlfn.NORM.DIST($A103,0,Berechnung!$B$11,TRUE),0))","v":1},{"$f":"Demonstrator!$J$19*'Daten Diagramm'!H103+Demonstrator!$J$24*'Daten Diagramm'!L103","v":1.6425039445750523E-9},{"$f":"Demonstrator!$J$19*'Daten Diagramm'!I103+Demonstrator!$J$24*'Daten Diagramm'!M103","v":0.99999999575827914}]
[81,{"$f":"IF(AND(A104=0,Berechnung!$B$3=0),1,IF(Berechnung!$B$3<>0,_xlfn.NORM.DIST(A104,0,Berechnung!$B$3,FALSE),0))","v":1.1421970635187684E-19},{"$f":"IF(AND($A104>=0,Berechnung!$B$3=0),1,IF(Berechnung!$B$3<>0,_xlfn.NORM.DIST($A104,0,Berechnung!$B$3,TRUE),0))","v":1},{"$f":"IF(AND($A104=0,Berechnung!$B$4=0),1,IF(Berechnung!$B$4<>0,_xlfn.NORM.DIST($A104,0,Berechnung!$B$4,FALSE),0))","v":1.1421970635187684E-19},{"$f":"IF(AND($A104>=0,Berechnung!$B$4=0),1,IF(Berechnung!$B$4<>0,_xlfn.NORM.DIST($A104,0,Berechnung!$B$4,TRUE),0))","v":1},{"$f":"IF(AND($A104=0,Berechnung!$B$5=0),1,IF(Berechnung!$B$5<>0,_xlfn.NORM.DIST($A104,0,Berechnung!$B$5,FALSE),0))","v":5.5972352483849457E-9},{"$f":"IF(AND($A104>=0,Berechnung!$B$5=0),1,IF(Berechnung!$B$5<>0,_xlfn.NORM.DIST($A104,0,Berechnung!$B$5,TRUE),0))","v":0.99999998571885251},{"$f":"IF(AND($A104=0,Berechnung!$B$6=0),1,IF(Berechnung!$B$6<>0,_xlfn.NORM.DIST($A104,0,Berechnung!$B$6,FALSE),0))","v":5.6286375057274099E-9},{"$f":"IF(AND($A104>=0,Berechnung!$B$6=0),1,IF(Berechnung!$B$6<>0,_xlfn.NORM.DIST($A104,0,Berechnung!$B$6,TRUE),0))","v":0.9999999856334888},{"$f":"IF(AND($A104=0,Berechnung!$B$7=0),1,IF(Berechnung!$B$7<>0,_xlfn.NORM.DIST($A104,0,Berechnung!$B$7,FALSE),0))","v":1.1421970635187684E-19},{"$f":"IF(AND($A104>=0,Berechnung!$B$7=0),1,IF(Berechnung!$B$7<>0,_xlfn.NORM.DIST($A104,0,Berechnung!$B$7,TRUE),0))","v":1},{"$f":"IF(AND($A104=0,Berechnung!$B$8=0),1,IF(Berechnung!$B$8<>0,_xlfn.NORM.DIST($A104,0,Berechnung!$B$8,FALSE),0))","v":1.1421970635187684E-19},{"$f":"IF(AND($A104>=0,Berechnung!$B$8=0),1,IF(Berechnung!$B$8<>0,_xlfn.NORM.DIST($A104,0,Berechnung!$B$8,TRUE),0))","v":1},{"$f":"IF(AND($A104=0,Berechnung!$B$9=0),1,IF(Berechnung!$B$9<>0,_xlfn.NORM.DIST($A104,0,Berechnung!$B$9,FALSE),0))","v":2.098746565302461E-15},{"$f":"IF(AND($A104>=0,Berechnung!$B$9=0),1,IF(Berechnung!$B$9<>0,_xlfn.NORM.DIST($A104,0,Berechnung!$B$9,TRUE),0))","v":0.99999999999999722},{"$f":"IF(AND($A104=0,Berechnung!$B$10=0),1,IF(Berechnung!$B$10<>0,_xlfn.NORM.DIST($A104,0,Berechnung!$B$10,FALSE),0))","v":5.0166878183377386E-13},{"$f":"IF(AND($A104>=0,Berechnung!$B$10=0),1,IF(Berechnung!$B$10<>0,_xlfn.NORM.DIST($A104,0,Berechnung!$B$10,TRUE),0))","v":0.99999999999920153},{"$f":"IF(AND($A104=0,Berechnung!$B$11=0),1,IF(Berechnung!$B$11<>0,_xlfn.NORM.DIST($A104,0,Berechnung!$B$11,FALSE),0))","v":0},{"$f":"IF(AND($A104>=0,Berechnung!$B$11=0),1,IF(Berechnung!$B$11<>0,_xlfn.NORM.DIST($A104,0,Berechnung!$B$11,TRUE),0))","v":1},{"$f":"Demonstrator!$J$19*'Daten Diagramm'!H104+Demonstrator!$J$24*'Daten Diagramm'!L104","v":1.1257275012368576E-9},{"$f":"Demonstrator!$J$19*'Daten Diagramm'!I104+Demonstrator!$J$24*'Daten Diagramm'!M104","v":0.99999999712669774}]
[82,{"$f":"IF(AND(A105=0,Berechnung!$B$3=0),1,IF(Berechnung!$B$3<>0,_xlfn.NORM.DIST(A105,0,Berechnung!$B$3,FALSE),0))","v":4.1760503597463216E-20},{"$f":"IF(AND($A105>=0,Berechnung!$B$3=0),1,IF(Berechnung!$B$3<>0,_xlfn.NORM.DIST($A105,0,Berechnung!$B$3,TRUE),0))","v":1},{"$f":"IF(AND($A105=0,Berechnung!$B$4=0),1,IF(Berechnung!$B$4<>0,_xlfn.NORM.DIST($A105,0,Berechnung!$B$4,FALSE),0))","v":4.1760503597463216E-20},{"$f":"IF(AND($A105>=0,Berechnung!$B$4=0),1,IF(Berechnung!$B$4<>0,_xlfn.NORM.DIST($A105,0,Berechnung!$B$4,TRUE),0))","v":1},{"$f":"IF(AND($A105=0,Berechnung!$B$5=0),1,IF(Berechnung!$B$5<>0,_xlfn.NORM.DIST($A105,0,Berechnung!$B$5,FALSE),0))","v":3.817682878247397E-9},{"$f":"IF(AND($A105>=0,Berechnung!$B$5=0),1,IF(Berechnung!$B$5<>0,_xlfn.NORM.DIST($A105,0,Berechnung!$B$5,TRUE),0))","v":0.99999999037152276},{"$f":"IF(AND($A105=0,Berechnung!$B$6=0),1,IF(Berechnung!$B$6<>0,_xlfn.NORM.DIST($A105,0,Berechnung!$B$6,FALSE),0))","v":3.8396528363121545E-9},{"$f":"IF(AND($A105>=0,Berechnung!$B$6=0),1,IF(Berechnung!$B$6<>0,_xlfn.NORM.DIST($A105,0,Berechnung!$B$6,TRUE),0))","v":0.99999999031257603},{"$f":"IF(AND($A105=0,Berechnung!$B$7=0),1,IF(Berechnung!$B$7<>0,_xlfn.NORM.DIST($A105,0,Berechnung!$B$7,FALSE),0))","v":4.1760503597463216E-20},{"$f":"IF(AND($A105>=0,Berechnung!$B$7=0),1,IF(Berechnung!$B$7<>0,_xlfn.NORM.DIST($A105,0,Berechnung!$B$7,TRUE),0))","v":1},{"$f":"IF(AND($A105=0,Berechnung!$B$8=0),1,IF(Berechnung!$B$8<>0,_xlfn.NORM.DIST($A105,0,Berechnung!$B$8,FALSE),0))","v":4.1760503597463216E-20},{"$f":"IF(AND($A105>=0,Berechnung!$B$8=0),1,IF(Berechnung!$B$8<>0,_xlfn.NORM.DIST($A105,0,Berechnung!$B$8,TRUE),0))","v":1},{"$f":"IF(AND($A105=0,Berechnung!$B$9=0),1,IF(Berechnung!$B$9<>0,_xlfn.NORM.DIST($A105,0,Berechnung!$B$9,FALSE),0))","v":9.8275825777648306E-16},{"$f":"IF(AND($A105>=0,Berechnung!$B$9=0),1,IF(Berechnung!$B$9<>0,_xlfn.NORM.DIST($A105,0,Berechnung!$B$9,TRUE),0))","v":0.99999999999999878},{"$f":"IF(AND($A105=0,Berechnung!$B$10=0),1,IF(Berechnung!$B$10<>0,_xlfn.NORM.DIST($A105,0,Berechnung!$B$10,FALSE),0))","v":2.6982459202582878E-13},{"$f":"IF(AND($A105>=0,Berechnung!$B$10=0),1,IF(Berechnung!$B$10<>0,_xlfn.NORM.DIST($A105,0,Berechnung!$B$10,TRUE),0))","v":0.99999999999957556},{"$f":"IF(AND($A105=0,Berechnung!$B$11=0),1,IF(Berechnung!$B$11<>0,_xlfn.NORM.DIST($A105,0,Berechnung!$B$11,FALSE),0))","v":0},{"$f":"IF(AND($A105>=0,Berechnung!$B$11=0),1,IF(Berechnung!$B$11<>0,_xlfn.NORM.DIST($A105,0,Berechnung!$B$11,TRUE),0))","v":1},{"$f":"Demonstrator!$J$19*'Daten Diagramm'!H105+Demonstrator!$J$24*'Daten Diagramm'!L105","v":7.6793056729583916E-10},{"$f":"Demonstrator!$J$19*'Daten Diagramm'!I105+Demonstrator!$J$24*'Daten Diagramm'!M105","v":0.99999999806251516}]
[83,{"$f":"IF(AND(A106=0,Berechnung!$B$3=0),1,IF(Berechnung!$B$3<>0,_xlfn.NORM.DIST(A106,0,Berechnung!$B$3,FALSE),0))","v":1.5080951905724638E-20},{"$f":"IF(AND($A106>=0,Berechnung!$B$3=0),1,IF(Berechnung!$B$3<>0,_xlfn.NORM.DIST($A106,0,Berechnung!$B$3,TRUE),0))","v":1},{"$f":"IF(AND($A106=0,Berechnung!$B$4=0),1,IF(Berechnung!$B$4<>0,_xlfn.NORM.DIST($A106,0,Berechnung!$B$4,FALSE),0))","v":1.5080951905724638E-20},{"$f":"IF(AND($A106>=0,Berechnung!$B$4=0),1,IF(Berechnung!$B$4<>0,_xlfn.NORM.DIST($A106,0,Berechnung!$B$4,TRUE),0))","v":1},{"$f":"IF(AND($A106=0,Berechnung!$B$5=0),1,IF(Berechnung!$B$5<>0,_xlfn.NORM.DIST($A106,0,Berechnung!$B$5,FALSE),0))","v":2.591714740306628E-9},{"$f":"IF(AND($A106>=0,Berechnung!$B$5=0),1,IF(Berechnung!$B$5<>0,_xlfn.NORM.DIST($A106,0,Berechnung!$B$5,TRUE),0))","v":0.99999999353798508},{"$f":"IF(AND($A106=0,Berechnung!$B$6=0),1,IF(Berechnung!$B$6<>0,_xlfn.NORM.DIST($A106,0,Berechnung!$B$6,FALSE),0))","v":2.6070085923031262E-9},{"$f":"IF(AND($A106>=0,Berechnung!$B$6=0),1,IF(Berechnung!$B$6<>0,_xlfn.NORM.DIST($A106,0,Berechnung!$B$6,TRUE),0))","v":0.99999999349747692},{"$f":"IF(AND($A106=0,Berechnung!$B$7=0),1,IF(Berechnung!$B$7<>0,_xlfn.NORM.DIST($A106,0,Berechnung!$B$7,FALSE),0))","v":1.5080951905724638E-20},{"$f":"IF(AND($A106>=0,Berechnung!$B$7=0),1,IF(Berechnung!$B$7<>0,_xlfn.NORM.DIST($A106,0,Berechnung!$B$7,TRUE),0))","v":1},{"$f":"IF(AND($A106=0,Berechnung!$B$8=0),1,IF(Berechnung!$B$8<>0,_xlfn.NORM.DIST($A106,0,Berechnung!$B$8,FALSE),0))","v":1.5080951905724638E-20},{"$f":"IF(AND($A106>=0,Berechnung!$B$8=0),1,IF(Berechnung!$B$8<>0,_xlfn.NORM.DIST($A106,0,Berechnung!$B$8,TRUE),0))","v":1},{"$f":"IF(AND($A106=0,Berechnung!$B$9=0),1,IF(Berechnung!$B$9<>0,_xlfn.NORM.DIST($A106,0,Berechnung!$B$9,FALSE),0))","v":4.5592173548462802E-16},{"$f":"IF(AND($A106>=0,Berechnung!$B$9=0),1,IF(Berechnung!$B$9<>0,_xlfn.NORM.DIST($A106,0,Berechnung!$B$9,TRUE),0))","v":0.99999999999999944},{"$f":"IF(AND($A106=0,Berechnung!$B$10=0),1,IF(Berechnung!$B$10<>0,_xlfn.NORM.DIST($A106,0,Berechnung!$B$10,FALSE),0))","v":1.4402611670435546E-13},{"$f":"IF(AND($A106>=0,Berechnung!$B$10=0),1,IF(Berechnung!$B$10<>0,_xlfn.NORM.DIST($A106,0,Berechnung!$B$10,TRUE),0))","v":0.99999999999977607},{"$f":"IF(AND($A106=0,Berechnung!$B$11=0),1,IF(Berechnung!$B$11<>0,_xlfn.NORM.DIST($A106,0,Berechnung!$B$11,FALSE),0))","v":0},{"$f":"IF(AND($A106>=0,Berechnung!$B$11=0),1,IF(Berechnung!$B$11<>0,_xlfn.NORM.DIST($A106,0,Berechnung!$B$11,TRUE),0))","v":1},{"$f":"Demonstrator!$J$19*'Daten Diagramm'!H106+Demonstrator!$J$24*'Daten Diagramm'!L106","v":5.2140171847268988E-10},{"$f":"Demonstrator!$J$19*'Daten Diagramm'!I106+Demonstrator!$J$24*'Daten Diagramm'!M106","v":0.99999999869949541}]
[84,{"$f":"IF(AND(A107=0,Berechnung!$B$3=0),1,IF(Berechnung!$B$3<>0,_xlfn.NORM.DIST(A107,0,Berechnung!$B$3,FALSE),0))","v":5.3793539686047687E-21},{"$f":"IF(AND($A107>=0,Berechnung!$B$3=0),1,IF(Berechnung!$B$3<>0,_xlfn.NORM.DIST($A107,0,Berechnung!$B$3,TRUE),0))","v":1},{"$f":"IF(AND($A107=0,Berechnung!$B$4=0),1,IF(Berechnung!$B$4<>0,_xlfn.NORM.DIST($A107,0,Berechnung!$B$4,FALSE),0))","v":5.3793539686047687E-21},{"$f":"IF(AND($A107>=0,Berechnung!$B$4=0),1,IF(Berechnung!$B$4<>0,_xlfn.NORM.DIST($A107,0,Berechnung!$B$4,TRUE),0))","v":1},{"$f":"IF(AND($A107=0,Berechnung!$B$5=0),1,IF(Berechnung!$B$5<>0,_xlfn.NORM.DIST($A107,0,Berechnung!$B$5,FALSE),0))","v":1.7511994255546055E-9},{"$f":"IF(AND($A107>=0,Berechnung!$B$5=0),1,IF(Berechnung!$B$5<>0,_xlfn.NORM.DIST($A107,0,Berechnung!$B$5,TRUE),0))","v":0.999999995682891},{"$f":"IF(AND($A107=0,Berechnung!$B$6=0),1,IF(Berechnung!$B$6<>0,_xlfn.NORM.DIST($A107,0,Berechnung!$B$6,FALSE),0))","v":1.7617926349669825E-9},{"$f":"IF(AND($A107>=0,Berechnung!$B$6=0),1,IF(Berechnung!$B$6<>0,_xlfn.NORM.DIST($A107,0,Berechnung!$B$6,TRUE),0))","v":0.99999999565518816},{"$f":"IF(AND($A107=0,Berechnung!$B$7=0),1,IF(Berechnung!$B$7<>0,_xlfn.NORM.DIST($A107,0,Berechnung!$B$7,FALSE),0))","v":5.3793539686047687E-21},{"$f":"IF(AND($A107>=0,Berechnung!$B$7=0),1,IF(Berechnung!$B$7<>0,_xlfn.NORM.DIST($A107,0,Berechnung!$B$7,TRUE),0))","v":1},{"$f":"IF(AND($A107=0,Berechnung!$B$8=0),1,IF(Berechnung!$B$8<>0,_xlfn.NORM.DIST($A107,0,Berechnung!$B$8,FALSE),0))","v":5.3793539686047687E-21},{"$f":"IF(AND($A107>=0,Berechnung!$B$8=0),1,IF(Berechnung!$B$8<>0,_xlfn.NORM.DIST($A107,0,Berechnung!$B$8,TRUE),0))","v":1},{"$f":"IF(AND($A107=0,Berechnung!$B$9=0),1,IF(Berechnung!$B$9<>0,_xlfn.NORM.DIST($A107,0,Berechnung!$B$9,FALSE),0))","v":2.0955150514616937E-16},{"$f":"IF(AND($A107>=0,Berechnung!$B$9=0),1,IF(Berechnung!$B$9<>0,_xlfn.NORM.DIST($A107,0,Berechnung!$B$9,TRUE),0))","v":0.99999999999999978},{"$f":"IF(AND($A107=0,Berechnung!$B$10=0),1,IF(Berechnung!$B$10<>0,_xlfn.NORM.DIST($A107,0,Berechnung!$B$10,FALSE),0))","v":7.6295029045412027E-14},{"$f":"IF(AND($A107>=0,Berechnung!$B$10=0),1,IF(Berechnung!$B$10<>0,_xlfn.NORM.DIST($A107,0,Berechnung!$B$10,TRUE),0))","v":0.99999999999988276},{"$f":"IF(AND($A107=0,Berechnung!$B$11=0),1,IF(Berechnung!$B$11<>0,_xlfn.NORM.DIST($A107,0,Berechnung!$B$11,FALSE),0))","v":0},{"$f":"IF(AND($A107>=0,Berechnung!$B$11=0),1,IF(Berechnung!$B$11<>0,_xlfn.NORM.DIST($A107,0,Berechnung!$B$11,TRUE),0))","v":1},{"$f":"Demonstrator!$J$19*'Daten Diagramm'!H107+Demonstrator!$J$24*'Daten Diagramm'!L107","v":3.5235852699769986E-10},{"$f":"Demonstrator!$J$19*'Daten Diagramm'!I107+Demonstrator!$J$24*'Daten Diagramm'!M107","v":0.99999999913103765}]
[85,{"$f":"IF(AND(A108=0,Berechnung!$B$3=0),1,IF(Berechnung!$B$3<>0,_xlfn.NORM.DIST(A108,0,Berechnung!$B$3,FALSE),0))","v":1.8952645068316326E-21},{"$f":"IF(AND($A108>=0,Berechnung!$B$3=0),1,IF(Berechnung!$B$3<>0,_xlfn.NORM.DIST($A108,0,Berechnung!$B$3,TRUE),0))","v":1},{"$f":"IF(AND($A108=0,Berechnung!$B$4=0),1,IF(Berechnung!$B$4<>0,_xlfn.NORM.DIST($A108,0,Berechnung!$B$4,FALSE),0))","v":1.8952645068316326E-21},{"$f":"IF(AND($A108>=0,Berechnung!$B$4=0),1,IF(Berechnung!$B$4<>0,_xlfn.NORM.DIST($A108,0,Berechnung!$B$4,TRUE),0))","v":1},{"$f":"IF(AND($A108=0,Berechnung!$B$5=0),1,IF(Berechnung!$B$5<>0,_xlfn.NORM.DIST($A108,0,Berechnung!$B$5,FALSE),0))","v":1.1777281948382789E-9},{"$f":"IF(AND($A108>=0,Berechnung!$B$5=0),1,IF(Berechnung!$B$5<>0,_xlfn.NORM.DIST($A108,0,Berechnung!$B$5,TRUE),0))","v":0.99999999712900989},{"$f":"IF(AND($A108=0,Berechnung!$B$6=0),1,IF(Berechnung!$B$6<>0,_xlfn.NORM.DIST($A108,0,Berechnung!$B$6,FALSE),0))","v":1.1850289003089973E-9},{"$f":"IF(AND($A108>=0,Berechnung!$B$6=0),1,IF(Berechnung!$B$6<>0,_xlfn.NORM.DIST($A108,0,Berechnung!$B$6,TRUE),0))","v":0.99999999711015586},{"$f":"IF(AND($A108=0,Berechnung!$B$7=0),1,IF(Berechnung!$B$7<>0,_xlfn.NORM.DIST($A108,0,Berechnung!$B$7,FALSE),0))","v":1.8952645068316326E-21},{"$f":"IF(AND($A108>=0,Berechnung!$B$7=0),1,IF(Berechnung!$B$7<>0,_xlfn.NORM.DIST($A108,0,Berechnung!$B$7,TRUE),0))","v":1},{"$f":"IF(AND($A108=0,Berechnung!$B$8=0),1,IF(Berechnung!$B$8<>0,_xlfn.NORM.DIST($A108,0,Berechnung!$B$8,FALSE),0))","v":1.8952645068316326E-21},{"$f":"IF(AND($A108>=0,Berechnung!$B$8=0),1,IF(Berechnung!$B$8<>0,_xlfn.NORM.DIST($A108,0,Berechnung!$B$8,TRUE),0))","v":1},{"$f":"IF(AND($A108=0,Berechnung!$B$9=0),1,IF(Berechnung!$B$9<>0,_xlfn.NORM.DIST($A108,0,Berechnung!$B$9,FALSE),0))","v":9.5421922921023007E-17},{"$f":"IF(AND($A108>=0,Berechnung!$B$9=0),1,IF(Berechnung!$B$9<>0,_xlfn.NORM.DIST($A108,0,Berechnung!$B$9,TRUE),0))","v":0.99999999999999989},{"$f":"IF(AND($A108=0,Berechnung!$B$10=0),1,IF(Berechnung!$B$10<>0,_xlfn.NORM.DIST($A108,0,Berechnung!$B$10,FALSE),0))","v":4.0109431230559292E-14},{"$f":"IF(AND($A108>=0,Berechnung!$B$10=0),1,IF(Berechnung!$B$10<>0,_xlfn.NORM.DIST($A108,0,Berechnung!$B$10,TRUE),0))","v":0.99999999999993905},{"$f":"IF(AND($A108=0,Berechnung!$B$11=0),1,IF(Berechnung!$B$11<>0,_xlfn.NORM.DIST($A108,0,Berechnung!$B$11,FALSE),0))","v":0},{"$f":"IF(AND($A108>=0,Berechnung!$B$11=0),1,IF(Berechnung!$B$11<>0,_xlfn.NORM.DIST($A108,0,Berechnung!$B$11,TRUE),0))","v":1},{"$f":"Demonstrator!$J$19*'Daten Diagramm'!H108+Demonstrator!$J$24*'Daten Diagramm'!L108","v":2.3700578006331562E-10},{"$f":"Demonstrator!$J$19*'Daten Diagramm'!I108+Demonstrator!$J$24*'Daten Diagramm'!M108","v":0.99999999942203122}]
[86,{"$f":"IF(AND(A109=0,Berechnung!$B$3=0),1,IF(Berechnung!$B$3<>0,_xlfn.NORM.DIST(A109,0,Berechnung!$B$3,FALSE),0))","v":6.5955023042501847E-22},{"$f":"IF(AND($A109>=0,Berechnung!$B$3=0),1,IF(Berechnung!$B$3<>0,_xlfn.NORM.DIST($A109,0,Berechnung!$B$3,TRUE),0))","v":1},{"$f":"IF(AND($A109=0,Berechnung!$B$4=0),1,IF(Berechnung!$B$4<>0,_xlfn.NORM.DIST($A109,0,Berechnung!$B$4,FALSE),0))","v":6.5955023042501847E-22},{"$f":"IF(AND($A109>=0,Berechnung!$B$4=0),1,IF(Berechnung!$B$4<>0,_xlfn.NORM.DIST($A109,0,Berechnung!$B$4,TRUE),0))","v":1},{"$f":"IF(AND($A109=0,Berechnung!$B$5=0),1,IF(Berechnung!$B$5<>0,_xlfn.NORM.DIST($A109,0,Berechnung!$B$5,FALSE),0))","v":7.883436922538525E-10},{"$f":"IF(AND($A109>=0,Berechnung!$B$5=0),1,IF(Berechnung!$B$5<>0,_xlfn.NORM.DIST($A109,0,Berechnung!$B$5,TRUE),0))","v":0.99999999809943407},{"$f":"IF(AND($A109=0,Berechnung!$B$6=0),1,IF(Berechnung!$B$6<>0,_xlfn.NORM.DIST($A109,0,Berechnung!$B$6,FALSE),0))","v":7.9335016816456169E-10},{"$f":"IF(AND($A109>=0,Berechnung!$B$6=0),1,IF(Berechnung!$B$6<>0,_xlfn.NORM.DIST($A109,0,Berechnung!$B$6,TRUE),0))","v":0.99999999808666418},{"$f":"IF(AND($A109=0,Berechnung!$B$7=0),1,IF(Berechnung!$B$7<>0,_xlfn.NORM.DIST($A109,0,Berechnung!$B$7,FALSE),0))","v":6.5955023042501847E-22},{"$f":"IF(AND($A109>=0,Berechnung!$B$7=0),1,IF(Berechnung!$B$7<>0,_xlfn.NORM.DIST($A109,0,Berechnung!$B$7,TRUE),0))","v":1},{"$f":"IF(AND($A109=0,Berechnung!$B$8=0),1,IF(Berechnung!$B$8<>0,_xlfn.NORM.DIST($A109,0,Berechnung!$B$8,FALSE),0))","v":6.5955023042501847E-22},{"$f":"IF(AND($A109>=0,Berechnung!$B$8=0),1,IF(Berechnung!$B$8<>0,_xlfn.NORM.DIST($A109,0,Berechnung!$B$8,TRUE),0))","v":1},{"$f":"IF(AND($A109=0,Berechnung!$B$9=0),1,IF(Berechnung!$B$9<>0,_xlfn.NORM.DIST($A109,0,Berechnung!$B$9,FALSE),0))","v":4.3048937371091905E-17},{"$f":"IF(AND($A109>=0,Berechnung!$B$9=0),1,IF(Berechnung!$B$9<>0,_xlfn.NORM.DIST($A109,0,Berechnung!$B$9,TRUE),0))","v":1},{"$f":"IF(AND($A109=0,Berechnung!$B$10=0),1,IF(Berechnung!$B$10<>0,_xlfn.NORM.DIST($A109,0,Berechnung!$B$10,FALSE),0))","v":2.0926280083217915E-14},{"$f":"IF(AND($A109>=0,Berechnung!$B$10=0),1,IF(Berechnung!$B$10<>0,_xlfn.NORM.DIST($A109,0,Berechnung!$B$10,TRUE),0))","v":0.99999999999996858},{"$f":"IF(AND($A109=0,Berechnung!$B$11=0),1,IF(Berechnung!$B$11<>0,_xlfn.NORM.DIST($A109,0,Berechnung!$B$11,FALSE),0))","v":0},{"$f":"IF(AND($A109>=0,Berechnung!$B$11=0),1,IF(Berechnung!$B$11<>0,_xlfn.NORM.DIST($A109,0,Berechnung!$B$11,TRUE),0))","v":1},{"$f":"Demonstrator!$J$19*'Daten Diagramm'!H109+Demonstrator!$J$24*'Daten Diagramm'!L109","v":1.5867003363343994E-10},{"$f":"Demonstrator!$J$19*'Daten Diagramm'!I109+Demonstrator!$J$24*'Daten Diagramm'!M109","v":0.99999999961733277}]
[87,{"$f":"IF(AND(A110=0,Berechnung!$B$3=0),1,IF(Berechnung!$B$3<>0,_xlfn.NORM.DIST(A110,0,Berechnung!$B$3,FALSE),0))","v":2.2670665183388806E-22},{"$f":"IF(AND($A110>=0,Berechnung!$B$3=0),1,IF(Berechnung!$B$3<>0,_xlfn.NORM.DIST($A110,0,Berechnung!$B$3,TRUE),0))","v":1},{"$f":"IF(AND($A110=0,Berechnung!$B$4=0),1,IF(Berechnung!$B$4<>0,_xlfn.NORM.DIST($A110,0,Berechnung!$B$4,FALSE),0))","v":2.2670665183388806E-22},{"$f":"IF(AND($A110>=0,Berechnung!$B$4=0),1,IF(Berechnung!$B$4<>0,_xlfn.NORM.DIST($A110,0,Berechnung!$B$4,TRUE),0))","v":1},{"$f":"IF(AND($A110=0,Berechnung!$B$5=0),1,IF(Berechnung!$B$5<>0,_xlfn.NORM.DIST($A110,0,Berechnung!$B$5,FALSE),0))","v":5.252271659570781E-10},{"$f":"IF(AND($A110>=0,Berechnung!$B$5=0),1,IF(Berechnung!$B$5<>0,_xlfn.NORM.DIST($A110,0,Berechnung!$B$5,TRUE),0))","v":0.99999999874759238},{"$f":"IF(AND($A110=0,Berechnung!$B$6=0),1,IF(Berechnung!$B$6<>0,_xlfn.NORM.DIST($A110,0,Berechnung!$B$6,FALSE),0))","v":5.2864328321375889E-10},{"$f":"IF(AND($A110>=0,Berechnung!$B$6=0),1,IF(Berechnung!$B$6<>0,_xlfn.NORM.DIST($A110,0,Berechnung!$B$6,TRUE),0))","v":0.99999999873898493},{"$f":"IF(AND($A110=0,Berechnung!$B$7=0),1,IF(Berechnung!$B$7<>0,_xlfn.NORM.DIST($A110,0,Berechnung!$B$7,FALSE),0))","v":2.2670665183388806E-22},{"$f":"IF(AND($A110>=0,Berechnung!$B$7=0),1,IF(Berechnung!$B$7<>0,_xlfn.NORM.DIST($A110,0,Berechnung!$B$7,TRUE),0))","v":1},{"$f":"IF(AND($A110=0,Berechnung!$B$8=0),1,IF(Berechnung!$B$8<>0,_xlfn.NORM.DIST($A110,0,Berechnung!$B$8,FALSE),0))","v":2.2670665183388806E-22},{"$f":"IF(AND($A110>=0,Berechnung!$B$8=0),1,IF(Berechnung!$B$8<>0,_xlfn.NORM.DIST($A110,0,Berechnung!$B$8,TRUE),0))","v":1},{"$f":"IF(AND($A110=0,Berechnung!$B$9=0),1,IF(Berechnung!$B$9<>0,_xlfn.NORM.DIST($A110,0,Berechnung!$B$9,FALSE),0))","v":1.9241264043709068E-17},{"$f":"IF(AND($A110>=0,Berechnung!$B$9=0),1,IF(Berechnung!$B$9<>0,_xlfn.NORM.DIST($A110,0,Berechnung!$B$9,TRUE),0))","v":1},{"$f":"IF(AND($A110=0,Berechnung!$B$10=0),1,IF(Berechnung!$B$10<>0,_xlfn.NORM.DIST($A110,0,Berechnung!$B$10,FALSE),0))","v":1.0835097739940566E-14},{"$f":"IF(AND($A110>=0,Berechnung!$B$10=0),1,IF(Berechnung!$B$10<>0,_xlfn.NORM.DIST($A110,0,Berechnung!$B$10,TRUE),0))","v":0.9999999999999839},{"$f":"IF(AND($A110=0,Berechnung!$B$11=0),1,IF(Berechnung!$B$11<>0,_xlfn.NORM.DIST($A110,0,Berechnung!$B$11,FALSE),0))","v":0},{"$f":"IF(AND($A110>=0,Berechnung!$B$11=0),1,IF(Berechnung!$B$11<>0,_xlfn.NORM.DIST($A110,0,Berechnung!$B$11,TRUE),0))","v":1},{"$f":"Demonstrator!$J$19*'Daten Diagramm'!H110+Demonstrator!$J$24*'Daten Diagramm'!L110","v":1.0572865664293312E-10},{"$f":"Demonstrator!$J$19*'Daten Diagramm'!I110+Demonstrator!$J$24*'Daten Diagramm'!M110","v":0.99999999974779696}]
[88,{"$f":"IF(AND(A111=0,Berechnung!$B$3=0),1,IF(Berechnung!$B$3<>0,_xlfn.NORM.DIST(A111,0,Berechnung!$B$3,FALSE),0))","v":7.6969557421271128E-23},{"$f":"IF(AND($A111>=0,Berechnung!$B$3=0),1,IF(Berechnung!$B$3<>0,_xlfn.NORM.DIST($A111,0,Berechnung!$B$3,TRUE),0))","v":1},{"$f":"IF(AND($A111=0,Berechnung!$B$4=0),1,IF(Berechnung!$B$4<>0,_xlfn.NORM.DIST($A111,0,Berechnung!$B$4,FALSE),0))","v":7.6969557421271128E-23},{"$f":"IF(AND($A111>=0,Berechnung!$B$4=0),1,IF(Berechnung!$B$4<>0,_xlfn.NORM.DIST($A111,0,Berechnung!$B$4,TRUE),0))","v":1},{"$f":"IF(AND($A111=0,Berechnung!$B$5=0),1,IF(Berechnung!$B$5<>0,_xlfn.NORM.DIST($A111,0,Berechnung!$B$5,FALSE),0))","v":3.4828905192883051E-10},{"$f":"IF(AND($A111>=0,Berechnung!$B$5=0),1,IF(Berechnung!$B$5<>0,_xlfn.NORM.DIST($A111,0,Berechnung!$B$5,TRUE),0))","v":0.99999999917847837},{"$f":"IF(AND($A111=0,Berechnung!$B$6=0),1,IF(Berechnung!$B$6<>0,_xlfn.NORM.DIST($A111,0,Berechnung!$B$6,FALSE),0))","v":3.5060842131925323E-10},{"$f":"IF(AND($A111>=0,Berechnung!$B$6=0),1,IF(Berechnung!$B$6<>0,_xlfn.NORM.DIST($A111,0,Berechnung!$B$6,TRUE),0))","v":0.99999999917270455},{"$f":"IF(AND($A111=0,Berechnung!$B$7=0),1,IF(Berechnung!$B$7<>0,_xlfn.NORM.DIST($A111,0,Berechnung!$B$7,FALSE),0))","v":7.6969557421271128E-23},{"$f":"IF(AND($A111>=0,Berechnung!$B$7=0),1,IF(Berechnung!$B$7<>0,_xlfn.NORM.DIST($A111,0,Berechnung!$B$7,TRUE),0))","v":1},{"$f":"IF(AND($A111=0,Berechnung!$B$8=0),1,IF(Berechnung!$B$8<>0,_xlfn.NORM.DIST($A111,0,Berechnung!$B$8,FALSE),0))","v":7.6969557421271128E-23},{"$f":"IF(AND($A111>=0,Berechnung!$B$8=0),1,IF(Berechnung!$B$8<>0,_xlfn.NORM.DIST($A111,0,Berechnung!$B$8,TRUE),0))","v":1},{"$f":"IF(AND($A111=0,Berechnung!$B$9=0),1,IF(Berechnung!$B$9<>0,_xlfn.NORM.DIST($A111,0,Berechnung!$B$9,FALSE),0))","v":8.5204327908873374E-18},{"$f":"IF(AND($A111>=0,Berechnung!$B$9=0),1,IF(Berechnung!$B$9<>0,_xlfn.NORM.DIST($A111,0,Berechnung!$B$9,TRUE),0))","v":1},{"$f":"IF(AND($A111=0,Berechnung!$B$10=0),1,IF(Berechnung!$B$10<>0,_xlfn.NORM.DIST($A111,0,Berechnung!$B$10,FALSE),0))","v":5.5676112310048206E-15},{"$f":"IF(AND($A111>=0,Berechnung!$B$10=0),1,IF(Berechnung!$B$10<>0,_xlfn.NORM.DIST($A111,0,Berechnung!$B$10,TRUE),0))","v":0.99999999999999178},{"$f":"IF(AND($A111=0,Berechnung!$B$11=0),1,IF(Berechnung!$B$11<>0,_xlfn.NORM.DIST($A111,0,Berechnung!$B$11,FALSE),0))","v":0},{"$f":"IF(AND($A111>=0,Berechnung!$B$11=0),1,IF(Berechnung!$B$11<>0,_xlfn.NORM.DIST($A111,0,Berechnung!$B$11,TRUE),0))","v":1},{"$f":"Demonstrator!$J$19*'Daten Diagramm'!H111+Demonstrator!$J$24*'Daten Diagramm'!L111","v":7.0121684263912209E-11},{"$f":"Demonstrator!$J$19*'Daten Diagramm'!I111+Demonstrator!$J$24*'Daten Diagramm'!M111","v":0.99999999983454091}]
[89,{"$f":"IF(AND(A112=0,Berechnung!$B$3=0),1,IF(Berechnung!$B$3<>0,_xlfn.NORM.DIST(A112,0,Berechnung!$B$3,FALSE),0))","v":2.5811429376488354E-23},{"$f":"IF(AND($A112>=0,Berechnung!$B$3=0),1,IF(Berechnung!$B$3<>0,_xlfn.NORM.DIST($A112,0,Berechnung!$B$3,TRUE),0))","v":1},{"$f":"IF(AND($A112=0,Berechnung!$B$4=0),1,IF(Berechnung!$B$4<>0,_xlfn.NORM.DIST($A112,0,Berechnung!$B$4,FALSE),0))","v":2.5811429376488354E-23},{"$f":"IF(AND($A112>=0,Berechnung!$B$4=0),1,IF(Berechnung!$B$4<>0,_xlfn.NORM.DIST($A112,0,Berechnung!$B$4,TRUE),0))","v":1},{"$f":"IF(AND($A112=0,Berechnung!$B$5=0),1,IF(Berechnung!$B$5<>0,_xlfn.NORM.DIST($A112,0,Berechnung!$B$5,FALSE),0))","v":2.2987594325483943E-10},{"$f":"IF(AND($A112>=0,Berechnung!$B$5=0),1,IF(Berechnung!$B$5<>0,_xlfn.NORM.DIST($A112,0,Berechnung!$B$5,TRUE),0))","v":0.99999999946358387},{"$f":"IF(AND($A112=0,Berechnung!$B$6=0),1,IF(Berechnung!$B$6<>0,_xlfn.NORM.DIST($A112,0,Berechnung!$B$6,FALSE),0))","v":2.3144286261183576E-10},{"$f":"IF(AND($A112>=0,Berechnung!$B$6=0),1,IF(Berechnung!$B$6<>0,_xlfn.NORM.DIST($A112,0,Berechnung!$B$6,TRUE),0))","v":0.9999999994597295},{"$f":"IF(AND($A112=0,Berechnung!$B$7=0),1,IF(Berechnung!$B$7<>0,_xlfn.NORM.DIST($A112,0,Berechnung!$B$7,FALSE),0))","v":2.5811429376488354E-23},{"$f":"IF(AND($A112>=0,Berechnung!$B$7=0),1,IF(Berechnung!$B$7<>0,_xlfn.NORM.DIST($A112,0,Berechnung!$B$7,TRUE),0))","v":1},{"$f":"IF(AND($A112=0,Berechnung!$B$8=0),1,IF(Berechnung!$B$8<>0,_xlfn.NORM.DIST($A112,0,Berechnung!$B$8,FALSE),0))","v":2.5811429376488354E-23},{"$f":"IF(AND($A112>=0,Berechnung!$B$8=0),1,IF(Berechnung!$B$8<>0,_xlfn.NORM.DIST($A112,0,Berechnung!$B$8,TRUE),0))","v":1},{"$f":"IF(AND($A112=0,Berechnung!$B$9=0),1,IF(Berechnung!$B$9<>0,_xlfn.NORM.DIST($A112,0,Berechnung!$B$9,FALSE),0))","v":3.7380628822760705E-18},{"$f":"IF(AND($A112>=0,Berechnung!$B$9=0),1,IF(Berechnung!$B$9<>0,_xlfn.NORM.DIST($A112,0,Berechnung!$B$9,TRUE),0))","v":1},{"$f":"IF(AND($A112=0,Berechnung!$B$10=0),1,IF(Berechnung!$B$10<>0,_xlfn.NORM.DIST($A112,0,Berechnung!$B$10,FALSE),0))","v":2.8392278117607409E-15},{"$f":"IF(AND($A112>=0,Berechnung!$B$10=0),1,IF(Berechnung!$B$10<>0,_xlfn.NORM.DIST($A112,0,Berechnung!$B$10,TRUE),0))","v":0.99999999999999589},{"$f":"IF(AND($A112=0,Berechnung!$B$11=0),1,IF(Berechnung!$B$11<>0,_xlfn.NORM.DIST($A112,0,Berechnung!$B$11,FALSE),0))","v":0},{"$f":"IF(AND($A112>=0,Berechnung!$B$11=0),1,IF(Berechnung!$B$11<>0,_xlfn.NORM.DIST($A112,0,Berechnung!$B$11,TRUE),0))","v":1},{"$f":"Demonstrator!$J$19*'Daten Diagramm'!H112+Demonstrator!$J$24*'Daten Diagramm'!L112","v":4.6288572522387788E-11},{"$f":"Demonstrator!$J$19*'Daten Diagramm'!I112+Demonstrator!$J$24*'Daten Diagramm'!M112","v":0.99999999989194588}]
[90,{"$f":"IF(AND(A113=0,Berechnung!$B$3=0),1,IF(Berechnung!$B$3<>0,_xlfn.NORM.DIST(A113,0,Berechnung!$B$3,FALSE),0))","v":8.5495540296737999E-24},{"$f":"IF(AND($A113>=0,Berechnung!$B$3=0),1,IF(Berechnung!$B$3<>0,_xlfn.NORM.DIST($A113,0,Berechnung!$B$3,TRUE),0))","v":1},{"$f":"IF(AND($A113=0,Berechnung!$B$4=0),1,IF(Berechnung!$B$4<>0,_xlfn.NORM.DIST($A113,0,Berechnung!$B$4,FALSE),0))","v":8.5495540296737999E-24},{"$f":"IF(AND($A113>=0,Berechnung!$B$4=0),1,IF(Berechnung!$B$4<>0,_xlfn.NORM.DIST($A113,0,Berechnung!$B$4,TRUE),0))","v":1},{"$f":"IF(AND($A113=0,Berechnung!$B$5=0),1,IF(Berechnung!$B$5<>0,_xlfn.NORM.DIST($A113,0,Berechnung!$B$5,FALSE),0))","v":1.5101089595090888E-10},{"$f":"IF(AND($A113>=0,Berechnung!$B$5=0),1,IF(Berechnung!$B$5<>0,_xlfn.NORM.DIST($A113,0,Berechnung!$B$5,TRUE),0))","v":0.99999999965134712},{"$f":"IF(AND($A113=0,Berechnung!$B$6=0),1,IF(Berechnung!$B$6<>0,_xlfn.NORM.DIST($A113,0,Berechnung!$B$6,FALSE),0))","v":1.5206422942879554E-10},{"$f":"IF(AND($A113>=0,Berechnung!$B$6=0),1,IF(Berechnung!$B$6<>0,_xlfn.NORM.DIST($A113,0,Berechnung!$B$6,TRUE),0))","v":0.99999999964878639},{"$f":"IF(AND($A113=0,Berechnung!$B$7=0),1,IF(Berechnung!$B$7<>0,_xlfn.NORM.DIST($A113,0,Berechnung!$B$7,FALSE),0))","v":8.5495540296737999E-24},{"$f":"IF(AND($A113>=0,Berechnung!$B$7=0),1,IF(Berechnung!$B$7<>0,_xlfn.NORM.DIST($A113,0,Berechnung!$B$7,TRUE),0))","v":1},{"$f":"IF(AND($A113=0,Berechnung!$B$8=0),1,IF(Berechnung!$B$8<>0,_xlfn.NORM.DIST($A113,0,Berechnung!$B$8,FALSE),0))","v":8.5495540296737999E-24},{"$f":"IF(AND($A113>=0,Berechnung!$B$8=0),1,IF(Berechnung!$B$8<>0,_xlfn.NORM.DIST($A113,0,Berechnung!$B$8,TRUE),0))","v":1},{"$f":"IF(AND($A113=0,Berechnung!$B$9=0),1,IF(Berechnung!$B$9<>0,_xlfn.NORM.DIST($A113,0,Berechnung!$B$9,FALSE),0))","v":1.6247570972578435E-18},{"$f":"IF(AND($A113>=0,Berechnung!$B$9=0),1,IF(Berechnung!$B$9<>0,_xlfn.NORM.DIST($A113,0,Berechnung!$B$9,TRUE),0))","v":1},{"$f":"IF(AND($A113=0,Berechnung!$B$10=0),1,IF(Berechnung!$B$10<>0,_xlfn.NORM.DIST($A113,0,Berechnung!$B$10,FALSE),0))","v":1.4369010037185114E-15},{"$f":"IF(AND($A113>=0,Berechnung!$B$10=0),1,IF(Berechnung!$B$10<>0,_xlfn.NORM.DIST($A113,0,Berechnung!$B$10,TRUE),0))","v":0.99999999999999789},{"$f":"IF(AND($A113=0,Berechnung!$B$11=0),1,IF(Berechnung!$B$11<>0,_xlfn.NORM.DIST($A113,0,Berechnung!$B$11,FALSE),0))","v":0},{"$f":"IF(AND($A113>=0,Berechnung!$B$11=0),1,IF(Berechnung!$B$11<>0,_xlfn.NORM.DIST($A113,0,Berechnung!$B$11,TRUE),0))","v":1},{"$f":"Demonstrator!$J$19*'Daten Diagramm'!H113+Demonstrator!$J$24*'Daten Diagramm'!L113","v":3.041284588576594E-11},{"$f":"Demonstrator!$J$19*'Daten Diagramm'!I113+Demonstrator!$J$24*'Daten Diagramm'!M113","v":0.9999999999297573}]
[91,{"$f":"IF(AND(A114=0,Berechnung!$B$3=0),1,IF(Berechnung!$B$3<>0,_xlfn.NORM.DIST(A114,0,Berechnung!$B$3,FALSE),0))","v":2.7971335780616365E-24},{"$f":"IF(AND($A114>=0,Berechnung!$B$3=0),1,IF(Berechnung!$B$3<>0,_xlfn.NORM.DIST($A114,0,Berechnung!$B$3,TRUE),0))","v":1},{"$f":"IF(AND($A114=0,Berechnung!$B$4=0),1,IF(Berechnung!$B$4<>0,_xlfn.NORM.DIST($A114,0,Berechnung!$B$4,FALSE),0))","v":2.7971335780616365E-24},{"$f":"IF(AND($A114>=0,Berechnung!$B$4=0),1,IF(Berechnung!$B$4<>0,_xlfn.NORM.DIST($A114,0,Berechnung!$B$4,TRUE),0))","v":1},{"$f":"IF(AND($A114=0,Berechnung!$B$5=0),1,IF(Berechnung!$B$5<>0,_xlfn.NORM.DIST($A114,0,Berechnung!$B$5,FALSE),0))","v":9.8737949279197779E-11},{"$f":"IF(AND($A114>=0,Berechnung!$B$5=0),1,IF(Berechnung!$B$5<>0,_xlfn.NORM.DIST($A114,0,Berechnung!$B$5,TRUE),0))","v":0.99999999977442422},{"$f":"IF(AND($A114=0,Berechnung!$B$6=0),1,IF(Berechnung!$B$6<>0,_xlfn.NORM.DIST($A114,0,Berechnung!$B$6,FALSE),0))","v":9.9442529560004855E-11},{"$f":"IF(AND($A114>=0,Berechnung!$B$6=0),1,IF(Berechnung!$B$6<>0,_xlfn.NORM.DIST($A114,0,Berechnung!$B$6,TRUE),0))","v":0.99999999977273124},{"$f":"IF(AND($A114=0,Berechnung!$B$7=0),1,IF(Berechnung!$B$7<>0,_xlfn.NORM.DIST($A114,0,Berechnung!$B$7,FALSE),0))","v":2.7971335780616365E-24},{"$f":"IF(AND($A114>=0,Berechnung!$B$7=0),1,IF(Berechnung!$B$7<>0,_xlfn.NORM.DIST($A114,0,Berechnung!$B$7,TRUE),0))","v":1},{"$f":"IF(AND($A114=0,Berechnung!$B$8=0),1,IF(Berechnung!$B$8<>0,_xlfn.NORM.DIST($A114,0,Berechnung!$B$8,FALSE),0))","v":2.7971335780616365E-24},{"$f":"IF(AND($A114>=0,Berechnung!$B$8=0),1,IF(Berechnung!$B$8<>0,_xlfn.NORM.DIST($A114,0,Berechnung!$B$8,TRUE),0))","v":1},{"$f":"IF(AND($A114=0,Berechnung!$B$9=0),1,IF(Berechnung!$B$9<>0,_xlfn.NORM.DIST($A114,0,Berechnung!$B$9,FALSE),0))","v":6.9966020767858683E-19},{"$f":"IF(AND($A114>=0,Berechnung!$B$9=0),1,IF(Berechnung!$B$9<>0,_xlfn.NORM.DIST($A114,0,Berechnung!$B$9,TRUE),0))","v":1},{"$f":"IF(AND($A114=0,Berechnung!$B$10=0),1,IF(Berechnung!$B$10<>0,_xlfn.NORM.DIST($A114,0,Berechnung!$B$10,FALSE),0))","v":7.2168673890269753E-16},{"$f":"IF(AND($A114>=0,Berechnung!$B$10=0),1,IF(Berechnung!$B$10<>0,_xlfn.NORM.DIST($A114,0,Berechnung!$B$10,TRUE),0))","v":0.999999999999999},{"$f":"IF(AND($A114=0,Berechnung!$B$11=0),1,IF(Berechnung!$B$11<>0,_xlfn.NORM.DIST($A114,0,Berechnung!$B$11,FALSE),0))","v":0},{"$f":"IF(AND($A114>=0,Berechnung!$B$11=0),1,IF(Berechnung!$B$11<>0,_xlfn.NORM.DIST($A114,0,Berechnung!$B$11,TRUE),0))","v":1},{"$f":"Demonstrator!$J$19*'Daten Diagramm'!H114+Demonstrator!$J$24*'Daten Diagramm'!L114","v":1.9888505912003207E-11},{"$f":"Demonstrator!$J$19*'Daten Diagramm'!I114+Demonstrator!$J$24*'Daten Diagramm'!M114","v":0.99999999995454625}]
[92,{"$f":"IF(AND(A115=0,Berechnung!$B$3=0),1,IF(Berechnung!$B$3<>0,_xlfn.NORM.DIST(A115,0,Berechnung!$B$3,FALSE),0))","v":9.0390188485679361E-25},{"$f":"IF(AND($A115>=0,Berechnung!$B$3=0),1,IF(Berechnung!$B$3<>0,_xlfn.NORM.DIST($A115,0,Berechnung!$B$3,TRUE),0))","v":1},{"$f":"IF(AND($A115=0,Berechnung!$B$4=0),1,IF(Berechnung!$B$4<>0,_xlfn.NORM.DIST($A115,0,Berechnung!$B$4,FALSE),0))","v":9.0390188485679361E-25},{"$f":"IF(AND($A115>=0,Berechnung!$B$4=0),1,IF(Berechnung!$B$4<>0,_xlfn.NORM.DIST($A115,0,Berechnung!$B$4,TRUE),0))","v":1},{"$f":"IF(AND($A115=0,Berechnung!$B$5=0),1,IF(Berechnung!$B$5<>0,_xlfn.NORM.DIST($A115,0,Berechnung!$B$5,FALSE),0))","v":6.4257079143665847E-11},{"$f":"IF(AND($A115>=0,Berechnung!$B$5=0),1,IF(Berechnung!$B$5<>0,_xlfn.NORM.DIST($A115,0,Berechnung!$B$5,TRUE),0))","v":0.99999999985472254},{"$f":"IF(AND($A115=0,Berechnung!$B$6=0),1,IF(Berechnung!$B$6<>0,_xlfn.NORM.DIST($A115,0,Berechnung!$B$6,FALSE),0))","v":6.4726047102249519E-11},{"$f":"IF(AND($A115>=0,Berechnung!$B$6=0),1,IF(Berechnung!$B$6<>0,_xlfn.NORM.DIST($A115,0,Berechnung!$B$6,TRUE),0))","v":0.99999999985360855},{"$f":"IF(AND($A115=0,Berechnung!$B$7=0),1,IF(Berechnung!$B$7<>0,_xlfn.NORM.DIST($A115,0,Berechnung!$B$7,FALSE),0))","v":9.0390188485679361E-25},{"$f":"IF(AND($A115>=0,Berechnung!$B$7=0),1,IF(Berechnung!$B$7<>0,_xlfn.NORM.DIST($A115,0,Berechnung!$B$7,TRUE),0))","v":1},{"$f":"IF(AND($A115=0,Berechnung!$B$8=0),1,IF(Berechnung!$B$8<>0,_xlfn.NORM.DIST($A115,0,Berechnung!$B$8,FALSE),0))","v":9.0390188485679361E-25},{"$f":"IF(AND($A115>=0,Berechnung!$B$8=0),1,IF(Berechnung!$B$8<>0,_xlfn.NORM.DIST($A115,0,Berechnung!$B$8,TRUE),0))","v":1},{"$f":"IF(AND($A115=0,Berechnung!$B$9=0),1,IF(Berechnung!$B$9<>0,_xlfn.NORM.DIST($A115,0,Berechnung!$B$9,FALSE),0))","v":2.9849894370103897E-19},{"$f":"IF(AND($A115>=0,Berechnung!$B$9=0),1,IF(Berechnung!$B$9<>0,_xlfn.NORM.DIST($A115,0,Berechnung!$B$9,TRUE),0))","v":1},{"$f":"IF(AND($A115=0,Berechnung!$B$10=0),1,IF(Berechnung!$B$10<>0,_xlfn.NORM.DIST($A115,0,Berechnung!$B$10,FALSE),0))","v":3.5972106581075171E-16},{"$f":"IF(AND($A115>=0,Berechnung!$B$10=0),1,IF(Berechnung!$B$10<>0,_xlfn.NORM.DIST($A115,0,Berechnung!$B$10,TRUE),0))","v":0.99999999999999944},{"$f":"IF(AND($A115=0,Berechnung!$B$11=0),1,IF(Berechnung!$B$11<>0,_xlfn.NORM.DIST($A115,0,Berechnung!$B$11,FALSE),0))","v":0},{"$f":"IF(AND($A115>=0,Berechnung!$B$11=0),1,IF(Berechnung!$B$11<>0,_xlfn.NORM.DIST($A115,0,Berechnung!$B$11,TRUE),0))","v":1},{"$f":"Demonstrator!$J$19*'Daten Diagramm'!H115+Demonstrator!$J$24*'Daten Diagramm'!L115","v":1.2945209420450625E-11},{"$f":"Demonstrator!$J$19*'Daten Diagramm'!I115+Demonstrator!$J$24*'Daten Diagramm'!M115","v":0.99999999997072164}]
[93,{"$f":"IF(AND(A116=0,Berechnung!$B$3=0),1,IF(Berechnung!$B$3<>0,_xlfn.NORM.DIST(A116,0,Berechnung!$B$3,FALSE),0))","v":2.8851454811237797E-25},{"$f":"IF(AND($A116>=0,Berechnung!$B$3=0),1,IF(Berechnung!$B$3<>0,_xlfn.NORM.DIST($A116,0,Berechnung!$B$3,TRUE),0))","v":1},{"$f":"IF(AND($A116=0,Berechnung!$B$4=0),1,IF(Berechnung!$B$4<>0,_xlfn.NORM.DIST($A116,0,Berechnung!$B$4,FALSE),0))","v":2.8851454811237797E-25},{"$f":"IF(AND($A116>=0,Berechnung!$B$4=0),1,IF(Berechnung!$B$4<>0,_xlfn.NORM.DIST($A116,0,Berechnung!$B$4,TRUE),0))","v":1},{"$f":"IF(AND($A116=0,Berechnung!$B$5=0),1,IF(Berechnung!$B$5<>0,_xlfn.NORM.DIST($A116,0,Berechnung!$B$5,FALSE),0))","v":4.1621613950643602E-11},{"$f":"IF(AND($A116>=0,Berechnung!$B$5=0),1,IF(Berechnung!$B$5<>0,_xlfn.NORM.DIST($A116,0,Berechnung!$B$5,TRUE),0))","v":0.99999999990686561},{"$f":"IF(AND($A116=0,Berechnung!$B$6=0),1,IF(Berechnung!$B$6<>0,_xlfn.NORM.DIST($A116,0,Berechnung!$B$6,FALSE),0))","v":4.1932217622862198E-11},{"$f":"IF(AND($A116>=0,Berechnung!$B$6=0),1,IF(Berechnung!$B$6<>0,_xlfn.NORM.DIST($A116,0,Berechnung!$B$6,TRUE),0))","v":0.99999999990613608},{"$f":"IF(AND($A116=0,Berechnung!$B$7=0),1,IF(Berechnung!$B$7<>0,_xlfn.NORM.DIST($A116,0,Berechnung!$B$7,FALSE),0))","v":2.8851454811237797E-25},{"$f":"IF(AND($A116>=0,Berechnung!$B$7=0),1,IF(Berechnung!$B$7<>0,_xlfn.NORM.DIST($A116,0,Berechnung!$B$7,TRUE),0))","v":1},{"$f":"IF(AND($A116=0,Berechnung!$B$8=0),1,IF(Berechnung!$B$8<>0,_xlfn.NORM.DIST($A116,0,Berechnung!$B$8,FALSE),0))","v":2.8851454811237797E-25},{"$f":"IF(AND($A116>=0,Berechnung!$B$8=0),1,IF(Berechnung!$B$8<>0,_xlfn.NORM.DIST($A116,0,Berechnung!$B$8,TRUE),0))","v":1},{"$f":"IF(AND($A116=0,Berechnung!$B$9=0),1,IF(Berechnung!$B$9<>0,_xlfn.NORM.DIST($A116,0,Berechnung!$B$9,FALSE),0))","v":1.2616977096197493E-19},{"$f":"IF(AND($A116>=0,Berechnung!$B$9=0),1,IF(Berechnung!$B$9<>0,_xlfn.NORM.DIST($A116,0,Berechnung!$B$9,TRUE),0))","v":1},{"$f":"IF(AND($A116=0,Berechnung!$B$10=0),1,IF(Berechnung!$B$10<>0,_xlfn.NORM.DIST($A116,0,Berechnung!$B$10,FALSE),0))","v":1.7794192611007889E-16},{"$f":"IF(AND($A116>=0,Berechnung!$B$10=0),1,IF(Berechnung!$B$10<>0,_xlfn.NORM.DIST($A116,0,Berechnung!$B$10,TRUE),0))","v":0.99999999999999978},{"$f":"IF(AND($A116=0,Berechnung!$B$11=0),1,IF(Berechnung!$B$11<>0,_xlfn.NORM.DIST($A116,0,Berechnung!$B$11,FALSE),0))","v":0},{"$f":"IF(AND($A116>=0,Berechnung!$B$11=0),1,IF(Berechnung!$B$11<>0,_xlfn.NORM.DIST($A116,0,Berechnung!$B$11,TRUE),0))","v":1},{"$f":"Demonstrator!$J$19*'Daten Diagramm'!H116+Demonstrator!$J$24*'Daten Diagramm'!L116","v":8.3864435245726683E-12},{"$f":"Demonstrator!$J$19*'Daten Diagramm'!I116+Demonstrator!$J$24*'Daten Diagramm'!M116","v":0.99999999998122724}]
[94,{"$f":"IF(AND(A117=0,Berechnung!$B$3=0),1,IF(Berechnung!$B$3<>0,_xlfn.NORM.DIST(A117,0,Berechnung!$B$3,FALSE),0))","v":9.096042517649073E-26},{"$f":"IF(AND($A117>=0,Berechnung!$B$3=0),1,IF(Berechnung!$B$3<>0,_xlfn.NORM.DIST($A117,0,Berechnung!$B$3,TRUE),0))","v":1},{"$f":"IF(AND($A117=0,Berechnung!$B$4=0),1,IF(Berechnung!$B$4<>0,_xlfn.NORM.DIST($A117,0,Berechnung!$B$4,FALSE),0))","v":9.096042517649073E-26},{"$f":"IF(AND($A117>=0,Berechnung!$B$4=0),1,IF(Berechnung!$B$4<>0,_xlfn.NORM.DIST($A117,0,Berechnung!$B$4,TRUE),0))","v":1},{"$f":"IF(AND($A117=0,Berechnung!$B$5=0),1,IF(Berechnung!$B$5<>0,_xlfn.NORM.DIST($A117,0,Berechnung!$B$5,FALSE),0))","v":2.6833536369968948E-11},{"$f":"IF(AND($A117>=0,Berechnung!$B$5=0),1,IF(Berechnung!$B$5<>0,_xlfn.NORM.DIST($A117,0,Berechnung!$B$5,TRUE),0))","v":0.9999999999405671},{"$f":"IF(AND($A117=0,Berechnung!$B$6=0),1,IF(Berechnung!$B$6<>0,_xlfn.NORM.DIST($A117,0,Berechnung!$B$6,FALSE),0))","v":2.703823892963862E-11},{"$f":"IF(AND($A117>=0,Berechnung!$B$6=0),1,IF(Berechnung!$B$6<>0,_xlfn.NORM.DIST($A117,0,Berechnung!$B$6,TRUE),0))","v":0.9999999999400917},{"$f":"IF(AND($A117=0,Berechnung!$B$7=0),1,IF(Berechnung!$B$7<>0,_xlfn.NORM.DIST($A117,0,Berechnung!$B$7,FALSE),0))","v":9.096042517649073E-26},{"$f":"IF(AND($A117>=0,Berechnung!$B$7=0),1,IF(Berechnung!$B$7<>0,_xlfn.NORM.DIST($A117,0,Berechnung!$B$7,TRUE),0))","v":1},{"$f":"IF(AND($A117=0,Berechnung!$B$8=0),1,IF(Berechnung!$B$8<>0,_xlfn.NORM.DIST($A117,0,Berechnung!$B$8,FALSE),0))","v":9.096042517649073E-26},{"$f":"IF(AND($A117>=0,Berechnung!$B$8=0),1,IF(Berechnung!$B$8<>0,_xlfn.NORM.DIST($A117,0,Berechnung!$B$8,TRUE),0))","v":1},{"$f":"IF(AND($A117=0,Berechnung!$B$9=0),1,IF(Berechnung!$B$9<>0,_xlfn.NORM.DIST($A117,0,Berechnung!$B$9,FALSE),0))","v":5.2835366314845882E-20},{"$f":"IF(AND($A117>=0,Berechnung!$B$9=0),1,IF(Berechnung!$B$9<>0,_xlfn.NORM.DIST($A117,0,Berechnung!$B$9,TRUE),0))","v":1},{"$f":"IF(AND($A117=0,Berechnung!$B$10=0),1,IF(Berechnung!$B$10<>0,_xlfn.NORM.DIST($A117,0,Berechnung!$B$10,FALSE),0))","v":8.735463879930766E-17},{"$f":"IF(AND($A117>=0,Berechnung!$B$10=0),1,IF(Berechnung!$B$10<>0,_xlfn.NORM.DIST($A117,0,Berechnung!$B$10,TRUE),0))","v":0.99999999999999989},{"$f":"IF(AND($A117=0,Berechnung!$B$11=0),1,IF(Berechnung!$B$11<>0,_xlfn.NORM.DIST($A117,0,Berechnung!$B$11,FALSE),0))","v":0},{"$f":"IF(AND($A117>=0,Berechnung!$B$11=0),1,IF(Berechnung!$B$11<>0,_xlfn.NORM.DIST($A117,0,Berechnung!$B$11,TRUE),0))","v":1},{"$f":"Demonstrator!$J$19*'Daten Diagramm'!H117+Demonstrator!$J$24*'Daten Diagramm'!L117","v":5.4076477859277956E-12},{"$f":"Demonstrator!$J$19*'Daten Diagramm'!I117+Demonstrator!$J$24*'Daten Diagramm'!M117","v":0.99999999998801836}]
[95,{"$f":"IF(AND(A118=0,Berechnung!$B$3=0),1,IF(Berechnung!$B$3<>0,_xlfn.NORM.DIST(A118,0,Berechnung!$B$3,FALSE),0))","v":2.832536964860182E-26},{"$f":"IF(AND($A118>=0,Berechnung!$B$3=0),1,IF(Berechnung!$B$3<>0,_xlfn.NORM.DIST($A118,0,Berechnung!$B$3,TRUE),0))","v":1},{"$f":"IF(AND($A118=0,Berechnung!$B$4=0),1,IF(Berechnung!$B$4<>0,_xlfn.NORM.DIST($A118,0,Berechnung!$B$4,FALSE),0))","v":2.832536964860182E-26},{"$f":"IF(AND($A118>=0,Berechnung!$B$4=0),1,IF(Berechnung!$B$4<>0,_xlfn.NORM.DIST($A118,0,Berechnung!$B$4,TRUE),0))","v":1},{"$f":"IF(AND($A118=0,Berechnung!$B$5=0),1,IF(Berechnung!$B$5<>0,_xlfn.NORM.DIST($A118,0,Berechnung!$B$5,FALSE),0))","v":1.7218605089784496E-11},{"$f":"IF(AND($A118>=0,Berechnung!$B$5=0),1,IF(Berechnung!$B$5<>0,_xlfn.NORM.DIST($A118,0,Berechnung!$B$5,TRUE),0))","v":0.99999999996224731},{"$f":"IF(AND($A118=0,Berechnung!$B$6=0),1,IF(Berechnung!$B$6<>0,_xlfn.NORM.DIST($A118,0,Berechnung!$B$6,FALSE),0))","v":1.7352849338702027E-11},{"$f":"IF(AND($A118>=0,Berechnung!$B$6=0),1,IF(Berechnung!$B$6<>0,_xlfn.NORM.DIST($A118,0,Berechnung!$B$6,TRUE),0))","v":0.999999999961939},{"$f":"IF(AND($A118=0,Berechnung!$B$7=0),1,IF(Berechnung!$B$7<>0,_xlfn.NORM.DIST($A118,0,Berechnung!$B$7,FALSE),0))","v":2.832536964860182E-26},{"$f":"IF(AND($A118>=0,Berechnung!$B$7=0),1,IF(Berechnung!$B$7<>0,_xlfn.NORM.DIST($A118,0,Berechnung!$B$7,TRUE),0))","v":1},{"$f":"IF(AND($A118=0,Berechnung!$B$8=0),1,IF(Berechnung!$B$8<>0,_xlfn.NORM.DIST($A118,0,Berechnung!$B$8,FALSE),0))","v":2.832536964860182E-26},{"$f":"IF(AND($A118>=0,Berechnung!$B$8=0),1,IF(Berechnung!$B$8<>0,_xlfn.NORM.DIST($A118,0,Berechnung!$B$8,TRUE),0))","v":1},{"$f":"IF(AND($A118=0,Berechnung!$B$9=0),1,IF(Berechnung!$B$9<>0,_xlfn.NORM.DIST($A118,0,Berechnung!$B$9,FALSE),0))","v":2.192052861471434E-20},{"$f":"IF(AND($A118>=0,Berechnung!$B$9=0),1,IF(Berechnung!$B$9<>0,_xlfn.NORM.DIST($A118,0,Berechnung!$B$9,TRUE),0))","v":1},{"$f":"IF(AND($A118=0,Berechnung!$B$10=0),1,IF(Berechnung!$B$10<>0,_xlfn.NORM.DIST($A118,0,Berechnung!$B$10,FALSE),0))","v":4.2558756173338371E-17},{"$f":"IF(AND($A118>=0,Berechnung!$B$10=0),1,IF(Berechnung!$B$10<>0,_xlfn.NORM.DIST($A118,0,Berechnung!$B$10,TRUE),0))","v":0.99999999999999989},{"$f":"IF(AND($A118=0,Berechnung!$B$11=0),1,IF(Berechnung!$B$11<>0,_xlfn.NORM.DIST($A118,0,Berechnung!$B$11,FALSE),0))","v":0},{"$f":"IF(AND($A118>=0,Berechnung!$B$11=0),1,IF(Berechnung!$B$11<>0,_xlfn.NORM.DIST($A118,0,Berechnung!$B$11,TRUE),0))","v":1},{"$f":"Demonstrator!$J$19*'Daten Diagramm'!H118+Demonstrator!$J$24*'Daten Diagramm'!L118","v":3.4705698677404272E-12},{"$f":"Demonstrator!$J$19*'Daten Diagramm'!I118+Demonstrator!$J$24*'Daten Diagramm'!M118","v":0.99999999999238787}]
[96,{"$f":"IF(AND(A119=0,Berechnung!$B$3=0),1,IF(Berechnung!$B$3<>0,_xlfn.NORM.DIST(A119,0,Berechnung!$B$3,FALSE),0))","v":8.7123844322664984E-27},{"$f":"IF(AND($A119>=0,Berechnung!$B$3=0),1,IF(Berechnung!$B$3<>0,_xlfn.NORM.DIST($A119,0,Berechnung!$B$3,TRUE),0))","v":1},{"$f":"IF(AND($A119=0,Berechnung!$B$4=0),1,IF(Berechnung!$B$4<>0,_xlfn.NORM.DIST($A119,0,Berechnung!$B$4,FALSE),0))","v":8.7123844322664984E-27},{"$f":"IF(AND($A119>=0,Berechnung!$B$4=0),1,IF(Berechnung!$B$4<>0,_xlfn.NORM.DIST($A119,0,Berechnung!$B$4,TRUE),0))","v":1},{"$f":"IF(AND($A119=0,Berechnung!$B$5=0),1,IF(Berechnung!$B$5<>0,_xlfn.NORM.DIST($A119,0,Berechnung!$B$5,FALSE),0))","v":1.099712288819123E-11},{"$f":"IF(AND($A119>=0,Berechnung!$B$5=0),1,IF(Berechnung!$B$5<>0,_xlfn.NORM.DIST($A119,0,Berechnung!$B$5,TRUE),0))","v":0.99999999997612887},{"$f":"IF(AND($A119=0,Berechnung!$B$6=0),1,IF(Berechnung!$B$6<>0,_xlfn.NORM.DIST($A119,0,Berechnung!$B$6,FALSE),0))","v":1.1084727346081422E-11},{"$f":"IF(AND($A119>=0,Berechnung!$B$6=0),1,IF(Berechnung!$B$6<>0,_xlfn.NORM.DIST($A119,0,Berechnung!$B$6,TRUE),0))","v":0.99999999997592981},{"$f":"IF(AND($A119=0,Berechnung!$B$7=0),1,IF(Berechnung!$B$7<>0,_xlfn.NORM.DIST($A119,0,Berechnung!$B$7,FALSE),0))","v":8.7123844322664984E-27},{"$f":"IF(AND($A119>=0,Berechnung!$B$7=0),1,IF(Berechnung!$B$7<>0,_xlfn.NORM.DIST($A119,0,Berechnung!$B$7,TRUE),0))","v":1},{"$f":"IF(AND($A119=0,Berechnung!$B$8=0),1,IF(Berechnung!$B$8<>0,_xlfn.NORM.DIST($A119,0,Berechnung!$B$8,FALSE),0))","v":8.7123844322664984E-27},{"$f":"IF(AND($A119>=0,Berechnung!$B$8=0),1,IF(Berechnung!$B$8<>0,_xlfn.NORM.DIST($A119,0,Berechnung!$B$8,TRUE),0))","v":1},{"$f":"IF(AND($A119=0,Berechnung!$B$9=0),1,IF(Berechnung!$B$9<>0,_xlfn.NORM.DIST($A119,0,Berechnung!$B$9,FALSE),0))","v":9.0101955201444659E-21},{"$f":"IF(AND($A119>=0,Berechnung!$B$9=0),1,IF(Berechnung!$B$9<>0,_xlfn.NORM.DIST($A119,0,Berechnung!$B$9,TRUE),0))","v":1},{"$f":"IF(AND($A119=0,Berechnung!$B$10=0),1,IF(Berechnung!$B$10<>0,_xlfn.NORM.DIST($A119,0,Berechnung!$B$10,FALSE),0))","v":2.0577241307037066E-17},{"$f":"IF(AND($A119>=0,Berechnung!$B$10=0),1,IF(Berechnung!$B$10<>0,_xlfn.NORM.DIST($A119,0,Berechnung!$B$10,TRUE),0))","v":1},{"$f":"IF(AND($A119=0,Berechnung!$B$11=0),1,IF(Berechnung!$B$11<>0,_xlfn.NORM.DIST($A119,0,Berechnung!$B$11,FALSE),0))","v":0},{"$f":"IF(AND($A119>=0,Berechnung!$B$11=0),1,IF(Berechnung!$B$11<>0,_xlfn.NORM.DIST($A119,0,Berechnung!$B$11,TRUE),0))","v":1},{"$f":"Demonstrator!$J$19*'Daten Diagramm'!H119+Demonstrator!$J$24*'Daten Diagramm'!L119","v":2.2169454692162905E-12},{"$f":"Demonstrator!$J$19*'Daten Diagramm'!I119+Demonstrator!$J$24*'Daten Diagramm'!M119","v":0.99999999999518596}]
[97,{"$f":"IF(AND(A120=0,Berechnung!$B$3=0),1,IF(Berechnung!$B$3<>0,_xlfn.NORM.DIST(A120,0,Berechnung!$B$3,FALSE),0))","v":2.6468956135716896E-27},{"$f":"IF(AND($A120>=0,Berechnung!$B$3=0),1,IF(Berechnung!$B$3<>0,_xlfn.NORM.DIST($A120,0,Berechnung!$B$3,TRUE),0))","v":1},{"$f":"IF(AND($A120=0,Berechnung!$B$4=0),1,IF(Berechnung!$B$4<>0,_xlfn.NORM.DIST($A120,0,Berechnung!$B$4,FALSE),0))","v":2.6468956135716896E-27},{"$f":"IF(AND($A120>=0,Berechnung!$B$4=0),1,IF(Berechnung!$B$4<>0,_xlfn.NORM.DIST($A120,0,Berechnung!$B$4,TRUE),0))","v":1},{"$f":"IF(AND($A120=0,Berechnung!$B$5=0),1,IF(Berechnung!$B$5<>0,_xlfn.NORM.DIST($A120,0,Berechnung!$B$5,FALSE),0))","v":6.9907094058674125E-12},{"$f":"IF(AND($A120>=0,Berechnung!$B$5=0),1,IF(Berechnung!$B$5<>0,_xlfn.NORM.DIST($A120,0,Berechnung!$B$5,TRUE),0))","v":0.99999999998497546},{"$f":"IF(AND($A120=0,Berechnung!$B$6=0),1,IF(Berechnung!$B$6<>0,_xlfn.NORM.DIST($A120,0,Berechnung!$B$6,FALSE),0))","v":7.0475969409176722E-12},{"$f":"IF(AND($A120>=0,Berechnung!$B$6=0),1,IF(Berechnung!$B$6<>0,_xlfn.NORM.DIST($A120,0,Berechnung!$B$6,TRUE),0))","v":0.99999999998484768},{"$f":"IF(AND($A120=0,Berechnung!$B$7=0),1,IF(Berechnung!$B$7<>0,_xlfn.NORM.DIST($A120,0,Berechnung!$B$7,FALSE),0))","v":2.6468956135716896E-27},{"$f":"IF(AND($A120>=0,Berechnung!$B$7=0),1,IF(Berechnung!$B$7<>0,_xlfn.NORM.DIST($A120,0,Berechnung!$B$7,TRUE),0))","v":1},{"$f":"IF(AND($A120=0,Berechnung!$B$8=0),1,IF(Berechnung!$B$8<>0,_xlfn.NORM.DIST($A120,0,Berechnung!$B$8,FALSE),0))","v":2.6468956135716896E-27},{"$f":"IF(AND($A120>=0,Berechnung!$B$8=0),1,IF(Berechnung!$B$8<>0,_xlfn.NORM.DIST($A120,0,Berechnung!$B$8,TRUE),0))","v":1},{"$f":"IF(AND($A120=0,Berechnung!$B$9=0),1,IF(Berechnung!$B$9<>0,_xlfn.NORM.DIST($A120,0,Berechnung!$B$9,FALSE),0))","v":3.6692246252976882E-21},{"$f":"IF(AND($A120>=0,Berechnung!$B$9=0),1,IF(Berechnung!$B$9<>0,_xlfn.NORM.DIST($A120,0,Berechnung!$B$9,TRUE),0))","v":1},{"$f":"IF(AND($A120=0,Berechnung!$B$10=0),1,IF(Berechnung!$B$10<>0,_xlfn.NORM.DIST($A120,0,Berechnung!$B$10,FALSE),0))","v":9.873716280460271E-18},{"$f":"IF(AND($A120>=0,Berechnung!$B$10=0),1,IF(Berechnung!$B$10<>0,_xlfn.NORM.DIST($A120,0,Berechnung!$B$10,TRUE),0))","v":1},{"$f":"IF(AND($A120=0,Berechnung!$B$11=0),1,IF(Berechnung!$B$11<>0,_xlfn.NORM.DIST($A120,0,Berechnung!$B$11,FALSE),0))","v":0},{"$f":"IF(AND($A120>=0,Berechnung!$B$11=0),1,IF(Berechnung!$B$11<>0,_xlfn.NORM.DIST($A120,0,Berechnung!$B$11,TRUE),0))","v":1},{"$f":"Demonstrator!$J$19*'Daten Diagramm'!H120+Demonstrator!$J$24*'Daten Diagramm'!L120","v":1.4095193881835362E-12},{"$f":"Demonstrator!$J$19*'Daten Diagramm'!I120+Demonstrator!$J$24*'Daten Diagramm'!M120","v":0.99999999999696954}]
[98,{"$f":"IF(AND(A121=0,Berechnung!$B$3=0),1,IF(Berechnung!$B$3<>0,_xlfn.NORM.DIST(A121,0,Berechnung!$B$3,FALSE),0))","v":7.9428239720236534E-28},{"$f":"IF(AND($A121>=0,Berechnung!$B$3=0),1,IF(Berechnung!$B$3<>0,_xlfn.NORM.DIST($A121,0,Berechnung!$B$3,TRUE),0))","v":1},{"$f":"IF(AND($A121=0,Berechnung!$B$4=0),1,IF(Berechnung!$B$4<>0,_xlfn.NORM.DIST($A121,0,Berechnung!$B$4,FALSE),0))","v":7.9428239720236534E-28},{"$f":"IF(AND($A121>=0,Berechnung!$B$4=0),1,IF(Berechnung!$B$4<>0,_xlfn.NORM.DIST($A121,0,Berechnung!$B$4,TRUE),0))","v":1},{"$f":"IF(AND($A121=0,Berechnung!$B$5=0),1,IF(Berechnung!$B$5<>0,_xlfn.NORM.DIST($A121,0,Berechnung!$B$5,FALSE),0))","v":4.4230767928626858E-12},{"$f":"IF(AND($A121>=0,Berechnung!$B$5=0),1,IF(Berechnung!$B$5<>0,_xlfn.NORM.DIST($A121,0,Berechnung!$B$5,TRUE),0))","v":0.99999999999058697},{"$f":"IF(AND($A121=0,Berechnung!$B$6=0),1,IF(Berechnung!$B$6<>0,_xlfn.NORM.DIST($A121,0,Berechnung!$B$6,FALSE),0))","v":4.4598363806807485E-12},{"$f":"IF(AND($A121>=0,Berechnung!$B$6=0),1,IF(Berechnung!$B$6<>0,_xlfn.NORM.DIST($A121,0,Berechnung!$B$6,TRUE),0))","v":0.99999999999050526},{"$f":"IF(AND($A121=0,Berechnung!$B$7=0),1,IF(Berechnung!$B$7<>0,_xlfn.NORM.DIST($A121,0,Berechnung!$B$7,FALSE),0))","v":7.9428239720236534E-28},{"$f":"IF(AND($A121>=0,Berechnung!$B$7=0),1,IF(Berechnung!$B$7<>0,_xlfn.NORM.DIST($A121,0,Berechnung!$B$7,TRUE),0))","v":1},{"$f":"IF(AND($A121=0,Berechnung!$B$8=0),1,IF(Berechnung!$B$8<>0,_xlfn.NORM.DIST($A121,0,Berechnung!$B$8,FALSE),0))","v":7.9428239720236534E-28},{"$f":"IF(AND($A121>=0,Berechnung!$B$8=0),1,IF(Berechnung!$B$8<>0,_xlfn.NORM.DIST($A121,0,Berechnung!$B$8,TRUE),0))","v":1},{"$f":"IF(AND($A121=0,Berechnung!$B$9=0),1,IF(Berechnung!$B$9<>0,_xlfn.NORM.DIST($A121,0,Berechnung!$B$9,FALSE),0))","v":1.4803734102490383E-21},{"$f":"IF(AND($A121>=0,Berechnung!$B$9=0),1,IF(Berechnung!$B$9<>0,_xlfn.NORM.DIST($A121,0,Berechnung!$B$9,TRUE),0))","v":1},{"$f":"IF(AND($A121=0,Berechnung!$B$10=0),1,IF(Berechnung!$B$10<>0,_xlfn.NORM.DIST($A121,0,Berechnung!$B$10,FALSE),0))","v":4.7018568877390071E-18},{"$f":"IF(AND($A121>=0,Berechnung!$B$10=0),1,IF(Berechnung!$B$10<>0,_xlfn.NORM.DIST($A121,0,Berechnung!$B$10,TRUE),0))","v":1},{"$f":"IF(AND($A121=0,Berechnung!$B$11=0),1,IF(Berechnung!$B$11<>0,_xlfn.NORM.DIST($A121,0,Berechnung!$B$11,FALSE),0))","v":0},{"$f":"IF(AND($A121>=0,Berechnung!$B$11=0),1,IF(Berechnung!$B$11<>0,_xlfn.NORM.DIST($A121,0,Berechnung!$B$11,TRUE),0))","v":1},{"$f":"Demonstrator!$J$19*'Daten Diagramm'!H121+Demonstrator!$J$24*'Daten Diagramm'!L121","v":8.9196727613615007E-13},{"$f":"Demonstrator!$J$19*'Daten Diagramm'!I121+Demonstrator!$J$24*'Daten Diagramm'!M121","v":0.99999999999810107}]
[99,{"$f":"IF(AND(A122=0,Berechnung!$B$3=0),1,IF(Berechnung!$B$3<>0,_xlfn.NORM.DIST(A122,0,Berechnung!$B$3,FALSE),0))","v":2.3542436150103931E-28},{"$f":"IF(AND($A122>=0,Berechnung!$B$3=0),1,IF(Berechnung!$B$3<>0,_xlfn.NORM.DIST($A122,0,Berechnung!$B$3,TRUE),0))","v":1},{"$f":"IF(AND($A122=0,Berechnung!$B$4=0),1,IF(Berechnung!$B$4<>0,_xlfn.NORM.DIST($A122,0,Berechnung!$B$4,FALSE),0))","v":2.3542436150103931E-28},{"$f":"IF(AND($A122>=0,Berechnung!$B$4=0),1,IF(Berechnung!$B$4<>0,_xlfn.NORM.DIST($A122,0,Berechnung!$B$4,TRUE),0))","v":1},{"$f":"IF(AND($A122=0,Berechnung!$B$5=0),1,IF(Berechnung!$B$5<>0,_xlfn.NORM.DIST($A122,0,Berechnung!$B$5,FALSE),0))","v":2.7854076785539066E-12},{"$f":"IF(AND($A122>=0,Berechnung!$B$5=0),1,IF(Berechnung!$B$5<>0,_xlfn.NORM.DIST($A122,0,Berechnung!$B$5,TRUE),0))","v":0.9999999999941297},{"$f":"IF(AND($A122=0,Berechnung!$B$6=0),1,IF(Berechnung!$B$6<>0,_xlfn.NORM.DIST($A122,0,Berechnung!$B$6,FALSE),0))","v":2.8090444904336624E-12},{"$f":"IF(AND($A122>=0,Berechnung!$B$6=0),1,IF(Berechnung!$B$6<>0,_xlfn.NORM.DIST($A122,0,Berechnung!$B$6,TRUE),0))","v":0.99999999999407774},{"$f":"IF(AND($A122=0,Berechnung!$B$7=0),1,IF(Berechnung!$B$7<>0,_xlfn.NORM.DIST($A122,0,Berechnung!$B$7,FALSE),0))","v":2.3542436150103931E-28},{"$f":"IF(AND($A122>=0,Berechnung!$B$7=0),1,IF(Berechnung!$B$7<>0,_xlfn.NORM.DIST($A122,0,Berechnung!$B$7,TRUE),0))","v":1},{"$f":"IF(AND($A122=0,Berechnung!$B$8=0),1,IF(Berechnung!$B$8<>0,_xlfn.NORM.DIST($A122,0,Berechnung!$B$8,FALSE),0))","v":2.3542436150103931E-28},{"$f":"IF(AND($A122>=0,Berechnung!$B$8=0),1,IF(Berechnung!$B$8<>0,_xlfn.NORM.DIST($A122,0,Berechnung!$B$8,TRUE),0))","v":1},{"$f":"IF(AND($A122=0,Berechnung!$B$9=0),1,IF(Berechnung!$B$9<>0,_xlfn.NORM.DIST($A122,0,Berechnung!$B$9,FALSE),0))","v":5.9173212048129707E-22},{"$f":"IF(AND($A122>=0,Berechnung!$B$9=0),1,IF(Berechnung!$B$9<>0,_xlfn.NORM.DIST($A122,0,Berechnung!$B$9,TRUE),0))","v":1},{"$f":"IF(AND($A122=0,Berechnung!$B$10=0),1,IF(Berechnung!$B$10<>0,_xlfn.NORM.DIST($A122,0,Berechnung!$B$10,FALSE),0))","v":2.2220480095601902E-18},{"$f":"IF(AND($A122>=0,Berechnung!$B$10=0),1,IF(Berechnung!$B$10<>0,_xlfn.NORM.DIST($A122,0,Berechnung!$B$10,TRUE),0))","v":1},{"$f":"IF(AND($A122=0,Berechnung!$B$11=0),1,IF(Berechnung!$B$11<>0,_xlfn.NORM.DIST($A122,0,Berechnung!$B$11,FALSE),0))","v":0},{"$f":"IF(AND($A122>=0,Berechnung!$B$11=0),1,IF(Berechnung!$B$11<>0,_xlfn.NORM.DIST($A122,0,Berechnung!$B$11,TRUE),0))","v":1},{"$f":"Demonstrator!$J$19*'Daten Diagramm'!H122+Demonstrator!$J$24*'Daten Diagramm'!L122","v":5.6180889808673253E-13},{"$f":"Demonstrator!$J$19*'Daten Diagramm'!I122+Demonstrator!$J$24*'Daten Diagramm'!M122","v":0.99999999999881561}]
[100,{"$f":"IF(AND(A123=0,Berechnung!$B$3=0),1,IF(Berechnung!$B$3<>0,_xlfn.NORM.DIST(A123,0,Berechnung!$B$3,FALSE),0))","v":6.8923322430180992E-29},{"$f":"IF(AND($A123>=0,Berechnung!$B$3=0),1,IF(Berechnung!$B$3<>0,_xlfn.NORM.DIST($A123,0,Berechnung!$B$3,TRUE),0))","v":1},{"$f":"IF(AND($A123=0,Berechnung!$B$4=0),1,IF(Berechnung!$B$4<>0,_xlfn.NORM.DIST($A123,0,Berechnung!$B$4,FALSE),0))","v":6.8923322430180992E-29},{"$f":"IF(AND($A123>=0,Berechnung!$B$4=0),1,IF(Berechnung!$B$4<>0,_xlfn.NORM.DIST($A123,0,Berechnung!$B$4,TRUE),0))","v":1},{"$f":"IF(AND($A123=0,Berechnung!$B$5=0),1,IF(Berechnung!$B$5<>0,_xlfn.NORM.DIST($A123,0,Berechnung!$B$5,FALSE),0))","v":1.7458788993629118E-12},{"$f":"IF(AND($A123>=0,Berechnung!$B$5=0),1,IF(Berechnung!$B$5<>0,_xlfn.NORM.DIST($A123,0,Berechnung!$B$5,TRUE),0))","v":0.99999999999635591},{"$f":"IF(AND($A123=0,Berechnung!$B$6=0),1,IF(Berechnung!$B$6<>0,_xlfn.NORM.DIST($A123,0,Berechnung!$B$6,FALSE),0))","v":1.7610031541371861E-12},{"$f":"IF(AND($A123>=0,Berechnung!$B$6=0),1,IF(Berechnung!$B$6<>0,_xlfn.NORM.DIST($A123,0,Berechnung!$B$6,TRUE),0))","v":0.99999999999632294},{"$f":"IF(AND($A123=0,Berechnung!$B$7=0),1,IF(Berechnung!$B$7<>0,_xlfn.NORM.DIST($A123,0,Berechnung!$B$7,FALSE),0))","v":6.8923322430180992E-29},{"$f":"IF(AND($A123>=0,Berechnung!$B$7=0),1,IF(Berechnung!$B$7<>0,_xlfn.NORM.DIST($A123,0,Berechnung!$B$7,TRUE),0))","v":1},{"$f":"IF(AND($A123=0,Berechnung!$B$8=0),1,IF(Berechnung!$B$8<>0,_xlfn.NORM.DIST($A123,0,Berechnung!$B$8,FALSE),0))","v":6.8923322430180992E-29},{"$f":"IF(AND($A123>=0,Berechnung!$B$8=0),1,IF(Berechnung!$B$8<>0,_xlfn.NORM.DIST($A123,0,Berechnung!$B$8,TRUE),0))","v":1},{"$f":"IF(AND($A123=0,Berechnung!$B$9=0),1,IF(Berechnung!$B$9<>0,_xlfn.NORM.DIST($A123,0,Berechnung!$B$9,FALSE),0))","v":2.3433432321037983E-22},{"$f":"IF(AND($A123>=0,Berechnung!$B$9=0),1,IF(Berechnung!$B$9<>0,_xlfn.NORM.DIST($A123,0,Berechnung!$B$9,TRUE),0))","v":1},{"$f":"IF(AND($A123=0,Berechnung!$B$10=0),1,IF(Berechnung!$B$10<>0,_xlfn.NORM.DIST($A123,0,Berechnung!$B$10,FALSE),0))","v":1.0421560145659326E-18},{"$f":"IF(AND($A123>=0,Berechnung!$B$10=0),1,IF(Berechnung!$B$10<>0,_xlfn.NORM.DIST($A123,0,Berechnung!$B$10,TRUE),0))","v":1},{"$f":"IF(AND($A123=0,Berechnung!$B$11=0),1,IF(Berechnung!$B$11<>0,_xlfn.NORM.DIST($A123,0,Berechnung!$B$11,FALSE),0))","v":0},{"$f":"IF(AND($A123>=0,Berechnung!$B$11=0),1,IF(Berechnung!$B$11<>0,_xlfn.NORM.DIST($A123,0,Berechnung!$B$11,TRUE),0))","v":1},{"$f":"Demonstrator!$J$19*'Daten Diagramm'!H123+Demonstrator!$J$24*'Daten Diagramm'!L123","v":3.5220063082743719E-13},{"$f":"Demonstrator!$J$19*'Daten Diagramm'!I123+Demonstrator!$J$24*'Daten Diagramm'!M123","v":0.99999999999926459}]
[101,{"$f":"IF(AND(A124=0,Berechnung!$B$3=0),1,IF(Berechnung!$B$3<>0,_xlfn.NORM.DIST(A124,0,Berechnung!$B$3,FALSE),0))","v":1.9930552917421572E-29},{"$f":"IF(AND($A124>=0,Berechnung!$B$3=0),1,IF(Berechnung!$B$3<>0,_xlfn.NORM.DIST($A124,0,Berechnung!$B$3,TRUE),0))","v":1},{"$f":"IF(AND($A124=0,Berechnung!$B$4=0),1,IF(Berechnung!$B$4<>0,_xlfn.NORM.DIST($A124,0,Berechnung!$B$4,FALSE),0))","v":1.9930552917421572E-29},{"$f":"IF(AND($A124>=0,Berechnung!$B$4=0),1,IF(Berechnung!$B$4<>0,_xlfn.NORM.DIST($A124,0,Berechnung!$B$4,TRUE),0))","v":1},{"$f":"IF(AND($A124=0,Berechnung!$B$5=0),1,IF(Berechnung!$B$5<>0,_xlfn.NORM.DIST($A124,0,Berechnung!$B$5,FALSE),0))","v":1.0891821681778257E-12},{"$f":"IF(AND($A124>=0,Berechnung!$B$5=0),1,IF(Berechnung!$B$5<>0,_xlfn.NORM.DIST($A124,0,Berechnung!$B$5,TRUE),0))","v":0.99999999999774825},{"$f":"IF(AND($A124=0,Berechnung!$B$6=0),1,IF(Berechnung!$B$6<>0,_xlfn.NORM.DIST($A124,0,Berechnung!$B$6,FALSE),0))","v":1.0988122038300574E-12},{"$f":"IF(AND($A124>=0,Berechnung!$B$6=0),1,IF(Berechnung!$B$6<>0,_xlfn.NORM.DIST($A124,0,Berechnung!$B$6,TRUE),0))","v":0.99999999999772748},{"$f":"IF(AND($A124=0,Berechnung!$B$7=0),1,IF(Berechnung!$B$7<>0,_xlfn.NORM.DIST($A124,0,Berechnung!$B$7,FALSE),0))","v":1.9930552917421572E-29},{"$f":"IF(AND($A124>=0,Berechnung!$B$7=0),1,IF(Berechnung!$B$7<>0,_xlfn.NORM.DIST($A124,0,Berechnung!$B$7,TRUE),0))","v":1},{"$f":"IF(AND($A124=0,Berechnung!$B$8=0),1,IF(Berechnung!$B$8<>0,_xlfn.NORM.DIST($A124,0,Berechnung!$B$8,FALSE),0))","v":1.9930552917421572E-29},{"$f":"IF(AND($A124>=0,Berechnung!$B$8=0),1,IF(Berechnung!$B$8<>0,_xlfn.NORM.DIST($A124,0,Berechnung!$B$8,TRUE),0))","v":1},{"$f":"IF(AND($A124=0,Berechnung!$B$9=0),1,IF(Berechnung!$B$9<>0,_xlfn.NORM.DIST($A124,0,Berechnung!$B$9,FALSE),0))","v":9.193980058180253E-23},{"$f":"IF(AND($A124>=0,Berechnung!$B$9=0),1,IF(Berechnung!$B$9<>0,_xlfn.NORM.DIST($A124,0,Berechnung!$B$9,TRUE),0))","v":1},{"$f":"IF(AND($A124=0,Berechnung!$B$10=0),1,IF(Berechnung!$B$10<>0,_xlfn.NORM.DIST($A124,0,Berechnung!$B$10,FALSE),0))","v":4.8507323251438524E-19},{"$f":"IF(AND($A124>=0,Berechnung!$B$10=0),1,IF(Berechnung!$B$10<>0,_xlfn.NORM.DIST($A124,0,Berechnung!$B$10,TRUE),0))","v":1},{"$f":"IF(AND($A124=0,Berechnung!$B$11=0),1,IF(Berechnung!$B$11<>0,_xlfn.NORM.DIST($A124,0,Berechnung!$B$11,FALSE),0))","v":0},{"$f":"IF(AND($A124>=0,Berechnung!$B$11=0),1,IF(Berechnung!$B$11<>0,_xlfn.NORM.DIST($A124,0,Berechnung!$B$11,TRUE),0))","v":1},{"$f":"Demonstrator!$J$19*'Daten Diagramm'!H124+Demonstrator!$J$24*'Daten Diagramm'!L124","v":2.1976244076601146E-13},{"$f":"Demonstrator!$J$19*'Daten Diagramm'!I124+Demonstrator!$J$24*'Daten Diagramm'!M124","v":0.99999999999954547}]
[102,{"$f":"IF(AND(A125=0,Berechnung!$B$3=0),1,IF(Berechnung!$B$3<>0,_xlfn.NORM.DIST(A125,0,Berechnung!$B$3,FALSE),0))","v":5.692602113564296E-30},{"$f":"IF(AND($A125>=0,Berechnung!$B$3=0),1,IF(Berechnung!$B$3<>0,_xlfn.NORM.DIST($A125,0,Berechnung!$B$3,TRUE),0))","v":1},{"$f":"IF(AND($A125=0,Berechnung!$B$4=0),1,IF(Berechnung!$B$4<>0,_xlfn.NORM.DIST($A125,0,Berechnung!$B$4,FALSE),0))","v":5.692602113564296E-30},{"$f":"IF(AND($A125>=0,Berechnung!$B$4=0),1,IF(Berechnung!$B$4<>0,_xlfn.NORM.DIST($A125,0,Berechnung!$B$4,TRUE),0))","v":1},{"$f":"IF(AND($A125=0,Berechnung!$B$5=0),1,IF(Berechnung!$B$5<>0,_xlfn.NORM.DIST($A125,0,Berechnung!$B$5,FALSE),0))","v":6.7631339290339934E-13},{"$f":"IF(AND($A125>=0,Berechnung!$B$5=0),1,IF(Berechnung!$B$5<>0,_xlfn.NORM.DIST($A125,0,Berechnung!$B$5,TRUE),0))","v":0.999999999998615},{"$f":"IF(AND($A125=0,Berechnung!$B$6=0),1,IF(Berechnung!$B$6<>0,_xlfn.NORM.DIST($A125,0,Berechnung!$B$6,FALSE),0))","v":6.8241511705471246E-13},{"$f":"IF(AND($A125>=0,Berechnung!$B$6=0),1,IF(Berechnung!$B$6<>0,_xlfn.NORM.DIST($A125,0,Berechnung!$B$6,TRUE),0))","v":0.99999999999860201},{"$f":"IF(AND($A125=0,Berechnung!$B$7=0),1,IF(Berechnung!$B$7<>0,_xlfn.NORM.DIST($A125,0,Berechnung!$B$7,FALSE),0))","v":5.692602113564296E-30},{"$f":"IF(AND($A125>=0,Berechnung!$B$7=0),1,IF(Berechnung!$B$7<>0,_xlfn.NORM.DIST($A125,0,Berechnung!$B$7,TRUE),0))","v":1},{"$f":"IF(AND($A125=0,Berechnung!$B$8=0),1,IF(Berechnung!$B$8<>0,_xlfn.NORM.DIST($A125,0,Berechnung!$B$8,FALSE),0))","v":5.692602113564296E-30},{"$f":"IF(AND($A125>=0,Berechnung!$B$8=0),1,IF(Berechnung!$B$8<>0,_xlfn.NORM.DIST($A125,0,Berechnung!$B$8,TRUE),0))","v":1},{"$f":"IF(AND($A125=0,Berechnung!$B$9=0),1,IF(Berechnung!$B$9<>0,_xlfn.NORM.DIST($A125,0,Berechnung!$B$9,FALSE),0))","v":3.5737823700166454E-23},{"$f":"IF(AND($A125>=0,Berechnung!$B$9=0),1,IF(Berechnung!$B$9<>0,_xlfn.NORM.DIST($A125,0,Berechnung!$B$9,TRUE),0))","v":1},{"$f":"IF(AND($A125=0,Berechnung!$B$10=0),1,IF(Berechnung!$B$10<>0,_xlfn.NORM.DIST($A125,0,Berechnung!$B$10,FALSE),0))","v":2.2406661323090114E-19},{"$f":"IF(AND($A125>=0,Berechnung!$B$10=0),1,IF(Berechnung!$B$10<>0,_xlfn.NORM.DIST($A125,0,Berechnung!$B$10,TRUE),0))","v":1},{"$f":"IF(AND($A125=0,Berechnung!$B$11=0),1,IF(Berechnung!$B$11<>0,_xlfn.NORM.DIST($A125,0,Berechnung!$B$11,FALSE),0))","v":0},{"$f":"IF(AND($A125>=0,Berechnung!$B$11=0),1,IF(Berechnung!$B$11<>0,_xlfn.NORM.DIST($A125,0,Berechnung!$B$11,TRUE),0))","v":1},{"$f":"Demonstrator!$J$19*'Daten Diagramm'!H125+Demonstrator!$J$24*'Daten Diagramm'!L125","v":1.3648302341094247E-13},{"$f":"Demonstrator!$J$19*'Daten Diagramm'!I125+Demonstrator!$J$24*'Daten Diagramm'!M125","v":0.99999999999972045}]
[103,{"$f":"IF(AND(A126=0,Berechnung!$B$3=0),1,IF(Berechnung!$B$3<>0,_xlfn.NORM.DIST(A126,0,Berechnung!$B$3,FALSE),0))","v":1.6059819209875693E-30},{"$f":"IF(AND($A126>=0,Berechnung!$B$3=0),1,IF(Berechnung!$B$3<>0,_xlfn.NORM.DIST($A126,0,Berechnung!$B$3,TRUE),0))","v":1},{"$f":"IF(AND($A126=0,Berechnung!$B$4=0),1,IF(Berechnung!$B$4<>0,_xlfn.NORM.DIST($A126,0,Berechnung!$B$4,FALSE),0))","v":1.6059819209875693E-30},{"$f":"IF(AND($A126>=0,Berechnung!$B$4=0),1,IF(Berechnung!$B$4<>0,_xlfn.NORM.DIST($A126,0,Berechnung!$B$4,TRUE),0))","v":1},{"$f":"IF(AND($A126=0,Berechnung!$B$5=0),1,IF(Berechnung!$B$5<>0,_xlfn.NORM.DIST($A126,0,Berechnung!$B$5,FALSE),0))","v":4.1798097214594937E-13},{"$f":"IF(AND($A126>=0,Berechnung!$B$5=0),1,IF(Berechnung!$B$5<>0,_xlfn.NORM.DIST($A126,0,Berechnung!$B$5,TRUE),0))","v":0.99999999999915201},{"$f":"IF(AND($A126=0,Berechnung!$B$6=0),1,IF(Berechnung!$B$6<>0,_xlfn.NORM.DIST($A126,0,Berechnung!$B$6,FALSE),0))","v":4.2182821754238882E-13},{"$f":"IF(AND($A126>=0,Berechnung!$B$6=0),1,IF(Berechnung!$B$6<>0,_xlfn.NORM.DIST($A126,0,Berechnung!$B$6,TRUE),0))","v":0.99999999999914391},{"$f":"IF(AND($A126=0,Berechnung!$B$7=0),1,IF(Berechnung!$B$7<>0,_xlfn.NORM.DIST($A126,0,Berechnung!$B$7,FALSE),0))","v":1.6059819209875693E-30},{"$f":"IF(AND($A126>=0,Berechnung!$B$7=0),1,IF(Berechnung!$B$7<>0,_xlfn.NORM.DIST($A126,0,Berechnung!$B$7,TRUE),0))","v":1},{"$f":"IF(AND($A126=0,Berechnung!$B$8=0),1,IF(Berechnung!$B$8<>0,_xlfn.NORM.DIST($A126,0,Berechnung!$B$8,FALSE),0))","v":1.6059819209875693E-30},{"$f":"IF(AND($A126>=0,Berechnung!$B$8=0),1,IF(Berechnung!$B$8<>0,_xlfn.NORM.DIST($A126,0,Berechnung!$B$8,TRUE),0))","v":1},{"$f":"IF(AND($A126=0,Berechnung!$B$9=0),1,IF(Berechnung!$B$9<>0,_xlfn.NORM.DIST($A126,0,Berechnung!$B$9,FALSE),0))","v":1.3762886830345044E-23},{"$f":"IF(AND($A126>=0,Berechnung!$B$9=0),1,IF(Berechnung!$B$9<>0,_xlfn.NORM.DIST($A126,0,Berechnung!$B$9,TRUE),0))","v":1},{"$f":"IF(AND($A126=0,Berechnung!$B$10=0),1,IF(Berechnung!$B$10<>0,_xlfn.NORM.DIST($A126,0,Berechnung!$B$10,FALSE),0))","v":1.0271698402246998E-19},{"$f":"IF(AND($A126>=0,Berechnung!$B$10=0),1,IF(Berechnung!$B$10<>0,_xlfn.NORM.DIST($A126,0,Berechnung!$B$10,TRUE),0))","v":1},{"$f":"IF(AND($A126=0,Berechnung!$B$11=0),1,IF(Berechnung!$B$11<>0,_xlfn.NORM.DIST($A126,0,Berechnung!$B$11,FALSE),0))","v":0},{"$f":"IF(AND($A126>=0,Berechnung!$B$11=0),1,IF(Berechnung!$B$11<>0,_xlfn.NORM.DIST($A126,0,Berechnung!$B$11,TRUE),0))","v":1},{"$f":"Demonstrator!$J$19*'Daten Diagramm'!H126+Demonstrator!$J$24*'Daten Diagramm'!L126","v":8.4365643508477746E-14},{"$f":"Demonstrator!$J$19*'Daten Diagramm'!I126+Demonstrator!$J$24*'Daten Diagramm'!M126","v":0.9999999999998288}]
[104,{"$f":"IF(AND(A127=0,Berechnung!$B$3=0),1,IF(Berechnung!$B$3<>0,_xlfn.NORM.DIST(A127,0,Berechnung!$B$3,FALSE),0))","v":4.475162542927589E-31},{"$f":"IF(AND($A127>=0,Berechnung!$B$3=0),1,IF(Berechnung!$B$3<>0,_xlfn.NORM.DIST($A127,0,Berechnung!$B$3,TRUE),0))","v":1},{"$f":"IF(AND($A127=0,Berechnung!$B$4=0),1,IF(Berechnung!$B$4<>0,_xlfn.NORM.DIST($A127,0,Berechnung!$B$4,FALSE),0))","v":4.475162542927589E-31},{"$f":"IF(AND($A127>=0,Berechnung!$B$4=0),1,IF(Berechnung!$B$4<>0,_xlfn.NORM.DIST($A127,0,Berechnung!$B$4,TRUE),0))","v":1},{"$f":"IF(AND($A127=0,Berechnung!$B$5=0),1,IF(Berechnung!$B$5<>0,_xlfn.NORM.DIST($A127,0,Berechnung!$B$5,FALSE),0))","v":2.571142188142921E-13},{"$f":"IF(AND($A127>=0,Berechnung!$B$5=0),1,IF(Berechnung!$B$5<>0,_xlfn.NORM.DIST($A127,0,Berechnung!$B$5,TRUE),0))","v":0.99999999999948319},{"$f":"IF(AND($A127=0,Berechnung!$B$6=0),1,IF(Berechnung!$B$6<>0,_xlfn.NORM.DIST($A127,0,Berechnung!$B$6,FALSE),0))","v":2.5952813213289968E-13},{"$f":"IF(AND($A127>=0,Berechnung!$B$6=0),1,IF(Berechnung!$B$6<>0,_xlfn.NORM.DIST($A127,0,Berechnung!$B$6,TRUE),0))","v":0.9999999999994782},{"$f":"IF(AND($A127=0,Berechnung!$B$7=0),1,IF(Berechnung!$B$7<>0,_xlfn.NORM.DIST($A127,0,Berechnung!$B$7,FALSE),0))","v":4.475162542927589E-31},{"$f":"IF(AND($A127>=0,Berechnung!$B$7=0),1,IF(Berechnung!$B$7<>0,_xlfn.NORM.DIST($A127,0,Berechnung!$B$7,TRUE),0))","v":1},{"$f":"IF(AND($A127=0,Berechnung!$B$8=0),1,IF(Berechnung!$B$8<>0,_xlfn.NORM.DIST($A127,0,Berechnung!$B$8,FALSE),0))","v":4.475162542927589E-31},{"$f":"IF(AND($A127>=0,Berechnung!$B$8=0),1,IF(Berechnung!$B$8<>0,_xlfn.NORM.DIST($A127,0,Berechnung!$B$8,TRUE),0))","v":1},{"$f":"IF(AND($A127=0,Berechnung!$B$9=0),1,IF(Berechnung!$B$9<>0,_xlfn.NORM.DIST($A127,0,Berechnung!$B$9,FALSE),0))","v":5.2510707230186349E-24},{"$f":"IF(AND($A127>=0,Berechnung!$B$9=0),1,IF(Berechnung!$B$9<>0,_xlfn.NORM.DIST($A127,0,Berechnung!$B$9,TRUE),0))","v":1},{"$f":"IF(AND($A127=0,Berechnung!$B$10=0),1,IF(Berechnung!$B$10<>0,_xlfn.NORM.DIST($A127,0,Berechnung!$B$10,FALSE),0))","v":4.6730737795586442E-20},{"$f":"IF(AND($A127>=0,Berechnung!$B$10=0),1,IF(Berechnung!$B$10<>0,_xlfn.NORM.DIST($A127,0,Berechnung!$B$10,TRUE),0))","v":1},{"$f":"IF(AND($A127=0,Berechnung!$B$11=0),1,IF(Berechnung!$B$11<>0,_xlfn.NORM.DIST($A127,0,Berechnung!$B$11,FALSE),0))","v":0},{"$f":"IF(AND($A127>=0,Berechnung!$B$11=0),1,IF(Berechnung!$B$11<>0,_xlfn.NORM.DIST($A127,0,Berechnung!$B$11,TRUE),0))","v":1},{"$f":"Demonstrator!$J$19*'Daten Diagramm'!H127+Demonstrator!$J$24*'Daten Diagramm'!L127","v":5.1905626426579925E-14},{"$f":"Demonstrator!$J$19*'Daten Diagramm'!I127+Demonstrator!$J$24*'Daten Diagramm'!M127","v":0.99999999999989564}]
[105,{"$f":"IF(AND(A128=0,Berechnung!$B$3=0),1,IF(Berechnung!$B$3<>0,_xlfn.NORM.DIST(A128,0,Berechnung!$B$3,FALSE),0))","v":1.2317294228976294E-31},{"$f":"IF(AND($A128>=0,Berechnung!$B$3=0),1,IF(Berechnung!$B$3<>0,_xlfn.NORM.DIST($A128,0,Berechnung!$B$3,TRUE),0))","v":1},{"$f":"IF(AND($A128=0,Berechnung!$B$4=0),1,IF(Berechnung!$B$4<>0,_xlfn.NORM.DIST($A128,0,Berechnung!$B$4,FALSE),0))","v":1.2317294228976294E-31},{"$f":"IF(AND($A128>=0,Berechnung!$B$4=0),1,IF(Berechnung!$B$4<>0,_xlfn.NORM.DIST($A128,0,Berechnung!$B$4,TRUE),0))","v":1},{"$f":"IF(AND($A128=0,Berechnung!$B$5=0),1,IF(Berechnung!$B$5<>0,_xlfn.NORM.DIST($A128,0,Berechnung!$B$5,FALSE),0))","v":1.5741885020791328E-13},{"$f":"IF(AND($A128>=0,Berechnung!$B$5=0),1,IF(Berechnung!$B$5<>0,_xlfn.NORM.DIST($A128,0,Berechnung!$B$5,TRUE),0))","v":0.99999999999968647},{"$f":"IF(AND($A128=0,Berechnung!$B$6=0),1,IF(Berechnung!$B$6<>0,_xlfn.NORM.DIST($A128,0,Berechnung!$B$6,FALSE),0))","v":1.5892604602665936E-13},{"$f":"IF(AND($A128>=0,Berechnung!$B$6=0),1,IF(Berechnung!$B$6<>0,_xlfn.NORM.DIST($A128,0,Berechnung!$B$6,TRUE),0))","v":0.99999999999968336},{"$f":"IF(AND($A128=0,Berechnung!$B$7=0),1,IF(Berechnung!$B$7<>0,_xlfn.NORM.DIST($A128,0,Berechnung!$B$7,FALSE),0))","v":1.2317294228976294E-31},{"$f":"IF(AND($A128>=0,Berechnung!$B$7=0),1,IF(Berechnung!$B$7<>0,_xlfn.NORM.DIST($A128,0,Berechnung!$B$7,TRUE),0))","v":1},{"$f":"IF(AND($A128=0,Berechnung!$B$8=0),1,IF(Berechnung!$B$8<>0,_xlfn.NORM.DIST($A128,0,Berechnung!$B$8,FALSE),0))","v":1.2317294228976294E-31},{"$f":"IF(AND($A128>=0,Berechnung!$B$8=0),1,IF(Berechnung!$B$8<>0,_xlfn.NORM.DIST($A128,0,Berechnung!$B$8,TRUE),0))","v":1},{"$f":"IF(AND($A128=0,Berechnung!$B$9=0),1,IF(Berechnung!$B$9<>0,_xlfn.NORM.DIST($A128,0,Berechnung!$B$9,FALSE),0))","v":1.9849203687277417E-24},{"$f":"IF(AND($A128>=0,Berechnung!$B$9=0),1,IF(Berechnung!$B$9<>0,_xlfn.NORM.DIST($A128,0,Berechnung!$B$9,TRUE),0))","v":1},{"$f":"IF(AND($A128=0,Berechnung!$B$10=0),1,IF(Berechnung!$B$10<>0,_xlfn.NORM.DIST($A128,0,Berechnung!$B$10,FALSE),0))","v":2.1098825770854642E-20},{"$f":"IF(AND($A128>=0,Berechnung!$B$10=0),1,IF(Berechnung!$B$10<>0,_xlfn.NORM.DIST($A128,0,Berechnung!$B$10,TRUE),0))","v":1},{"$f":"IF(AND($A128=0,Berechnung!$B$11=0),1,IF(Berechnung!$B$11<>0,_xlfn.NORM.DIST($A128,0,Berechnung!$B$11,FALSE),0))","v":0},{"$f":"IF(AND($A128>=0,Berechnung!$B$11=0),1,IF(Berechnung!$B$11<>0,_xlfn.NORM.DIST($A128,0,Berechnung!$B$11,TRUE),0))","v":1},{"$f":"Demonstrator!$J$19*'Daten Diagramm'!H128+Demonstrator!$J$24*'Daten Diagramm'!L128","v":3.1785209205331867E-14},{"$f":"Demonstrator!$J$19*'Daten Diagramm'!I128+Demonstrator!$J$24*'Daten Diagramm'!M128","v":0.99999999999993672}]
[106,{"$f":"IF(AND(A129=0,Berechnung!$B$3=0),1,IF(Berechnung!$B$3<>0,_xlfn.NORM.DIST(A129,0,Berechnung!$B$3,FALSE),0))","v":3.3485759767952063E-32},{"$f":"IF(AND($A129>=0,Berechnung!$B$3=0),1,IF(Berechnung!$B$3<>0,_xlfn.NORM.DIST($A129,0,Berechnung!$B$3,TRUE),0))","v":1},{"$f":"IF(AND($A129=0,Berechnung!$B$4=0),1,IF(Berechnung!$B$4<>0,_xlfn.NORM.DIST($A129,0,Berechnung!$B$4,FALSE),0))","v":3.3485759767952063E-32},{"$f":"IF(AND($A129>=0,Berechnung!$B$4=0),1,IF(Berechnung!$B$4<>0,_xlfn.NORM.DIST($A129,0,Berechnung!$B$4,TRUE),0))","v":1},{"$f":"IF(AND($A129=0,Berechnung!$B$5=0),1,IF(Berechnung!$B$5<>0,_xlfn.NORM.DIST($A129,0,Berechnung!$B$5,FALSE),0))","v":9.5928672871480164E-14},{"$f":"IF(AND($A129>=0,Berechnung!$B$5=0),1,IF(Berechnung!$B$5<>0,_xlfn.NORM.DIST($A129,0,Berechnung!$B$5,TRUE),0))","v":0.99999999999981071},{"$f":"IF(AND($A129=0,Berechnung!$B$6=0),1,IF(Berechnung!$B$6<>0,_xlfn.NORM.DIST($A129,0,Berechnung!$B$6,FALSE),0))","v":9.6865146662997982E-14},{"$f":"IF(AND($A129>=0,Berechnung!$B$6=0),1,IF(Berechnung!$B$6<>0,_xlfn.NORM.DIST($A129,0,Berechnung!$B$6,TRUE),0))","v":0.99999999999980882},{"$f":"IF(AND($A129=0,Berechnung!$B$7=0),1,IF(Berechnung!$B$7<>0,_xlfn.NORM.DIST($A129,0,Berechnung!$B$7,FALSE),0))","v":3.3485759767952063E-32},{"$f":"IF(AND($A129>=0,Berechnung!$B$7=0),1,IF(Berechnung!$B$7<>0,_xlfn.NORM.DIST($A129,0,Berechnung!$B$7,TRUE),0))","v":1},{"$f":"IF(AND($A129=0,Berechnung!$B$8=0),1,IF(Berechnung!$B$8<>0,_xlfn.NORM.DIST($A129,0,Berechnung!$B$8,FALSE),0))","v":3.3485759767952063E-32},{"$f":"IF(AND($A129>=0,Berechnung!$B$8=0),1,IF(Berechnung!$B$8<>0,_xlfn.NORM.DIST($A129,0,Berechnung!$B$8,TRUE),0))","v":1},{"$f":"IF(AND($A129=0,Berechnung!$B$9=0),1,IF(Berechnung!$B$9<>0,_xlfn.NORM.DIST($A129,0,Berechnung!$B$9,FALSE),0))","v":7.4335317594100586E-25},{"$f":"IF(AND($A129>=0,Berechnung!$B$9=0),1,IF(Berechnung!$B$9<>0,_xlfn.NORM.DIST($A129,0,Berechnung!$B$9,TRUE),0))","v":1},{"$f":"IF(AND($A129=0,Berechnung!$B$10=0),1,IF(Berechnung!$B$10<>0,_xlfn.NORM.DIST($A129,0,Berechnung!$B$10,FALSE),0))","v":9.4538607963498757E-21},{"$f":"IF(AND($A129>=0,Berechnung!$B$10=0),1,IF(Berechnung!$B$10<>0,_xlfn.NORM.DIST($A129,0,Berechnung!$B$10,TRUE),0))","v":1},{"$f":"IF(AND($A129=0,Berechnung!$B$11=0),1,IF(Berechnung!$B$11<>0,_xlfn.NORM.DIST($A129,0,Berechnung!$B$11,FALSE),0))","v":0},{"$f":"IF(AND($A129>=0,Berechnung!$B$11=0),1,IF(Berechnung!$B$11<>0,_xlfn.NORM.DIST($A129,0,Berechnung!$B$11,TRUE),0))","v":1},{"$f":"Demonstrator!$J$19*'Daten Diagramm'!H129+Demonstrator!$J$24*'Daten Diagramm'!L129","v":1.9373029332599593E-14},{"$f":"Demonstrator!$J$19*'Daten Diagramm'!I129+Demonstrator!$J$24*'Daten Diagramm'!M129","v":0.99999999999996181}]
[107,{"$f":"IF(AND(A130=0,Berechnung!$B$3=0),1,IF(Berechnung!$B$3<>0,_xlfn.NORM.DIST(A130,0,Berechnung!$B$3,FALSE),0))","v":8.9917316731779711E-33},{"$f":"IF(AND($A130>=0,Berechnung!$B$3=0),1,IF(Berechnung!$B$3<>0,_xlfn.NORM.DIST($A130,0,Berechnung!$B$3,TRUE),0))","v":1},{"$f":"IF(AND($A130=0,Berechnung!$B$4=0),1,IF(Berechnung!$B$4<>0,_xlfn.NORM.DIST($A130,0,Berechnung!$B$4,FALSE),0))","v":8.9917316731779711E-33},{"$f":"IF(AND($A130>=0,Berechnung!$B$4=0),1,IF(Berechnung!$B$4<>0,_xlfn.NORM.DIST($A130,0,Berechnung!$B$4,TRUE),0))","v":1},{"$f":"IF(AND($A130=0,Berechnung!$B$5=0),1,IF(Berechnung!$B$5<>0,_xlfn.NORM.DIST($A130,0,Berechnung!$B$5,FALSE),0))","v":5.8183681242096487E-14},{"$f":"IF(AND($A130>=0,Berechnung!$B$5=0),1,IF(Berechnung!$B$5<>0,_xlfn.NORM.DIST($A130,0,Berechnung!$B$5,TRUE),0))","v":0.9999999999998862},{"$f":"IF(AND($A130=0,Berechnung!$B$6=0),1,IF(Berechnung!$B$6<>0,_xlfn.NORM.DIST($A130,0,Berechnung!$B$6,FALSE),0))","v":5.8762711381162612E-14},{"$f":"IF(AND($A130>=0,Berechnung!$B$6=0),1,IF(Berechnung!$B$6<>0,_xlfn.NORM.DIST($A130,0,Berechnung!$B$6,TRUE),0))","v":0.99999999999988509},{"$f":"IF(AND($A130=0,Berechnung!$B$7=0),1,IF(Berechnung!$B$7<>0,_xlfn.NORM.DIST($A130,0,Berechnung!$B$7,FALSE),0))","v":8.9917316731779711E-33},{"$f":"IF(AND($A130>=0,Berechnung!$B$7=0),1,IF(Berechnung!$B$7<>0,_xlfn.NORM.DIST($A130,0,Berechnung!$B$7,TRUE),0))","v":1},{"$f":"IF(AND($A130=0,Berechnung!$B$8=0),1,IF(Berechnung!$B$8<>0,_xlfn.NORM.DIST($A130,0,Berechnung!$B$8,FALSE),0))","v":8.9917316731779711E-33},{"$f":"IF(AND($A130>=0,Berechnung!$B$8=0),1,IF(Berechnung!$B$8<>0,_xlfn.NORM.DIST($A130,0,Berechnung!$B$8,TRUE),0))","v":1},{"$f":"IF(AND($A130=0,Berechnung!$B$9=0),1,IF(Berechnung!$B$9<>0,_xlfn.NORM.DIST($A130,0,Berechnung!$B$9,FALSE),0))","v":2.7580631529000383E-25},{"$f":"IF(AND($A130>=0,Berechnung!$B$9=0),1,IF(Berechnung!$B$9<>0,_xlfn.NORM.DIST($A130,0,Berechnung!$B$9,TRUE),0))","v":1},{"$f":"IF(AND($A130=0,Berechnung!$B$10=0),1,IF(Berechnung!$B$10<>0,_xlfn.NORM.DIST($A130,0,Berechnung!$B$10,FALSE),0))","v":4.2039291678735853E-21},{"$f":"IF(AND($A130>=0,Berechnung!$B$10=0),1,IF(Berechnung!$B$10<>0,_xlfn.NORM.DIST($A130,0,Berechnung!$B$10,TRUE),0))","v":1},{"$f":"IF(AND($A130=0,Berechnung!$B$11=0),1,IF(Berechnung!$B$11<>0,_xlfn.NORM.DIST($A130,0,Berechnung!$B$11,FALSE),0))","v":0},{"$f":"IF(AND($A130>=0,Berechnung!$B$11=0),1,IF(Berechnung!$B$11<>0,_xlfn.NORM.DIST($A130,0,Berechnung!$B$11,TRUE),0))","v":1},{"$f":"Demonstrator!$J$19*'Daten Diagramm'!H130+Demonstrator!$J$24*'Daten Diagramm'!L130","v":1.175254227623252E-14},{"$f":"Demonstrator!$J$19*'Daten Diagramm'!I130+Demonstrator!$J$24*'Daten Diagramm'!M130","v":0.99999999999997702}]
[108,{"$f":"IF(AND(A131=0,Berechnung!$B$3=0),1,IF(Berechnung!$B$3<>0,_xlfn.NORM.DIST(A131,0,Berechnung!$B$3,FALSE),0))","v":2.3848708174034004E-33},{"$f":"IF(AND($A131>=0,Berechnung!$B$3=0),1,IF(Berechnung!$B$3<>0,_xlfn.NORM.DIST($A131,0,Berechnung!$B$3,TRUE),0))","v":1},{"$f":"IF(AND($A131=0,Berechnung!$B$4=0),1,IF(Berechnung!$B$4<>0,_xlfn.NORM.DIST($A131,0,Berechnung!$B$4,FALSE),0))","v":2.3848708174034004E-33},{"$f":"IF(AND($A131>=0,Berechnung!$B$4=0),1,IF(Berechnung!$B$4<>0,_xlfn.NORM.DIST($A131,0,Berechnung!$B$4,TRUE),0))","v":1},{"$f":"IF(AND($A131=0,Berechnung!$B$5=0),1,IF(Berechnung!$B$5<>0,_xlfn.NORM.DIST($A131,0,Berechnung!$B$5,FALSE),0))","v":3.5124893257273248E-14},{"$f":"IF(AND($A131>=0,Berechnung!$B$5=0),1,IF(Berechnung!$B$5<>0,_xlfn.NORM.DIST($A131,0,Berechnung!$B$5,TRUE),0))","v":0.99999999999993194},{"$f":"IF(AND($A131=0,Berechnung!$B$6=0),1,IF(Berechnung!$B$6<>0,_xlfn.NORM.DIST($A131,0,Berechnung!$B$6,FALSE),0))","v":3.5481170362973717E-14},{"$f":"IF(AND($A131>=0,Berechnung!$B$6=0),1,IF(Berechnung!$B$6<>0,_xlfn.NORM.DIST($A131,0,Berechnung!$B$6,TRUE),0))","v":0.99999999999993117},{"$f":"IF(AND($A131=0,Berechnung!$B$7=0),1,IF(Berechnung!$B$7<>0,_xlfn.NORM.DIST($A131,0,Berechnung!$B$7,FALSE),0))","v":2.3848708174034004E-33},{"$f":"IF(AND($A131>=0,Berechnung!$B$7=0),1,IF(Berechnung!$B$7<>0,_xlfn.NORM.DIST($A131,0,Berechnung!$B$7,TRUE),0))","v":1},{"$f":"IF(AND($A131=0,Berechnung!$B$8=0),1,IF(Berechnung!$B$8<>0,_xlfn.NORM.DIST($A131,0,Berechnung!$B$8,FALSE),0))","v":2.3848708174034004E-33},{"$f":"IF(AND($A131>=0,Berechnung!$B$8=0),1,IF(Berechnung!$B$8<>0,_xlfn.NORM.DIST($A131,0,Berechnung!$B$8,TRUE),0))","v":1},{"$f":"IF(AND($A131=0,Berechnung!$B$9=0),1,IF(Berechnung!$B$9<>0,_xlfn.NORM.DIST($A131,0,Berechnung!$B$9,FALSE),0))","v":1.0138415907066941E-25},{"$f":"IF(AND($A131>=0,Berechnung!$B$9=0),1,IF(Berechnung!$B$9<>0,_xlfn.NORM.DIST($A131,0,Berechnung!$B$9,TRUE),0))","v":1},{"$f":"IF(AND($A131=0,Berechnung!$B$10=0),1,IF(Berechnung!$B$10<>0,_xlfn.NORM.DIST($A131,0,Berechnung!$B$10,FALSE),0))","v":1.8552261025414489E-21},{"$f":"IF(AND($A131>=0,Berechnung!$B$10=0),1,IF(Berechnung!$B$10<>0,_xlfn.NORM.DIST($A131,0,Berechnung!$B$10,TRUE),0))","v":1},{"$f":"IF(AND($A131=0,Berechnung!$B$11=0),1,IF(Berechnung!$B$11<>0,_xlfn.NORM.DIST($A131,0,Berechnung!$B$11,FALSE),0))","v":0},{"$f":"IF(AND($A131>=0,Berechnung!$B$11=0),1,IF(Berechnung!$B$11<>0,_xlfn.NORM.DIST($A131,0,Berechnung!$B$11,TRUE),0))","v":1},{"$f":"Demonstrator!$J$19*'Daten Diagramm'!H131+Demonstrator!$J$24*'Daten Diagramm'!L131","v":7.0962340725947416E-15},{"$f":"Demonstrator!$J$19*'Daten Diagramm'!I131+Demonstrator!$J$24*'Daten Diagramm'!M131","v":0.99999999999998623}]
[109,{"$f":"IF(AND(A132=0,Berechnung!$B$3=0),1,IF(Berechnung!$B$3<>0,_xlfn.NORM.DIST(A132,0,Berechnung!$B$3,FALSE),0))","v":6.24776549121787E-34},{"$f":"IF(AND($A132>=0,Berechnung!$B$3=0),1,IF(Berechnung!$B$3<>0,_xlfn.NORM.DIST($A132,0,Berechnung!$B$3,TRUE),0))","v":1},{"$f":"IF(AND($A132=0,Berechnung!$B$4=0),1,IF(Berechnung!$B$4<>0,_xlfn.NORM.DIST($A132,0,Berechnung!$B$4,FALSE),0))","v":6.24776549121787E-34},{"$f":"IF(AND($A132>=0,Berechnung!$B$4=0),1,IF(Berechnung!$B$4<>0,_xlfn.NORM.DIST($A132,0,Berechnung!$B$4,TRUE),0))","v":1},{"$f":"IF(AND($A132=0,Berechnung!$B$5=0),1,IF(Berechnung!$B$5<>0,_xlfn.NORM.DIST($A132,0,Berechnung!$B$5,FALSE),0))","v":2.1105220297555983E-14},{"$f":"IF(AND($A132>=0,Berechnung!$B$5=0),1,IF(Berechnung!$B$5<>0,_xlfn.NORM.DIST($A132,0,Berechnung!$B$5,TRUE),0))","v":0.99999999999995948},{"$f":"IF(AND($A132=0,Berechnung!$B$6=0),1,IF(Berechnung!$B$6<>0,_xlfn.NORM.DIST($A132,0,Berechnung!$B$6,FALSE),0))","v":2.1323371406839967E-14},{"$f":"IF(AND($A132>=0,Berechnung!$B$6=0),1,IF(Berechnung!$B$6<>0,_xlfn.NORM.DIST($A132,0,Berechnung!$B$6,TRUE),0))","v":0.99999999999995903},{"$f":"IF(AND($A132=0,Berechnung!$B$7=0),1,IF(Berechnung!$B$7<>0,_xlfn.NORM.DIST($A132,0,Berechnung!$B$7,FALSE),0))","v":6.24776549121787E-34},{"$f":"IF(AND($A132>=0,Berechnung!$B$7=0),1,IF(Berechnung!$B$7<>0,_xlfn.NORM.DIST($A132,0,Berechnung!$B$7,TRUE),0))","v":1},{"$f":"IF(AND($A132=0,Berechnung!$B$8=0),1,IF(Berechnung!$B$8<>0,_xlfn.NORM.DIST($A132,0,Berechnung!$B$8,FALSE),0))","v":6.24776549121787E-34},{"$f":"IF(AND($A132>=0,Berechnung!$B$8=0),1,IF(Berechnung!$B$8<>0,_xlfn.NORM.DIST($A132,0,Berechnung!$B$8,TRUE),0))","v":1},{"$f":"IF(AND($A132=0,Berechnung!$B$9=0),1,IF(Berechnung!$B$9<>0,_xlfn.NORM.DIST($A132,0,Berechnung!$B$9,FALSE),0))","v":3.6922652452854477E-26},{"$f":"IF(AND($A132>=0,Berechnung!$B$9=0),1,IF(Berechnung!$B$9<>0,_xlfn.NORM.DIST($A132,0,Berechnung!$B$9,TRUE),0))","v":1},{"$f":"IF(AND($A132=0,Berechnung!$B$10=0),1,IF(Berechnung!$B$10<>0,_xlfn.NORM.DIST($A132,0,Berechnung!$B$10,FALSE),0))","v":8.1251908644170276E-22},{"$f":"IF(AND($A132>=0,Berechnung!$B$10=0),1,IF(Berechnung!$B$10<>0,_xlfn.NORM.DIST($A132,0,Berechnung!$B$10,TRUE),0))","v":1},{"$f":"IF(AND($A132=0,Berechnung!$B$11=0),1,IF(Berechnung!$B$11<>0,_xlfn.NORM.DIST($A132,0,Berechnung!$B$11,FALSE),0))","v":0},{"$f":"IF(AND($A132>=0,Berechnung!$B$11=0),1,IF(Berechnung!$B$11<>0,_xlfn.NORM.DIST($A132,0,Berechnung!$B$11,TRUE),0))","v":1},{"$f":"Demonstrator!$J$19*'Daten Diagramm'!H132+Demonstrator!$J$24*'Daten Diagramm'!L132","v":4.264674281367992E-15},{"$f":"Demonstrator!$J$19*'Daten Diagramm'!I132+Demonstrator!$J$24*'Daten Diagramm'!M132","v":0.99999999999999178}]
[110,{"$f":"IF(AND(A133=0,Berechnung!$B$3=0),1,IF(Berechnung!$B$3<>0,_xlfn.NORM.DIST(A133,0,Berechnung!$B$3,FALSE),0))","v":1.6166757366512832E-34},{"$f":"IF(AND($A133>=0,Berechnung!$B$3=0),1,IF(Berechnung!$B$3<>0,_xlfn.NORM.DIST($A133,0,Berechnung!$B$3,TRUE),0))","v":1},{"$f":"IF(AND($A133=0,Berechnung!$B$4=0),1,IF(Berechnung!$B$4<>0,_xlfn.NORM.DIST($A133,0,Berechnung!$B$4,FALSE),0))","v":1.6166757366512832E-34},{"$f":"IF(AND($A133>=0,Berechnung!$B$4=0),1,IF(Berechnung!$B$4<>0,_xlfn.NORM.DIST($A133,0,Berechnung!$B$4,TRUE),0))","v":1},{"$f":"IF(AND($A133=0,Berechnung!$B$5=0),1,IF(Berechnung!$B$5<>0,_xlfn.NORM.DIST($A133,0,Berechnung!$B$5,FALSE),0))","v":1.2621931679124661E-14},{"$f":"IF(AND($A133>=0,Berechnung!$B$5=0),1,IF(Berechnung!$B$5<>0,_xlfn.NORM.DIST($A133,0,Berechnung!$B$5,TRUE),0))","v":0.99999999999997602},{"$f":"IF(AND($A133=0,Berechnung!$B$6=0),1,IF(Berechnung!$B$6<>0,_xlfn.NORM.DIST($A133,0,Berechnung!$B$6,FALSE),0))","v":1.275485807054093E-14},{"$f":"IF(AND($A133>=0,Berechnung!$B$6=0),1,IF(Berechnung!$B$6<>0,_xlfn.NORM.DIST($A133,0,Berechnung!$B$6,TRUE),0))","v":0.99999999999997569},{"$f":"IF(AND($A133=0,Berechnung!$B$7=0),1,IF(Berechnung!$B$7<>0,_xlfn.NORM.DIST($A133,0,Berechnung!$B$7,FALSE),0))","v":1.6166757366512832E-34},{"$f":"IF(AND($A133>=0,Berechnung!$B$7=0),1,IF(Berechnung!$B$7<>0,_xlfn.NORM.DIST($A133,0,Berechnung!$B$7,TRUE),0))","v":1},{"$f":"IF(AND($A133=0,Berechnung!$B$8=0),1,IF(Berechnung!$B$8<>0,_xlfn.NORM.DIST($A133,0,Berechnung!$B$8,FALSE),0))","v":1.6166757366512832E-34},{"$f":"IF(AND($A133>=0,Berechnung!$B$8=0),1,IF(Berechnung!$B$8<>0,_xlfn.NORM.DIST($A133,0,Berechnung!$B$8,TRUE),0))","v":1},{"$f":"IF(AND($A133=0,Berechnung!$B$9=0),1,IF(Berechnung!$B$9<>0,_xlfn.NORM.DIST($A133,0,Berechnung!$B$9,FALSE),0))","v":1.3322096448839878E-26},{"$f":"IF(AND($A133>=0,Berechnung!$B$9=0),1,IF(Berechnung!$B$9<>0,_xlfn.NORM.DIST($A133,0,Berechnung!$B$9,TRUE),0))","v":1},{"$f":"IF(AND($A133=0,Berechnung!$B$10=0),1,IF(Berechnung!$B$10<>0,_xlfn.NORM.DIST($A133,0,Berechnung!$B$10,FALSE),0))","v":3.5315516829095963E-22},{"$f":"IF(AND($A133>=0,Berechnung!$B$10=0),1,IF(Berechnung!$B$10<>0,_xlfn.NORM.DIST($A133,0,Berechnung!$B$10,TRUE),0))","v":1},{"$f":"IF(AND($A133=0,Berechnung!$B$11=0),1,IF(Berechnung!$B$11<>0,_xlfn.NORM.DIST($A133,0,Berechnung!$B$11,FALSE),0))","v":0},{"$f":"IF(AND($A133>=0,Berechnung!$B$11=0),1,IF(Berechnung!$B$11<>0,_xlfn.NORM.DIST($A133,0,Berechnung!$B$11,TRUE),0))","v":1},{"$f":"Demonstrator!$J$19*'Daten Diagramm'!H133+Demonstrator!$J$24*'Daten Diagramm'!L133","v":2.5509716141081855E-15},{"$f":"Demonstrator!$J$19*'Daten Diagramm'!I133+Demonstrator!$J$24*'Daten Diagramm'!M133","v":0.99999999999999512}]
[111,{"$f":"IF(AND(A134=0,Berechnung!$B$3=0),1,IF(Berechnung!$B$3<>0,_xlfn.NORM.DIST(A134,0,Berechnung!$B$3,FALSE),0))","v":4.1319918907007725E-35},{"$f":"IF(AND($A134>=0,Berechnung!$B$3=0),1,IF(Berechnung!$B$3<>0,_xlfn.NORM.DIST($A134,0,Berechnung!$B$3,TRUE),0))","v":1},{"$f":"IF(AND($A134=0,Berechnung!$B$4=0),1,IF(Berechnung!$B$4<>0,_xlfn.NORM.DIST($A134,0,Berechnung!$B$4,FALSE),0))","v":4.1319918907007725E-35},{"$f":"IF(AND($A134>=0,Berechnung!$B$4=0),1,IF(Berechnung!$B$4<>0,_xlfn.NORM.DIST($A134,0,Berechnung!$B$4,TRUE),0))","v":1},{"$f":"IF(AND($A134=0,Berechnung!$B$5=0),1,IF(Berechnung!$B$5<>0,_xlfn.NORM.DIST($A134,0,Berechnung!$B$5,FALSE),0))","v":7.5131631405307719E-15},{"$f":"IF(AND($A134>=0,Berechnung!$B$5=0),1,IF(Berechnung!$B$5<>0,_xlfn.NORM.DIST($A134,0,Berechnung!$B$5,TRUE),0))","v":0.99999999999998579},{"$f":"IF(AND($A134=0,Berechnung!$B$6=0),1,IF(Berechnung!$B$6<>0,_xlfn.NORM.DIST($A134,0,Berechnung!$B$6,FALSE),0))","v":7.5937660566713046E-15},{"$f":"IF(AND($A134>=0,Berechnung!$B$6=0),1,IF(Berechnung!$B$6<>0,_xlfn.NORM.DIST($A134,0,Berechnung!$B$6,TRUE),0))","v":0.99999999999998568},{"$f":"IF(AND($A134=0,Berechnung!$B$7=0),1,IF(Berechnung!$B$7<>0,_xlfn.NORM.DIST($A134,0,Berechnung!$B$7,FALSE),0))","v":4.1319918907007725E-35},{"$f":"IF(AND($A134>=0,Berechnung!$B$7=0),1,IF(Berechnung!$B$7<>0,_xlfn.NORM.DIST($A134,0,Berechnung!$B$7,TRUE),0))","v":1},{"$f":"IF(AND($A134=0,Berechnung!$B$8=0),1,IF(Berechnung!$B$8<>0,_xlfn.NORM.DIST($A134,0,Berechnung!$B$8,FALSE),0))","v":4.1319918907007725E-35},{"$f":"IF(AND($A134>=0,Berechnung!$B$8=0),1,IF(Berechnung!$B$8<>0,_xlfn.NORM.DIST($A134,0,Berechnung!$B$8,TRUE),0))","v":1},{"$f":"IF(AND($A134=0,Berechnung!$B$9=0),1,IF(Berechnung!$B$9<>0,_xlfn.NORM.DIST($A134,0,Berechnung!$B$9,FALSE),0))","v":4.7622166241793119E-27},{"$f":"IF(AND($A134>=0,Berechnung!$B$9=0),1,IF(Berechnung!$B$9<>0,_xlfn.NORM.DIST($A134,0,Berechnung!$B$9,TRUE),0))","v":1},{"$f":"IF(AND($A134=0,Berechnung!$B$10=0),1,IF(Berechnung!$B$10<>0,_xlfn.NORM.DIST($A134,0,Berechnung!$B$10,FALSE),0))","v":1.5233259154653991E-22},{"$f":"IF(AND($A134>=0,Berechnung!$B$10=0),1,IF(Berechnung!$B$10<>0,_xlfn.NORM.DIST($A134,0,Berechnung!$B$10,TRUE),0))","v":1},{"$f":"IF(AND($A134=0,Berechnung!$B$11=0),1,IF(Berechnung!$B$11<>0,_xlfn.NORM.DIST($A134,0,Berechnung!$B$11,FALSE),0))","v":0},{"$f":"IF(AND($A134>=0,Berechnung!$B$11=0),1,IF(Berechnung!$B$11<>0,_xlfn.NORM.DIST($A134,0,Berechnung!$B$11,TRUE),0))","v":1},{"$f":"Demonstrator!$J$19*'Daten Diagramm'!H134+Demonstrator!$J$24*'Daten Diagramm'!L134","v":1.5187532113342605E-15},{"$f":"Demonstrator!$J$19*'Daten Diagramm'!I134+Demonstrator!$J$24*'Daten Diagramm'!M134","v":0.99999999999999711}]
[112,{"$f":"IF(AND(A135=0,Berechnung!$B$3=0),1,IF(Berechnung!$B$3<>0,_xlfn.NORM.DIST(A135,0,Berechnung!$B$3,FALSE),0))","v":1.0431201634418182E-35},{"$f":"IF(AND($A135>=0,Berechnung!$B$3=0),1,IF(Berechnung!$B$3<>0,_xlfn.NORM.DIST($A135,0,Berechnung!$B$3,TRUE),0))","v":1},{"$f":"IF(AND($A135=0,Berechnung!$B$4=0),1,IF(Berechnung!$B$4<>0,_xlfn.NORM.DIST($A135,0,Berechnung!$B$4,FALSE),0))","v":1.0431201634418182E-35},{"$f":"IF(AND($A135>=0,Berechnung!$B$4=0),1,IF(Berechnung!$B$4<>0,_xlfn.NORM.DIST($A135,0,Berechnung!$B$4,TRUE),0))","v":1},{"$f":"IF(AND($A135=0,Berechnung!$B$5=0),1,IF(Berechnung!$B$5<>0,_xlfn.NORM.DIST($A135,0,Berechnung!$B$5,FALSE),0))","v":4.4512385761935043E-15},{"$f":"IF(AND($A135>=0,Berechnung!$B$5=0),1,IF(Berechnung!$B$5<>0,_xlfn.NORM.DIST($A135,0,Berechnung!$B$5,TRUE),0))","v":0.99999999999999167},{"$f":"IF(AND($A135=0,Berechnung!$B$6=0),1,IF(Berechnung!$B$6<>0,_xlfn.NORM.DIST($A135,0,Berechnung!$B$6,FALSE),0))","v":4.4998767737816066E-15},{"$f":"IF(AND($A135>=0,Berechnung!$B$6=0),1,IF(Berechnung!$B$6<>0,_xlfn.NORM.DIST($A135,0,Berechnung!$B$6,TRUE),0))","v":0.99999999999999156},{"$f":"IF(AND($A135=0,Berechnung!$B$7=0),1,IF(Berechnung!$B$7<>0,_xlfn.NORM.DIST($A135,0,Berechnung!$B$7,FALSE),0))","v":1.0431201634418182E-35},{"$f":"IF(AND($A135>=0,Berechnung!$B$7=0),1,IF(Berechnung!$B$7<>0,_xlfn.NORM.DIST($A135,0,Berechnung!$B$7,TRUE),0))","v":1},{"$f":"IF(AND($A135=0,Berechnung!$B$8=0),1,IF(Berechnung!$B$8<>0,_xlfn.NORM.DIST($A135,0,Berechnung!$B$8,FALSE),0))","v":1.0431201634418182E-35},{"$f":"IF(AND($A135>=0,Berechnung!$B$8=0),1,IF(Berechnung!$B$8<>0,_xlfn.NORM.DIST($A135,0,Berechnung!$B$8,TRUE),0))","v":1},{"$f":"IF(AND($A135=0,Berechnung!$B$9=0),1,IF(Berechnung!$B$9<>0,_xlfn.NORM.DIST($A135,0,Berechnung!$B$9,FALSE),0))","v":1.6865631690994909E-27},{"$f":"IF(AND($A135>=0,Berechnung!$B$9=0),1,IF(Berechnung!$B$9<>0,_xlfn.NORM.DIST($A135,0,Berechnung!$B$9,TRUE),0))","v":1},{"$f":"IF(AND($A135=0,Berechnung!$B$10=0),1,IF(Berechnung!$B$10<>0,_xlfn.NORM.DIST($A135,0,Berechnung!$B$10,FALSE),0))","v":6.5210174759005801E-23},{"$f":"IF(AND($A135>=0,Berechnung!$B$10=0),1,IF(Berechnung!$B$10<>0,_xlfn.NORM.DIST($A135,0,Berechnung!$B$10,TRUE),0))","v":1},{"$f":"IF(AND($A135=0,Berechnung!$B$11=0),1,IF(Berechnung!$B$11<>0,_xlfn.NORM.DIST($A135,0,Berechnung!$B$11,FALSE),0))","v":0},{"$f":"IF(AND($A135>=0,Berechnung!$B$11=0),1,IF(Berechnung!$B$11<>0,_xlfn.NORM.DIST($A135,0,Berechnung!$B$11,TRUE),0))","v":1},{"$f":"Demonstrator!$J$19*'Daten Diagramm'!H135+Demonstrator!$J$24*'Daten Diagramm'!L135","v":8.9997535475632119E-16},{"$f":"Demonstrator!$J$19*'Daten Diagramm'!I135+Demonstrator!$J$24*'Daten Diagramm'!M135","v":0.99999999999999833}]
[113,{"$f":"IF(AND(A136=0,Berechnung!$B$3=0),1,IF(Berechnung!$B$3<>0,_xlfn.NORM.DIST(A136,0,Berechnung!$B$3,FALSE),0))","v":2.6010431677435236E-36},{"$f":"IF(AND($A136>=0,Berechnung!$B$3=0),1,IF(Berechnung!$B$3<>0,_xlfn.NORM.DIST($A136,0,Berechnung!$B$3,TRUE),0))","v":1},{"$f":"IF(AND($A136=0,Berechnung!$B$4=0),1,IF(Berechnung!$B$4<>0,_xlfn.NORM.DIST($A136,0,Berechnung!$B$4,FALSE),0))","v":2.6010431677435236E-36},{"$f":"IF(AND($A136>=0,Berechnung!$B$4=0),1,IF(Berechnung!$B$4<>0,_xlfn.NORM.DIST($A136,0,Berechnung!$B$4,TRUE),0))","v":1},{"$f":"IF(AND($A136=0,Berechnung!$B$5=0),1,IF(Berechnung!$B$5<>0,_xlfn.NORM.DIST($A136,0,Berechnung!$B$5,FALSE),0))","v":2.6248227634947392E-15},{"$f":"IF(AND($A136>=0,Berechnung!$B$5=0),1,IF(Berechnung!$B$5<>0,_xlfn.NORM.DIST($A136,0,Berechnung!$B$5,TRUE),0))","v":0.99999999999999512},{"$f":"IF(AND($A136=0,Berechnung!$B$6=0),1,IF(Berechnung!$B$6<>0,_xlfn.NORM.DIST($A136,0,Berechnung!$B$6,FALSE),0))","v":2.654030154024651E-15},{"$f":"IF(AND($A136>=0,Berechnung!$B$6=0),1,IF(Berechnung!$B$6<>0,_xlfn.NORM.DIST($A136,0,Berechnung!$B$6,TRUE),0))","v":0.99999999999999512},{"$f":"IF(AND($A136=0,Berechnung!$B$7=0),1,IF(Berechnung!$B$7<>0,_xlfn.NORM.DIST($A136,0,Berechnung!$B$7,FALSE),0))","v":2.6010431677435236E-36},{"$f":"IF(AND($A136>=0,Berechnung!$B$7=0),1,IF(Berechnung!$B$7<>0,_xlfn.NORM.DIST($A136,0,Berechnung!$B$7,TRUE),0))","v":1},{"$f":"IF(AND($A136=0,Berechnung!$B$8=0),1,IF(Berechnung!$B$8<>0,_xlfn.NORM.DIST($A136,0,Berechnung!$B$8,FALSE),0))","v":2.6010431677435236E-36},{"$f":"IF(AND($A136>=0,Berechnung!$B$8=0),1,IF(Berechnung!$B$8<>0,_xlfn.NORM.DIST($A136,0,Berechnung!$B$8,TRUE),0))","v":1},{"$f":"IF(AND($A136=0,Berechnung!$B$9=0),1,IF(Berechnung!$B$9<>0,_xlfn.NORM.DIST($A136,0,Berechnung!$B$9,FALSE),0))","v":5.9177003370378516E-28},{"$f":"IF(AND($A136>=0,Berechnung!$B$9=0),1,IF(Berechnung!$B$9<>0,_xlfn.NORM.DIST($A136,0,Berechnung!$B$9,TRUE),0))","v":1},{"$f":"IF(AND($A136=0,Berechnung!$B$10=0),1,IF(Berechnung!$B$10<>0,_xlfn.NORM.DIST($A136,0,Berechnung!$B$10,FALSE),0))","v":2.7703406014871231E-23},{"$f":"IF(AND($A136>=0,Berechnung!$B$10=0),1,IF(Berechnung!$B$10<>0,_xlfn.NORM.DIST($A136,0,Berechnung!$B$10,TRUE),0))","v":1},{"$f":"IF(AND($A136=0,Berechnung!$B$11=0),1,IF(Berechnung!$B$11<>0,_xlfn.NORM.DIST($A136,0,Berechnung!$B$11,FALSE),0))","v":0},{"$f":"IF(AND($A136>=0,Berechnung!$B$11=0),1,IF(Berechnung!$B$11<>0,_xlfn.NORM.DIST($A136,0,Berechnung!$B$11,TRUE),0))","v":1},{"$f":"Demonstrator!$J$19*'Daten Diagramm'!H136+Demonstrator!$J$24*'Daten Diagramm'!L136","v":5.3080603080493007E-16},{"$f":"Demonstrator!$J$19*'Daten Diagramm'!I136+Demonstrator!$J$24*'Daten Diagramm'!M136","v":0.999999999999999}]
[114,{"$f":"IF(AND(A137=0,Berechnung!$B$3=0),1,IF(Berechnung!$B$3<>0,_xlfn.NORM.DIST(A137,0,Berechnung!$B$3,FALSE),0))","v":6.40617973457191E-37},{"$f":"IF(AND($A137>=0,Berechnung!$B$3=0),1,IF(Berechnung!$B$3<>0,_xlfn.NORM.DIST($A137,0,Berechnung!$B$3,TRUE),0))","v":1},{"$f":"IF(AND($A137=0,Berechnung!$B$4=0),1,IF(Berechnung!$B$4<>0,_xlfn.NORM.DIST($A137,0,Berechnung!$B$4,FALSE),0))","v":6.40617973457191E-37},{"$f":"IF(AND($A137>=0,Berechnung!$B$4=0),1,IF(Berechnung!$B$4<>0,_xlfn.NORM.DIST($A137,0,Berechnung!$B$4,TRUE),0))","v":1},{"$f":"IF(AND($A137=0,Berechnung!$B$5=0),1,IF(Berechnung!$B$5<>0,_xlfn.NORM.DIST($A137,0,Berechnung!$B$5,FALSE),0))","v":1.5405654514979265E-15},{"$f":"IF(AND($A137>=0,Berechnung!$B$5=0),1,IF(Berechnung!$B$5<>0,_xlfn.NORM.DIST($A137,0,Berechnung!$B$5,TRUE),0))","v":0.99999999999999711},{"$f":"IF(AND($A137=0,Berechnung!$B$6=0),1,IF(Berechnung!$B$6<>0,_xlfn.NORM.DIST($A137,0,Berechnung!$B$6,FALSE),0))","v":1.5580195715254488E-15},{"$f":"IF(AND($A137>=0,Berechnung!$B$6=0),1,IF(Berechnung!$B$6<>0,_xlfn.NORM.DIST($A137,0,Berechnung!$B$6,TRUE),0))","v":0.99999999999999711},{"$f":"IF(AND($A137=0,Berechnung!$B$7=0),1,IF(Berechnung!$B$7<>0,_xlfn.NORM.DIST($A137,0,Berechnung!$B$7,FALSE),0))","v":6.40617973457191E-37},{"$f":"IF(AND($A137>=0,Berechnung!$B$7=0),1,IF(Berechnung!$B$7<>0,_xlfn.NORM.DIST($A137,0,Berechnung!$B$7,TRUE),0))","v":1},{"$f":"IF(AND($A137=0,Berechnung!$B$8=0),1,IF(Berechnung!$B$8<>0,_xlfn.NORM.DIST($A137,0,Berechnung!$B$8,FALSE),0))","v":6.40617973457191E-37},{"$f":"IF(AND($A137>=0,Berechnung!$B$8=0),1,IF(Berechnung!$B$8<>0,_xlfn.NORM.DIST($A137,0,Berechnung!$B$8,TRUE),0))","v":1},{"$f":"IF(AND($A137=0,Berechnung!$B$9=0),1,IF(Berechnung!$B$9<>0,_xlfn.NORM.DIST($A137,0,Berechnung!$B$9,FALSE),0))","v":2.0571228053568909E-28},{"$f":"IF(AND($A137>=0,Berechnung!$B$9=0),1,IF(Berechnung!$B$9<>0,_xlfn.NORM.DIST($A137,0,Berechnung!$B$9,TRUE),0))","v":1},{"$f":"IF(AND($A137=0,Berechnung!$B$10=0),1,IF(Berechnung!$B$10<>0,_xlfn.NORM.DIST($A137,0,Berechnung!$B$10,FALSE),0))","v":1.1680091345740069E-23},{"$f":"IF(AND($A137>=0,Berechnung!$B$10=0),1,IF(Berechnung!$B$10<>0,_xlfn.NORM.DIST($A137,0,Berechnung!$B$10,TRUE),0))","v":1},{"$f":"IF(AND($A137=0,Berechnung!$B$11=0),1,IF(Berechnung!$B$11<>0,_xlfn.NORM.DIST($A137,0,Berechnung!$B$11,FALSE),0))","v":0},{"$f":"IF(AND($A137>=0,Berechnung!$B$11=0),1,IF(Berechnung!$B$11<>0,_xlfn.NORM.DIST($A137,0,Berechnung!$B$11,TRUE),0))","v":1},{"$f":"Demonstrator!$J$19*'Daten Diagramm'!H137+Demonstrator!$J$24*'Daten Diagramm'!L137","v":3.1160391430508968E-16},{"$f":"Demonstrator!$J$19*'Daten Diagramm'!I137+Demonstrator!$J$24*'Daten Diagramm'!M137","v":0.99999999999999944}]
[115,{"$f":"IF(AND(A138=0,Berechnung!$B$3=0),1,IF(Berechnung!$B$3<>0,_xlfn.NORM.DIST(A138,0,Berechnung!$B$3,FALSE),0))","v":1.5584361665152368E-37},{"$f":"IF(AND($A138>=0,Berechnung!$B$3=0),1,IF(Berechnung!$B$3<>0,_xlfn.NORM.DIST($A138,0,Berechnung!$B$3,TRUE),0))","v":1},{"$f":"IF(AND($A138=0,Berechnung!$B$4=0),1,IF(Berechnung!$B$4<>0,_xlfn.NORM.DIST($A138,0,Berechnung!$B$4,FALSE),0))","v":1.5584361665152368E-37},{"$f":"IF(AND($A138>=0,Berechnung!$B$4=0),1,IF(Berechnung!$B$4<>0,_xlfn.NORM.DIST($A138,0,Berechnung!$B$4,TRUE),0))","v":1},{"$f":"IF(AND($A138=0,Berechnung!$B$5=0),1,IF(Berechnung!$B$5<>0,_xlfn.NORM.DIST($A138,0,Berechnung!$B$5,FALSE),0))","v":8.9995622105259843E-16},{"$f":"IF(AND($A138>=0,Berechnung!$B$5=0),1,IF(Berechnung!$B$5<>0,_xlfn.NORM.DIST($A138,0,Berechnung!$B$5,TRUE),0))","v":0.99999999999999833},{"$f":"IF(AND($A138=0,Berechnung!$B$6=0),1,IF(Berechnung!$B$6<>0,_xlfn.NORM.DIST($A138,0,Berechnung!$B$6,FALSE),0))","v":9.1033615011671889E-16},{"$f":"IF(AND($A138>=0,Berechnung!$B$6=0),1,IF(Berechnung!$B$6<>0,_xlfn.NORM.DIST($A138,0,Berechnung!$B$6,TRUE),0))","v":0.99999999999999833},{"$f":"IF(AND($A138=0,Berechnung!$B$7=0),1,IF(Berechnung!$B$7<>0,_xlfn.NORM.DIST($A138,0,Berechnung!$B$7,FALSE),0))","v":1.5584361665152368E-37},{"$f":"IF(AND($A138>=0,Berechnung!$B$7=0),1,IF(Berechnung!$B$7<>0,_xlfn.NORM.DIST($A138,0,Berechnung!$B$7,TRUE),0))","v":1},{"$f":"IF(AND($A138=0,Berechnung!$B$8=0),1,IF(Berechnung!$B$8<>0,_xlfn.NORM.DIST($A138,0,Berechnung!$B$8,FALSE),0))","v":1.5584361665152368E-37},{"$f":"IF(AND($A138>=0,Berechnung!$B$8=0),1,IF(Berechnung!$B$8<>0,_xlfn.NORM.DIST($A138,0,Berechnung!$B$8,TRUE),0))","v":1},{"$f":"IF(AND($A138=0,Berechnung!$B$9=0),1,IF(Berechnung!$B$9<>0,_xlfn.NORM.DIST($A138,0,Berechnung!$B$9,FALSE),0))","v":7.0847472337611374E-29},{"$f":"IF(AND($A138>=0,Berechnung!$B$9=0),1,IF(Berechnung!$B$9<>0,_xlfn.NORM.DIST($A138,0,Berechnung!$B$9,TRUE),0))","v":1},{"$f":"IF(AND($A138=0,Berechnung!$B$10=0),1,IF(Berechnung!$B$10<>0,_xlfn.NORM.DIST($A138,0,Berechnung!$B$10,FALSE),0))","v":4.8871377560857888E-24},{"$f":"IF(AND($A138>=0,Berechnung!$B$10=0),1,IF(Berechnung!$B$10<>0,_xlfn.NORM.DIST($A138,0,Berechnung!$B$10,TRUE),0))","v":1},{"$f":"IF(AND($A138=0,Berechnung!$B$11=0),1,IF(Berechnung!$B$11<>0,_xlfn.NORM.DIST($A138,0,Berechnung!$B$11,FALSE),0))","v":0},{"$f":"IF(AND($A138>=0,Berechnung!$B$11=0),1,IF(Berechnung!$B$11<>0,_xlfn.NORM.DIST($A138,0,Berechnung!$B$11,TRUE),0))","v":1},{"$f":"Demonstrator!$J$19*'Daten Diagramm'!H138+Demonstrator!$J$24*'Daten Diagramm'!L138","v":1.8206723002334375E-16},{"$f":"Demonstrator!$J$19*'Daten Diagramm'!I138+Demonstrator!$J$24*'Daten Diagramm'!M138","v":0.99999999999999967}]
[116,{"$f":"IF(AND(A139=0,Berechnung!$B$3=0),1,IF(Berechnung!$B$3<>0,_xlfn.NORM.DIST(A139,0,Berechnung!$B$3,FALSE),0))","v":3.7447019518120194E-38},{"$f":"IF(AND($A139>=0,Berechnung!$B$3=0),1,IF(Berechnung!$B$3<>0,_xlfn.NORM.DIST($A139,0,Berechnung!$B$3,TRUE),0))","v":1},{"$f":"IF(AND($A139=0,Berechnung!$B$4=0),1,IF(Berechnung!$B$4<>0,_xlfn.NORM.DIST($A139,0,Berechnung!$B$4,FALSE),0))","v":3.7447019518120194E-38},{"$f":"IF(AND($A139>=0,Berechnung!$B$4=0),1,IF(Berechnung!$B$4<>0,_xlfn.NORM.DIST($A139,0,Berechnung!$B$4,TRUE),0))","v":1},{"$f":"IF(AND($A139=0,Berechnung!$B$5=0),1,IF(Berechnung!$B$5<>0,_xlfn.NORM.DIST($A139,0,Berechnung!$B$5,FALSE),0))","v":5.2326739124233789E-16},{"$f":"IF(AND($A139>=0,Berechnung!$B$5=0),1,IF(Berechnung!$B$5<>0,_xlfn.NORM.DIST($A139,0,Berechnung!$B$5,TRUE),0))","v":0.999999999999999},{"$f":"IF(AND($A139=0,Berechnung!$B$6=0),1,IF(Berechnung!$B$6<>0,_xlfn.NORM.DIST($A139,0,Berechnung!$B$6,FALSE),0))","v":5.2941043084119086E-16},{"$f":"IF(AND($A139>=0,Berechnung!$B$6=0),1,IF(Berechnung!$B$6<>0,_xlfn.NORM.DIST($A139,0,Berechnung!$B$6,TRUE),0))","v":0.999999999999999},{"$f":"IF(AND($A139=0,Berechnung!$B$7=0),1,IF(Berechnung!$B$7<>0,_xlfn.NORM.DIST($A139,0,Berechnung!$B$7,FALSE),0))","v":3.7447019518120194E-38},{"$f":"IF(AND($A139>=0,Berechnung!$B$7=0),1,IF(Berechnung!$B$7<>0,_xlfn.NORM.DIST($A139,0,Berechnung!$B$7,TRUE),0))","v":1},{"$f":"IF(AND($A139=0,Berechnung!$B$8=0),1,IF(Berechnung!$B$8<>0,_xlfn.NORM.DIST($A139,0,Berechnung!$B$8,FALSE),0))","v":3.7447019518120194E-38},{"$f":"IF(AND($A139>=0,Berechnung!$B$8=0),1,IF(Berechnung!$B$8<>0,_xlfn.NORM.DIST($A139,0,Berechnung!$B$8,TRUE),0))","v":1},{"$f":"IF(AND($A139=0,Berechnung!$B$9=0),1,IF(Berechnung!$B$9<>0,_xlfn.NORM.DIST($A139,0,Berechnung!$B$9,FALSE),0))","v":2.4173826115357819E-29},{"$f":"IF(AND($A139>=0,Berechnung!$B$9=0),1,IF(Berechnung!$B$9<>0,_xlfn.NORM.DIST($A139,0,Berechnung!$B$9,TRUE),0))","v":1},{"$f":"IF(AND($A139=0,Berechnung!$B$10=0),1,IF(Berechnung!$B$10<>0,_xlfn.NORM.DIST($A139,0,Berechnung!$B$10,FALSE),0))","v":2.0293557755664169E-24},{"$f":"IF(AND($A139>=0,Berechnung!$B$10=0),1,IF(Berechnung!$B$10<>0,_xlfn.NORM.DIST($A139,0,Berechnung!$B$10,TRUE),0))","v":1},{"$f":"IF(AND($A139=0,Berechnung!$B$11=0),1,IF(Berechnung!$B$11<>0,_xlfn.NORM.DIST($A139,0,Berechnung!$B$11,FALSE),0))","v":0},{"$f":"IF(AND($A139>=0,Berechnung!$B$11=0),1,IF(Berechnung!$B$11<>0,_xlfn.NORM.DIST($A139,0,Berechnung!$B$11,TRUE),0))","v":1},{"$f":"Demonstrator!$J$19*'Daten Diagramm'!H139+Demonstrator!$J$24*'Daten Diagramm'!L139","v":1.0588208616823814E-16},{"$f":"Demonstrator!$J$19*'Daten Diagramm'!I139+Demonstrator!$J$24*'Daten Diagramm'!M139","v":0.99999999999999978}]
[117,{"$f":"IF(AND(A140=0,Berechnung!$B$3=0),1,IF(Berechnung!$B$3<>0,_xlfn.NORM.DIST(A140,0,Berechnung!$B$3,FALSE),0))","v":8.8875863966742363E-39},{"$f":"IF(AND($A140>=0,Berechnung!$B$3=0),1,IF(Berechnung!$B$3<>0,_xlfn.NORM.DIST($A140,0,Berechnung!$B$3,TRUE),0))","v":1},{"$f":"IF(AND($A140=0,Berechnung!$B$4=0),1,IF(Berechnung!$B$4<>0,_xlfn.NORM.DIST($A140,0,Berechnung!$B$4,FALSE),0))","v":8.8875863966742363E-39},{"$f":"IF(AND($A140>=0,Berechnung!$B$4=0),1,IF(Berechnung!$B$4<>0,_xlfn.NORM.DIST($A140,0,Berechnung!$B$4,TRUE),0))","v":1},{"$f":"IF(AND($A140=0,Berechnung!$B$5=0),1,IF(Berechnung!$B$5<>0,_xlfn.NORM.DIST($A140,0,Berechnung!$B$5,FALSE),0))","v":3.0282171740362081E-16},{"$f":"IF(AND($A140>=0,Berechnung!$B$5=0),1,IF(Berechnung!$B$5<>0,_xlfn.NORM.DIST($A140,0,Berechnung!$B$5,TRUE),0))","v":0.99999999999999944},{"$f":"IF(AND($A140=0,Berechnung!$B$6=0),1,IF(Berechnung!$B$6<>0,_xlfn.NORM.DIST($A140,0,Berechnung!$B$6,FALSE),0))","v":3.0643969594025619E-16},{"$f":"IF(AND($A140>=0,Berechnung!$B$6=0),1,IF(Berechnung!$B$6<>0,_xlfn.NORM.DIST($A140,0,Berechnung!$B$6,TRUE),0))","v":0.99999999999999944},{"$f":"IF(AND($A140=0,Berechnung!$B$7=0),1,IF(Berechnung!$B$7<>0,_xlfn.NORM.DIST($A140,0,Berechnung!$B$7,FALSE),0))","v":8.8875863966742363E-39},{"$f":"IF(AND($A140>=0,Berechnung!$B$7=0),1,IF(Berechnung!$B$7<>0,_xlfn.NORM.DIST($A140,0,Berechnung!$B$7,TRUE),0))","v":1},{"$f":"IF(AND($A140=0,Berechnung!$B$8=0),1,IF(Berechnung!$B$8<>0,_xlfn.NORM.DIST($A140,0,Berechnung!$B$8,FALSE),0))","v":8.8875863966742363E-39},{"$f":"IF(AND($A140>=0,Berechnung!$B$8=0),1,IF(Berechnung!$B$8<>0,_xlfn.NORM.DIST($A140,0,Berechnung!$B$8,TRUE),0))","v":1},{"$f":"IF(AND($A140=0,Berechnung!$B$9=0),1,IF(Berechnung!$B$9<>0,_xlfn.NORM.DIST($A140,0,Berechnung!$B$9,FALSE),0))","v":8.1719051928543632E-30},{"$f":"IF(AND($A140>=0,Berechnung!$B$9=0),1,IF(Berechnung!$B$9<>0,_xlfn.NORM.DIST($A140,0,Berechnung!$B$9,TRUE),0))","v":1},{"$f":"IF(AND($A140=0,Berechnung!$B$10=0),1,IF(Berechnung!$B$10<>0,_xlfn.NORM.DIST($A140,0,Berechnung!$B$10,FALSE),0))","v":8.3629032441631856E-25},{"$f":"IF(AND($A140>=0,Berechnung!$B$10=0),1,IF(Berechnung!$B$10<>0,_xlfn.NORM.DIST($A140,0,Berechnung!$B$10,TRUE),0))","v":1},{"$f":"IF(AND($A140=0,Berechnung!$B$11=0),1,IF(Berechnung!$B$11<>0,_xlfn.NORM.DIST($A140,0,Berechnung!$B$11,FALSE),0))","v":0},{"$f":"IF(AND($A140>=0,Berechnung!$B$11=0),1,IF(Berechnung!$B$11<>0,_xlfn.NORM.DIST($A140,0,Berechnung!$B$11,TRUE),0))","v":1},{"$f":"Demonstrator!$J$19*'Daten Diagramm'!H140+Demonstrator!$J$24*'Daten Diagramm'!L140","v":6.1287939188051226E-17},{"$f":"Demonstrator!$J$19*'Daten Diagramm'!I140+Demonstrator!$J$24*'Daten Diagramm'!M140","v":0.99999999999999989}]
[118,{"$f":"IF(AND(A141=0,Berechnung!$B$3=0),1,IF(Berechnung!$B$3<>0,_xlfn.NORM.DIST(A141,0,Berechnung!$B$3,FALSE),0))","v":2.083477207459554E-39},{"$f":"IF(AND($A141>=0,Berechnung!$B$3=0),1,IF(Berechnung!$B$3<>0,_xlfn.NORM.DIST($A141,0,Berechnung!$B$3,TRUE),0))","v":1},{"$f":"IF(AND($A141=0,Berechnung!$B$4=0),1,IF(Berechnung!$B$4<>0,_xlfn.NORM.DIST($A141,0,Berechnung!$B$4,FALSE),0))","v":2.083477207459554E-39},{"$f":"IF(AND($A141>=0,Berechnung!$B$4=0),1,IF(Berechnung!$B$4<>0,_xlfn.NORM.DIST($A141,0,Berechnung!$B$4,TRUE),0))","v":1},{"$f":"IF(AND($A141=0,Berechnung!$B$5=0),1,IF(Berechnung!$B$5<>0,_xlfn.NORM.DIST($A141,0,Berechnung!$B$5,FALSE),0))","v":1.7442608119737669E-16},{"$f":"IF(AND($A141>=0,Berechnung!$B$5=0),1,IF(Berechnung!$B$5<>0,_xlfn.NORM.DIST($A141,0,Berechnung!$B$5,TRUE),0))","v":0.99999999999999967},{"$f":"IF(AND($A141=0,Berechnung!$B$6=0),1,IF(Berechnung!$B$6<>0,_xlfn.NORM.DIST($A141,0,Berechnung!$B$6,FALSE),0))","v":1.7654660721753918E-16},{"$f":"IF(AND($A141>=0,Berechnung!$B$6=0),1,IF(Berechnung!$B$6<>0,_xlfn.NORM.DIST($A141,0,Berechnung!$B$6,TRUE),0))","v":0.99999999999999967},{"$f":"IF(AND($A141=0,Berechnung!$B$7=0),1,IF(Berechnung!$B$7<>0,_xlfn.NORM.DIST($A141,0,Berechnung!$B$7,FALSE),0))","v":2.083477207459554E-39},{"$f":"IF(AND($A141>=0,Berechnung!$B$7=0),1,IF(Berechnung!$B$7<>0,_xlfn.NORM.DIST($A141,0,Berechnung!$B$7,TRUE),0))","v":1},{"$f":"IF(AND($A141=0,Berechnung!$B$8=0),1,IF(Berechnung!$B$8<>0,_xlfn.NORM.DIST($A141,0,Berechnung!$B$8,FALSE),0))","v":2.083477207459554E-39},{"$f":"IF(AND($A141>=0,Berechnung!$B$8=0),1,IF(Berechnung!$B$8<>0,_xlfn.NORM.DIST($A141,0,Berechnung!$B$8,TRUE),0))","v":1},{"$f":"IF(AND($A141=0,Berechnung!$B$9=0),1,IF(Berechnung!$B$9<>0,_xlfn.NORM.DIST($A141,0,Berechnung!$B$9,FALSE),0))","v":2.7368950062242374E-30},{"$f":"IF(AND($A141>=0,Berechnung!$B$9=0),1,IF(Berechnung!$B$9<>0,_xlfn.NORM.DIST($A141,0,Berechnung!$B$9,TRUE),0))","v":1},{"$f":"IF(AND($A141=0,Berechnung!$B$10=0),1,IF(Berechnung!$B$10<>0,_xlfn.NORM.DIST($A141,0,Berechnung!$B$10,FALSE),0))","v":3.420197788803456E-25},{"$f":"IF(AND($A141>=0,Berechnung!$B$10=0),1,IF(Berechnung!$B$10<>0,_xlfn.NORM.DIST($A141,0,Berechnung!$B$10,TRUE),0))","v":1},{"$f":"IF(AND($A141=0,Berechnung!$B$11=0),1,IF(Berechnung!$B$11<>0,_xlfn.NORM.DIST($A141,0,Berechnung!$B$11,FALSE),0))","v":0},{"$f":"IF(AND($A141>=0,Berechnung!$B$11=0),1,IF(Berechnung!$B$11<>0,_xlfn.NORM.DIST($A141,0,Berechnung!$B$11,TRUE),0))","v":1},{"$f":"Demonstrator!$J$19*'Daten Diagramm'!H141+Demonstrator!$J$24*'Daten Diagramm'!L141","v":3.5309321443507826E-17},{"$f":"Demonstrator!$J$19*'Daten Diagramm'!I141+Demonstrator!$J$24*'Daten Diagramm'!M141","v":1}]
[119,{"$f":"IF(AND(A142=0,Berechnung!$B$3=0),1,IF(Berechnung!$B$3<>0,_xlfn.NORM.DIST(A142,0,Berechnung!$B$3,FALSE),0))","v":4.8242745073151506E-40},{"$f":"IF(AND($A142>=0,Berechnung!$B$3=0),1,IF(Berechnung!$B$3<>0,_xlfn.NORM.DIST($A142,0,Berechnung!$B$3,TRUE),0))","v":1},{"$f":"IF(AND($A142=0,Berechnung!$B$4=0),1,IF(Berechnung!$B$4<>0,_xlfn.NORM.DIST($A142,0,Berechnung!$B$4,FALSE),0))","v":4.8242745073151506E-40},{"$f":"IF(AND($A142>=0,Berechnung!$B$4=0),1,IF(Berechnung!$B$4<>0,_xlfn.NORM.DIST($A142,0,Berechnung!$B$4,TRUE),0))","v":1},{"$f":"IF(AND($A142=0,Berechnung!$B$5=0),1,IF(Berechnung!$B$5<>0,_xlfn.NORM.DIST($A142,0,Berechnung!$B$5,FALSE),0))","v":9.9999283431233157E-17},{"$f":"IF(AND($A142>=0,Berechnung!$B$5=0),1,IF(Berechnung!$B$5<>0,_xlfn.NORM.DIST($A142,0,Berechnung!$B$5,TRUE),0))","v":0.99999999999999978},{"$f":"IF(AND($A142=0,Berechnung!$B$6=0),1,IF(Berechnung!$B$6<>0,_xlfn.NORM.DIST($A142,0,Berechnung!$B$6,FALSE),0))","v":1.012361343280346E-16},{"$f":"IF(AND($A142>=0,Berechnung!$B$6=0),1,IF(Berechnung!$B$6<>0,_xlfn.NORM.DIST($A142,0,Berechnung!$B$6,TRUE),0))","v":0.99999999999999978},{"$f":"IF(AND($A142=0,Berechnung!$B$7=0),1,IF(Berechnung!$B$7<>0,_xlfn.NORM.DIST($A142,0,Berechnung!$B$7,FALSE),0))","v":4.8242745073151506E-40},{"$f":"IF(AND($A142>=0,Berechnung!$B$7=0),1,IF(Berechnung!$B$7<>0,_xlfn.NORM.DIST($A142,0,Berechnung!$B$7,TRUE),0))","v":1},{"$f":"IF(AND($A142=0,Berechnung!$B$8=0),1,IF(Berechnung!$B$8<>0,_xlfn.NORM.DIST($A142,0,Berechnung!$B$8,FALSE),0))","v":4.8242745073151506E-40},{"$f":"IF(AND($A142>=0,Berechnung!$B$8=0),1,IF(Berechnung!$B$8<>0,_xlfn.NORM.DIST($A142,0,Berechnung!$B$8,TRUE),0))","v":1},{"$f":"IF(AND($A142=0,Berechnung!$B$9=0),1,IF(Berechnung!$B$9<>0,_xlfn.NORM.DIST($A142,0,Berechnung!$B$9,FALSE),0))","v":9.0813381432461126E-31},{"$f":"IF(AND($A142>=0,Berechnung!$B$9=0),1,IF(Berechnung!$B$9<>0,_xlfn.NORM.DIST($A142,0,Berechnung!$B$9,TRUE),0))","v":1},{"$f":"IF(AND($A142=0,Berechnung!$B$10=0),1,IF(Berechnung!$B$10<>0,_xlfn.NORM.DIST($A142,0,Berechnung!$B$10,FALSE),0))","v":1.3881635637243598E-25},{"$f":"IF(AND($A142>=0,Berechnung!$B$10=0),1,IF(Berechnung!$B$10<>0,_xlfn.NORM.DIST($A142,0,Berechnung!$B$10,TRUE),0))","v":1},{"$f":"IF(AND($A142=0,Berechnung!$B$11=0),1,IF(Berechnung!$B$11<>0,_xlfn.NORM.DIST($A142,0,Berechnung!$B$11,FALSE),0))","v":0},{"$f":"IF(AND($A142>=0,Berechnung!$B$11=0),1,IF(Berechnung!$B$11<>0,_xlfn.NORM.DIST($A142,0,Berechnung!$B$11,TRUE),0))","v":1},{"$f":"Demonstrator!$J$19*'Daten Diagramm'!H142+Demonstrator!$J$24*'Daten Diagramm'!L142","v":2.0247226865606916E-17},{"$f":"Demonstrator!$J$19*'Daten Diagramm'!I142+Demonstrator!$J$24*'Daten Diagramm'!M142","v":1}]
[120,{"$f":"IF(AND(A143=0,Berechnung!$B$3=0),1,IF(Berechnung!$B$3<>0,_xlfn.NORM.DIST(A143,0,Berechnung!$B$3,FALSE),0))","v":1.1033507877757222E-40},{"$f":"IF(AND($A143>=0,Berechnung!$B$3=0),1,IF(Berechnung!$B$3<>0,_xlfn.NORM.DIST($A143,0,Berechnung!$B$3,TRUE),0))","v":1},{"$f":"IF(AND($A143=0,Berechnung!$B$4=0),1,IF(Berechnung!$B$4<>0,_xlfn.NORM.DIST($A143,0,Berechnung!$B$4,FALSE),0))","v":1.1033507877757222E-40},{"$f":"IF(AND($A143>=0,Berechnung!$B$4=0),1,IF(Berechnung!$B$4<>0,_xlfn.NORM.DIST($A143,0,Berechnung!$B$4,TRUE),0))","v":1},{"$f":"IF(AND($A143=0,Berechnung!$B$5=0),1,IF(Berechnung!$B$5<>0,_xlfn.NORM.DIST($A143,0,Berechnung!$B$5,FALSE),0))","v":5.7061529835605004E-17},{"$f":"IF(AND($A143>=0,Berechnung!$B$5=0),1,IF(Berechnung!$B$5<>0,_xlfn.NORM.DIST($A143,0,Berechnung!$B$5,TRUE),0))","v":0.99999999999999989},{"$f":"IF(AND($A143=0,Berechnung!$B$6=0),1,IF(Berechnung!$B$6<>0,_xlfn.NORM.DIST($A143,0,Berechnung!$B$6,FALSE),0))","v":5.7779470175349477E-17},{"$f":"IF(AND($A143>=0,Berechnung!$B$6=0),1,IF(Berechnung!$B$6<>0,_xlfn.NORM.DIST($A143,0,Berechnung!$B$6,TRUE),0))","v":0.99999999999999989},{"$f":"IF(AND($A143=0,Berechnung!$B$7=0),1,IF(Berechnung!$B$7<>0,_xlfn.NORM.DIST($A143,0,Berechnung!$B$7,FALSE),0))","v":1.1033507877757222E-40},{"$f":"IF(AND($A143>=0,Berechnung!$B$7=0),1,IF(Berechnung!$B$7<>0,_xlfn.NORM.DIST($A143,0,Berechnung!$B$7,TRUE),0))","v":1},{"$f":"IF(AND($A143=0,Berechnung!$B$8=0),1,IF(Berechnung!$B$8<>0,_xlfn.NORM.DIST($A143,0,Berechnung!$B$8,FALSE),0))","v":1.1033507877757222E-40},{"$f":"IF(AND($A143>=0,Berechnung!$B$8=0),1,IF(Berechnung!$B$8<>0,_xlfn.NORM.DIST($A143,0,Berechnung!$B$8,TRUE),0))","v":1},{"$f":"IF(AND($A143=0,Berechnung!$B$9=0),1,IF(Berechnung!$B$9<>0,_xlfn.NORM.DIST($A143,0,Berechnung!$B$9,FALSE),0))","v":2.985371955350251E-31},{"$f":"IF(AND($A143>=0,Berechnung!$B$9=0),1,IF(Berechnung!$B$9<>0,_xlfn.NORM.DIST($A143,0,Berechnung!$B$9,TRUE),0))","v":1},{"$f":"IF(AND($A143=0,Berechnung!$B$10=0),1,IF(Berechnung!$B$10<>0,_xlfn.NORM.DIST($A143,0,Berechnung!$B$10,FALSE),0))","v":5.5914613768238058E-26},{"$f":"IF(AND($A143>=0,Berechnung!$B$10=0),1,IF(Berechnung!$B$10<>0,_xlfn.NORM.DIST($A143,0,Berechnung!$B$10,TRUE),0))","v":1},{"$f":"IF(AND($A143=0,Berechnung!$B$11=0),1,IF(Berechnung!$B$11<>0,_xlfn.NORM.DIST($A143,0,Berechnung!$B$11,FALSE),0))","v":0},{"$f":"IF(AND($A143>=0,Berechnung!$B$11=0),1,IF(Berechnung!$B$11<>0,_xlfn.NORM.DIST($A143,0,Berechnung!$B$11,TRUE),0))","v":1},{"$f":"Demonstrator!$J$19*'Daten Diagramm'!H143+Demonstrator!$J$24*'Daten Diagramm'!L143","v":1.1555894035069893E-17},{"$f":"Demonstrator!$J$19*'Daten Diagramm'!I143+Demonstrator!$J$24*'Daten Diagramm'!M143","v":1}]
[121,{"$f":"IF(AND(A144=0,Berechnung!$B$3=0),1,IF(Berechnung!$B$3<>0,_xlfn.NORM.DIST(A144,0,Berechnung!$B$3,FALSE),0))","v":2.4924907017076603E-41},{"$f":"IF(AND($A144>=0,Berechnung!$B$3=0),1,IF(Berechnung!$B$3<>0,_xlfn.NORM.DIST($A144,0,Berechnung!$B$3,TRUE),0))","v":1},{"$f":"IF(AND($A144=0,Berechnung!$B$4=0),1,IF(Berechnung!$B$4<>0,_xlfn.NORM.DIST($A144,0,Berechnung!$B$4,FALSE),0))","v":2.4924907017076603E-41},{"$f":"IF(AND($A144>=0,Berechnung!$B$4=0),1,IF(Berechnung!$B$4<>0,_xlfn.NORM.DIST($A144,0,Berechnung!$B$4,TRUE),0))","v":1},{"$f":"IF(AND($A144=0,Berechnung!$B$5=0),1,IF(Berechnung!$B$5<>0,_xlfn.NORM.DIST($A144,0,Berechnung!$B$5,FALSE),0))","v":3.2407907669547434E-17},{"$f":"IF(AND($A144>=0,Berechnung!$B$5=0),1,IF(Berechnung!$B$5<>0,_xlfn.NORM.DIST($A144,0,Berechnung!$B$5,TRUE),0))","v":0.99999999999999989},{"$f":"IF(AND($A144=0,Berechnung!$B$6=0),1,IF(Berechnung!$B$6<>0,_xlfn.NORM.DIST($A144,0,Berechnung!$B$6,FALSE),0))","v":3.2822630307635215E-17},{"$f":"IF(AND($A144>=0,Berechnung!$B$6=0),1,IF(Berechnung!$B$6<>0,_xlfn.NORM.DIST($A144,0,Berechnung!$B$6,TRUE),0))","v":0.99999999999999989},{"$f":"IF(AND($A144=0,Berechnung!$B$7=0),1,IF(Berechnung!$B$7<>0,_xlfn.NORM.DIST($A144,0,Berechnung!$B$7,FALSE),0))","v":2.4924907017076603E-41},{"$f":"IF(AND($A144>=0,Berechnung!$B$7=0),1,IF(Berechnung!$B$7<>0,_xlfn.NORM.DIST($A144,0,Berechnung!$B$7,TRUE),0))","v":1},{"$f":"IF(AND($A144=0,Berechnung!$B$8=0),1,IF(Berechnung!$B$8<>0,_xlfn.NORM.DIST($A144,0,Berechnung!$B$8,FALSE),0))","v":2.4924907017076603E-41},{"$f":"IF(AND($A144>=0,Berechnung!$B$8=0),1,IF(Berechnung!$B$8<>0,_xlfn.NORM.DIST($A144,0,Berechnung!$B$8,TRUE),0))","v":1},{"$f":"IF(AND($A144=0,Berechnung!$B$9=0),1,IF(Berechnung!$B$9<>0,_xlfn.NORM.DIST($A144,0,Berechnung!$B$9,FALSE),0))","v":9.7230818702031545E-32},{"$f":"IF(AND($A144>=0,Berechnung!$B$9=0),1,IF(Berechnung!$B$9<>0,_xlfn.NORM.DIST($A144,0,Berechnung!$B$9,TRUE),0))","v":1},{"$f":"IF(AND($A144=0,Berechnung!$B$10=0),1,IF(Berechnung!$B$10<>0,_xlfn.NORM.DIST($A144,0,Berechnung!$B$10,FALSE),0))","v":2.2351428634243957E-26},{"$f":"IF(AND($A144>=0,Berechnung!$B$10=0),1,IF(Berechnung!$B$10<>0,_xlfn.NORM.DIST($A144,0,Berechnung!$B$10,TRUE),0))","v":1},{"$f":"IF(AND($A144=0,Berechnung!$B$11=0),1,IF(Berechnung!$B$11<>0,_xlfn.NORM.DIST($A144,0,Berechnung!$B$11,FALSE),0))","v":0},{"$f":"IF(AND($A144>=0,Berechnung!$B$11=0),1,IF(Berechnung!$B$11<>0,_xlfn.NORM.DIST($A144,0,Berechnung!$B$11,TRUE),0))","v":1},{"$f":"Demonstrator!$J$19*'Daten Diagramm'!H144+Demonstrator!$J$24*'Daten Diagramm'!L144","v":6.5645260615270419E-18},{"$f":"Demonstrator!$J$19*'Daten Diagramm'!I144+Demonstrator!$J$24*'Daten Diagramm'!M144","v":1}]
[122,{"$f":"IF(AND(A145=0,Berechnung!$B$3=0),1,IF(Berechnung!$B$3<>0,_xlfn.NORM.DIST(A145,0,Berechnung!$B$3,FALSE),0))","v":5.5614984944050246E-42},{"$f":"IF(AND($A145>=0,Berechnung!$B$3=0),1,IF(Berechnung!$B$3<>0,_xlfn.NORM.DIST($A145,0,Berechnung!$B$3,TRUE),0))","v":1},{"$f":"IF(AND($A145=0,Berechnung!$B$4=0),1,IF(Berechnung!$B$4<>0,_xlfn.NORM.DIST($A145,0,Berechnung!$B$4,FALSE),0))","v":5.5614984944050246E-42},{"$f":"IF(AND($A145>=0,Berechnung!$B$4=0),1,IF(Berechnung!$B$4<>0,_xlfn.NORM.DIST($A145,0,Berechnung!$B$4,TRUE),0))","v":1},{"$f":"IF(AND($A145=0,Berechnung!$B$5=0),1,IF(Berechnung!$B$5<>0,_xlfn.NORM.DIST($A145,0,Berechnung!$B$5,FALSE),0))","v":1.8319753825503876E-17},{"$f":"IF(AND($A145>=0,Berechnung!$B$5=0),1,IF(Berechnung!$B$5<>0,_xlfn.NORM.DIST($A145,0,Berechnung!$B$5,TRUE),0))","v":1},{"$f":"IF(AND($A145=0,Berechnung!$B$6=0),1,IF(Berechnung!$B$6<>0,_xlfn.NORM.DIST($A145,0,Berechnung!$B$6,FALSE),0))","v":1.8558164990917823E-17},{"$f":"IF(AND($A145>=0,Berechnung!$B$6=0),1,IF(Berechnung!$B$6<>0,_xlfn.NORM.DIST($A145,0,Berechnung!$B$6,TRUE),0))","v":1},{"$f":"IF(AND($A145=0,Berechnung!$B$7=0),1,IF(Berechnung!$B$7<>0,_xlfn.NORM.DIST($A145,0,Berechnung!$B$7,FALSE),0))","v":5.5614984944050246E-42},{"$f":"IF(AND($A145>=0,Berechnung!$B$7=0),1,IF(Berechnung!$B$7<>0,_xlfn.NORM.DIST($A145,0,Berechnung!$B$7,TRUE),0))","v":1},{"$f":"IF(AND($A145=0,Berechnung!$B$8=0),1,IF(Berechnung!$B$8<>0,_xlfn.NORM.DIST($A145,0,Berechnung!$B$8,FALSE),0))","v":5.5614984944050246E-42},{"$f":"IF(AND($A145>=0,Berechnung!$B$8=0),1,IF(Berechnung!$B$8<>0,_xlfn.NORM.DIST($A145,0,Berechnung!$B$8,TRUE),0))","v":1},{"$f":"IF(AND($A145=0,Berechnung!$B$9=0),1,IF(Berechnung!$B$9<>0,_xlfn.NORM.DIST($A145,0,Berechnung!$B$9,FALSE),0))","v":3.1373742557761167E-32},{"$f":"IF(AND($A145>=0,Berechnung!$B$9=0),1,IF(Berechnung!$B$9<>0,_xlfn.NORM.DIST($A145,0,Berechnung!$B$9,TRUE),0))","v":1},{"$f":"IF(AND($A145=0,Berechnung!$B$10=0),1,IF(Berechnung!$B$10<>0,_xlfn.NORM.DIST($A145,0,Berechnung!$B$10,FALSE),0))","v":8.8670777031028014E-27},{"$f":"IF(AND($A145>=0,Berechnung!$B$10=0),1,IF(Berechnung!$B$10<>0,_xlfn.NORM.DIST($A145,0,Berechnung!$B$10,TRUE),0))","v":1},{"$f":"IF(AND($A145=0,Berechnung!$B$11=0),1,IF(Berechnung!$B$11<>0,_xlfn.NORM.DIST($A145,0,Berechnung!$B$11,FALSE),0))","v":0},{"$f":"IF(AND($A145>=0,Berechnung!$B$11=0),1,IF(Berechnung!$B$11<>0,_xlfn.NORM.DIST($A145,0,Berechnung!$B$11,TRUE),0))","v":1},{"$f":"Demonstrator!$J$19*'Daten Diagramm'!H145+Demonstrator!$J$24*'Daten Diagramm'!L145","v":3.7116329981835642E-18},{"$f":"Demonstrator!$J$19*'Daten Diagramm'!I145+Demonstrator!$J$24*'Daten Diagramm'!M145","v":1}]
[123,{"$f":"IF(AND(A146=0,Berechnung!$B$3=0),1,IF(Berechnung!$B$3<>0,_xlfn.NORM.DIST(A146,0,Berechnung!$B$3,FALSE),0))","v":1.2257120081867596E-42},{"$f":"IF(AND($A146>=0,Berechnung!$B$3=0),1,IF(Berechnung!$B$3<>0,_xlfn.NORM.DIST($A146,0,Berechnung!$B$3,TRUE),0))","v":1},{"$f":"IF(AND($A146=0,Berechnung!$B$4=0),1,IF(Berechnung!$B$4<>0,_xlfn.NORM.DIST($A146,0,Berechnung!$B$4,FALSE),0))","v":1.2257120081867596E-42},{"$f":"IF(AND($A146>=0,Berechnung!$B$4=0),1,IF(Berechnung!$B$4<>0,_xlfn.NORM.DIST($A146,0,Berechnung!$B$4,TRUE),0))","v":1},{"$f":"IF(AND($A146=0,Berechnung!$B$5=0),1,IF(Berechnung!$B$5<>0,_xlfn.NORM.DIST($A146,0,Berechnung!$B$5,FALSE),0))","v":1.0307404812658773E-17},{"$f":"IF(AND($A146>=0,Berechnung!$B$5=0),1,IF(Berechnung!$B$5<>0,_xlfn.NORM.DIST($A146,0,Berechnung!$B$5,TRUE),0))","v":1},{"$f":"IF(AND($A146=0,Berechnung!$B$6=0),1,IF(Berechnung!$B$6<>0,_xlfn.NORM.DIST($A146,0,Berechnung!$B$6,FALSE),0))","v":1.0443799029535084E-17},{"$f":"IF(AND($A146>=0,Berechnung!$B$6=0),1,IF(Berechnung!$B$6<>0,_xlfn.NORM.DIST($A146,0,Berechnung!$B$6,TRUE),0))","v":1},{"$f":"IF(AND($A146=0,Berechnung!$B$7=0),1,IF(Berechnung!$B$7<>0,_xlfn.NORM.DIST($A146,0,Berechnung!$B$7,FALSE),0))","v":1.2257120081867596E-42},{"$f":"IF(AND($A146>=0,Berechnung!$B$7=0),1,IF(Berechnung!$B$7<>0,_xlfn.NORM.DIST($A146,0,Berechnung!$B$7,TRUE),0))","v":1},{"$f":"IF(AND($A146=0,Berechnung!$B$8=0),1,IF(Berechnung!$B$8<>0,_xlfn.NORM.DIST($A146,0,Berechnung!$B$8,FALSE),0))","v":1.2257120081867596E-42},{"$f":"IF(AND($A146>=0,Berechnung!$B$8=0),1,IF(Berechnung!$B$8<>0,_xlfn.NORM.DIST($A146,0,Berechnung!$B$8,TRUE),0))","v":1},{"$f":"IF(AND($A146=0,Berechnung!$B$9=0),1,IF(Berechnung!$B$9<>0,_xlfn.NORM.DIST($A146,0,Berechnung!$B$9,FALSE),0))","v":1.0029646042891329E-32},{"$f":"IF(AND($A146>=0,Berechnung!$B$9=0),1,IF(Berechnung!$B$9<>0,_xlfn.NORM.DIST($A146,0,Berechnung!$B$9,TRUE),0))","v":1},{"$f":"IF(AND($A146=0,Berechnung!$B$10=0),1,IF(Berechnung!$B$10<>0,_xlfn.NORM.DIST($A146,0,Berechnung!$B$10,FALSE),0))","v":3.4910093399413831E-27},{"$f":"IF(AND($A146>=0,Berechnung!$B$10=0),1,IF(Berechnung!$B$10<>0,_xlfn.NORM.DIST($A146,0,Berechnung!$B$10,TRUE),0))","v":1},{"$f":"IF(AND($A146=0,Berechnung!$B$11=0),1,IF(Berechnung!$B$11<>0,_xlfn.NORM.DIST($A146,0,Berechnung!$B$11,FALSE),0))","v":0},{"$f":"IF(AND($A146>=0,Berechnung!$B$11=0),1,IF(Berechnung!$B$11<>0,_xlfn.NORM.DIST($A146,0,Berechnung!$B$11,TRUE),0))","v":1},{"$f":"Demonstrator!$J$19*'Daten Diagramm'!H146+Demonstrator!$J$24*'Daten Diagramm'!L146","v":2.0887598059070161E-18},{"$f":"Demonstrator!$J$19*'Daten Diagramm'!I146+Demonstrator!$J$24*'Daten Diagramm'!M146","v":1}]
[124,{"$f":"IF(AND(A147=0,Berechnung!$B$3=0),1,IF(Berechnung!$B$3<>0,_xlfn.NORM.DIST(A147,0,Berechnung!$B$3,FALSE),0))","v":2.6682308272985744E-43},{"$f":"IF(AND($A147>=0,Berechnung!$B$3=0),1,IF(Berechnung!$B$3<>0,_xlfn.NORM.DIST($A147,0,Berechnung!$B$3,TRUE),0))","v":1},{"$f":"IF(AND($A147=0,Berechnung!$B$4=0),1,IF(Berechnung!$B$4<>0,_xlfn.NORM.DIST($A147,0,Berechnung!$B$4,FALSE),0))","v":2.6682308272985744E-43},{"$f":"IF(AND($A147>=0,Berechnung!$B$4=0),1,IF(Berechnung!$B$4<>0,_xlfn.NORM.DIST($A147,0,Berechnung!$B$4,TRUE),0))","v":1},{"$f":"IF(AND($A147=0,Berechnung!$B$5=0),1,IF(Berechnung!$B$5<>0,_xlfn.NORM.DIST($A147,0,Berechnung!$B$5,FALSE),0))","v":5.7721829943875326E-18},{"$f":"IF(AND($A147>=0,Berechnung!$B$5=0),1,IF(Berechnung!$B$5<>0,_xlfn.NORM.DIST($A147,0,Berechnung!$B$5,TRUE),0))","v":1},{"$f":"IF(AND($A147=0,Berechnung!$B$6=0),1,IF(Berechnung!$B$6<>0,_xlfn.NORM.DIST($A147,0,Berechnung!$B$6,FALSE),0))","v":5.8498375374915248E-18},{"$f":"IF(AND($A147>=0,Berechnung!$B$6=0),1,IF(Berechnung!$B$6<>0,_xlfn.NORM.DIST($A147,0,Berechnung!$B$6,TRUE),0))","v":1},{"$f":"IF(AND($A147=0,Berechnung!$B$7=0),1,IF(Berechnung!$B$7<>0,_xlfn.NORM.DIST($A147,0,Berechnung!$B$7,FALSE),0))","v":2.6682308272985744E-43},{"$f":"IF(AND($A147>=0,Berechnung!$B$7=0),1,IF(Berechnung!$B$7<>0,_xlfn.NORM.DIST($A147,0,Berechnung!$B$7,TRUE),0))","v":1},{"$f":"IF(AND($A147=0,Berechnung!$B$8=0),1,IF(Berechnung!$B$8<>0,_xlfn.NORM.DIST($A147,0,Berechnung!$B$8,FALSE),0))","v":2.6682308272985744E-43},{"$f":"IF(AND($A147>=0,Berechnung!$B$8=0),1,IF(Berechnung!$B$8<>0,_xlfn.NORM.DIST($A147,0,Berechnung!$B$8,TRUE),0))","v":1},{"$f":"IF(AND($A147=0,Berechnung!$B$9=0),1,IF(Berechnung!$B$9<>0,_xlfn.NORM.DIST($A147,0,Berechnung!$B$9,FALSE),0))","v":3.1765944782245363E-33},{"$f":"IF(AND($A147>=0,Berechnung!$B$9=0),1,IF(Berechnung!$B$9<>0,_xlfn.NORM.DIST($A147,0,Berechnung!$B$9,TRUE),0))","v":1},{"$f":"IF(AND($A147=0,Berechnung!$B$10=0),1,IF(Berechnung!$B$10<>0,_xlfn.NORM.DIST($A147,0,Berechnung!$B$10,FALSE),0))","v":1.3640075574513968E-27},{"$f":"IF(AND($A147>=0,Berechnung!$B$10=0),1,IF(Berechnung!$B$10<>0,_xlfn.NORM.DIST($A147,0,Berechnung!$B$10,TRUE),0))","v":1},{"$f":"IF(AND($A147=0,Berechnung!$B$11=0),1,IF(Berechnung!$B$11<>0,_xlfn.NORM.DIST($A147,0,Berechnung!$B$11,FALSE),0))","v":0},{"$f":"IF(AND($A147>=0,Berechnung!$B$11=0),1,IF(Berechnung!$B$11<>0,_xlfn.NORM.DIST($A147,0,Berechnung!$B$11,TRUE),0))","v":1},{"$f":"Demonstrator!$J$19*'Daten Diagramm'!H147+Demonstrator!$J$24*'Daten Diagramm'!L147","v":1.1699675074983047E-18},{"$f":"Demonstrator!$J$19*'Daten Diagramm'!I147+Demonstrator!$J$24*'Daten Diagramm'!M147","v":1}]
[125,{"$f":"IF(AND(A148=0,Berechnung!$B$3=0),1,IF(Berechnung!$B$3<>0,_xlfn.NORM.DIST(A148,0,Berechnung!$B$3,FALSE),0))","v":5.7371564594561842E-44},{"$f":"IF(AND($A148>=0,Berechnung!$B$3=0),1,IF(Berechnung!$B$3<>0,_xlfn.NORM.DIST($A148,0,Berechnung!$B$3,TRUE),0))","v":1},{"$f":"IF(AND($A148=0,Berechnung!$B$4=0),1,IF(Berechnung!$B$4<>0,_xlfn.NORM.DIST($A148,0,Berechnung!$B$4,FALSE),0))","v":5.7371564594561842E-44},{"$f":"IF(AND($A148>=0,Berechnung!$B$4=0),1,IF(Berechnung!$B$4<>0,_xlfn.NORM.DIST($A148,0,Berechnung!$B$4,TRUE),0))","v":1},{"$f":"IF(AND($A148=0,Berechnung!$B$5=0),1,IF(Berechnung!$B$5<>0,_xlfn.NORM.DIST($A148,0,Berechnung!$B$5,FALSE),0))","v":3.217302585008023E-18},{"$f":"IF(AND($A148>=0,Berechnung!$B$5=0),1,IF(Berechnung!$B$5<>0,_xlfn.NORM.DIST($A148,0,Berechnung!$B$5,TRUE),0))","v":1},{"$f":"IF(AND($A148=0,Berechnung!$B$6=0),1,IF(Berechnung!$B$6<>0,_xlfn.NORM.DIST($A148,0,Berechnung!$B$6,FALSE),0))","v":3.2613013341273782E-18},{"$f":"IF(AND($A148>=0,Berechnung!$B$6=0),1,IF(Berechnung!$B$6<>0,_xlfn.NORM.DIST($A148,0,Berechnung!$B$6,TRUE),0))","v":1},{"$f":"IF(AND($A148=0,Berechnung!$B$7=0),1,IF(Berechnung!$B$7<>0,_xlfn.NORM.DIST($A148,0,Berechnung!$B$7,FALSE),0))","v":5.7371564594561842E-44},{"$f":"IF(AND($A148>=0,Berechnung!$B$7=0),1,IF(Berechnung!$B$7<>0,_xlfn.NORM.DIST($A148,0,Berechnung!$B$7,TRUE),0))","v":1},{"$f":"IF(AND($A148=0,Berechnung!$B$8=0),1,IF(Berechnung!$B$8<>0,_xlfn.NORM.DIST($A148,0,Berechnung!$B$8,FALSE),0))","v":5.7371564594561842E-44},{"$f":"IF(AND($A148>=0,Berechnung!$B$8=0),1,IF(Berechnung!$B$8<>0,_xlfn.NORM.DIST($A148,0,Berechnung!$B$8,TRUE),0))","v":1},{"$f":"IF(AND($A148=0,Berechnung!$B$9=0),1,IF(Berechnung!$B$9<>0,_xlfn.NORM.DIST($A148,0,Berechnung!$B$9,FALSE),0))","v":9.9676972533372331E-34},{"$f":"IF(AND($A148>=0,Berechnung!$B$9=0),1,IF(Berechnung!$B$9<>0,_xlfn.NORM.DIST($A148,0,Berechnung!$B$9,TRUE),0))","v":1},{"$f":"IF(AND($A148=0,Berechnung!$B$10=0),1,IF(Berechnung!$B$10<>0,_xlfn.NORM.DIST($A148,0,Berechnung!$B$10,FALSE),0))","v":5.2890516947552475E-28},{"$f":"IF(AND($A148>=0,Berechnung!$B$10=0),1,IF(Berechnung!$B$10<>0,_xlfn.NORM.DIST($A148,0,Berechnung!$B$10,TRUE),0))","v":1},{"$f":"IF(AND($A148=0,Berechnung!$B$11=0),1,IF(Berechnung!$B$11<>0,_xlfn.NORM.DIST($A148,0,Berechnung!$B$11,FALSE),0))","v":0},{"$f":"IF(AND($A148>=0,Berechnung!$B$11=0),1,IF(Berechnung!$B$11<>0,_xlfn.NORM.DIST($A148,0,Berechnung!$B$11,TRUE),0))","v":1},{"$f":"Demonstrator!$J$19*'Daten Diagramm'!H148+Demonstrator!$J$24*'Daten Diagramm'!L148","v":6.5226026682547552E-19},{"$f":"Demonstrator!$J$19*'Daten Diagramm'!I148+Demonstrator!$J$24*'Daten Diagramm'!M148","v":1}]
[126,{"$f":"IF(AND(A149=0,Berechnung!$B$3=0),1,IF(Berechnung!$B$3<>0,_xlfn.NORM.DIST(A149,0,Berechnung!$B$3,FALSE),0))","v":1.2184517326544124E-44},{"$f":"IF(AND($A149>=0,Berechnung!$B$3=0),1,IF(Berechnung!$B$3<>0,_xlfn.NORM.DIST($A149,0,Berechnung!$B$3,TRUE),0))","v":1},{"$f":"IF(AND($A149=0,Berechnung!$B$4=0),1,IF(Berechnung!$B$4<>0,_xlfn.NORM.DIST($A149,0,Berechnung!$B$4,FALSE),0))","v":1.2184517326544124E-44},{"$f":"IF(AND($A149>=0,Berechnung!$B$4=0),1,IF(Berechnung!$B$4<>0,_xlfn.NORM.DIST($A149,0,Berechnung!$B$4,TRUE),0))","v":1},{"$f":"IF(AND($A149=0,Berechnung!$B$5=0),1,IF(Berechnung!$B$5<>0,_xlfn.NORM.DIST($A149,0,Berechnung!$B$5,FALSE),0))","v":1.7848625759965229E-18},{"$f":"IF(AND($A149>=0,Berechnung!$B$5=0),1,IF(Berechnung!$B$5<>0,_xlfn.NORM.DIST($A149,0,Berechnung!$B$5,TRUE),0))","v":1},{"$f":"IF(AND($A149=0,Berechnung!$B$6=0),1,IF(Berechnung!$B$6<>0,_xlfn.NORM.DIST($A149,0,Berechnung!$B$6,FALSE),0))","v":1.8096720362811809E-18},{"$f":"IF(AND($A149>=0,Berechnung!$B$6=0),1,IF(Berechnung!$B$6<>0,_xlfn.NORM.DIST($A149,0,Berechnung!$B$6,TRUE),0))","v":1},{"$f":"IF(AND($A149=0,Berechnung!$B$7=0),1,IF(Berechnung!$B$7<>0,_xlfn.NORM.DIST($A149,0,Berechnung!$B$7,FALSE),0))","v":1.2184517326544124E-44},{"$f":"IF(AND($A149>=0,Berechnung!$B$7=0),1,IF(Berechnung!$B$7<>0,_xlfn.NORM.DIST($A149,0,Berechnung!$B$7,TRUE),0))","v":1},{"$f":"IF(AND($A149=0,Berechnung!$B$8=0),1,IF(Berechnung!$B$8<>0,_xlfn.NORM.DIST($A149,0,Berechnung!$B$8,FALSE),0))","v":1.2184517326544124E-44},{"$f":"IF(AND($A149>=0,Berechnung!$B$8=0),1,IF(Berechnung!$B$8<>0,_xlfn.NORM.DIST($A149,0,Berechnung!$B$8,TRUE),0))","v":1},{"$f":"IF(AND($A149=0,Berechnung!$B$9=0),1,IF(Berechnung!$B$9<>0,_xlfn.NORM.DIST($A149,0,Berechnung!$B$9,FALSE),0))","v":3.098737536489741E-34},{"$f":"IF(AND($A149>=0,Berechnung!$B$9=0),1,IF(Berechnung!$B$9<>0,_xlfn.NORM.DIST($A149,0,Berechnung!$B$9,TRUE),0))","v":1},{"$f":"IF(AND($A149=0,Berechnung!$B$10=0),1,IF(Berechnung!$B$10<>0,_xlfn.NORM.DIST($A149,0,Berechnung!$B$10,FALSE),0))","v":2.0353266368741853E-28},{"$f":"IF(AND($A149>=0,Berechnung!$B$10=0),1,IF(Berechnung!$B$10<>0,_xlfn.NORM.DIST($A149,0,Berechnung!$B$10,TRUE),0))","v":1},{"$f":"IF(AND($A149=0,Berechnung!$B$11=0),1,IF(Berechnung!$B$11<>0,_xlfn.NORM.DIST($A149,0,Berechnung!$B$11,FALSE),0))","v":0},{"$f":"IF(AND($A149>=0,Berechnung!$B$11=0),1,IF(Berechnung!$B$11<>0,_xlfn.NORM.DIST($A149,0,Berechnung!$B$11,TRUE),0))","v":1},{"$f":"Demonstrator!$J$19*'Daten Diagramm'!H149+Demonstrator!$J$24*'Daten Diagramm'!L149","v":3.6193440725623608E-19},{"$f":"Demonstrator!$J$19*'Daten Diagramm'!I149+Demonstrator!$J$24*'Daten Diagramm'!M149","v":1}]

{"sheet":"Rüstzeitmatrix 1","index":5,"n_rows":34,"n_cols":49,"rows_kept":34,"cut":false,"hidden":true,"merged":[[26,14,26,16],[27,14,27,16],[1,1,1,18],[30,3,30,4],[20,14,20,16],[21,14,21,16],[22,14,22,16],[23,14,23,16],[24,14,24,16],[25,14,25,16],[28,14,28,16],[21,4,21,5],[22,4,22,5],[23,4,23,5],[25,4,25,5],[26,4,26,5],[24,4,24,5]]}
[null,null,null,null,null,null,null,null,null,null,null,null,null,null,null,null,null,null,null,null,null,null,null,null,null,null,null,null,null,null,null,null,null,26,27,28,29,30]
[null,"Rüstzeitmatrix Arbeitssystem 1",null,null,null,null,null,null,null,null,null,null,null,null,null,null,null,null,null,null,null,null,null,null,null,null,null,null,null,null,null,null,null,20,20,20,20,20]
[null,null,null,null,null,null,null,null,null,null,null,null,null,null,null,null,null,null,null,null,null,null,null,null,null,null,null,null,null,null,null,null,null,130,135,140,145,150]
[null,null," ",1,2,3,4,5,6,7,8,9,10,11,12,13,14,15]
[null,null,1,0,4.4201269745826721,19.089305400848389,8.307783305644989,14.411810040473938,4.5088484883308411,19.927877187728882,8.7278589606285095,10.594210028648376,4.8837676644325256,8.2867622375488281,6.4502760767936707,10.279741883277893,8.5188224911689758,20.556646585464478]
[null,null,2,6.3654765486717224,0,6.6095799207687378,12.552990019321442,10.63309907913208,10.849253833293915,0.26884377002716064,16.493411362171173,0.30719637870788574,18.590877950191498,3.0022233724594116,11.66851669549942,10.906147956848145,4.6712204813957214,22.379603981971741]
[null,null,3,1.9311502575874329,1.1839210987091064,0,6.8908795714378357,2.8116911649703979,5.6116953492164612,11.461865901947021,18.348304927349091,22.815635800361633,13.721199333667755,14.01934027671814,11.267922818660736,23.530659079551697,4.4044986367225647,19.734334945678711]
[null,null,4,17.078261077404022,18.483677506446838,13.64334374666214,0,15.974098443984985,12.740074098110199,9.6049278974533081,12.209524214267731,10.735762119293213,13.324467837810516,9.493592381477356,13.867993652820587,8.0369651317596436,20.841024816036224,19.933423399925232]
[null,null,5,14.829994738101959,14.556479454040527,4.315929114818573,16.658368706703186,0,14.456184208393097,2.5248348712921143,11.120091378688812,15.368196368217468,17.20975786447525,3.8649439811706543,9.5472738146781921,18.994119763374329,15.859575569629669,10.582727193832397]
[null,null,6,12.642215192317963,21.214422583580017,5.9332862496376038,6.4077377319335938,8.2787558436393738,0,16.220083832740784,6.420452892780304,4.6837866306304932,20.487962663173676,14.730402827262878,11.72567754983902,17.509567737579346,2.0362541079521179,16.258624196052551]
[null,null,7,24.871726334095001,6.1292827129364014,8.2535251975059509,12.627562880516052,21.952654421329498,12.57326602935791,0,2.1112725138664246,22.735229134559631,22.836931049823761,22.548609972000122,15.550719201564789,8.5704535245895386,18.120564520359039,9.5797896385192871]
[null,null,8,17.060939967632294,22.478511929512024,2.3302271962165833,10.399287939071655,10.506986081600189,10.676750540733337,13.376380503177643,0,6.5882205963134766,15.208010375499725,23.020210862159729,3.256399929523468,12.466961145401001,2.2653922438621521,4.0172547101974487]
[null,null,9,15.007700026035309,19.235765933990479,12.140862643718719,15.095189213752747,15.910859405994415,20.365399122238159,3.4846290946006775,13.115891814231873,0,11.942745745182037,18.237757682800293,8.2135006785392761,10.141435265541077,18.479640781879425,12.03649640083313]
[null,null,10,17.839013040065765,14.449712634086609,12.250365316867828,16.88765287399292,1.0455533862113953,2.8000622987747192,14.539404213428497,14.250272512435913,2.5184854865074158,0,23.948892951011658,5.6400313973426819,8.5570335388183594,23.022274672985077,8.4153085947036743]
[null,null,11,20.557434856891632,15.104871988296509,5.7286128401756287,9.496733546257019,0.9618416428565979,4.1956067085266113,3.794543445110321,0.53453743457794189,3.3916428685188293,1.526564359664917,0,4.1905865073204041,3.4296602010726929,13.706518709659576,19.831204414367676]
[null,null,12,7.7788636088371277,23.408237099647522,17.790563404560089,21.769744157791138,15.641222894191742,15.037223696708679,3.5054102540016174,14.069783687591553,21.657364070415497,4.4900208711624146,18.893356621265411,0,22.916930913925171,11.332963407039642,18.062099814414978]
[null,null,13,11.630488932132721,0.59542655944824219,16.877798736095428,16.93662703037262,24.729807674884796,13.378769159317017,3.5338744521141052,13.200089335441589,23.494352400302887,10.670340061187744,12.153546512126923,17.107918858528137,0,3.7203267216682434,0.3940284252166748]
[null,null,14,8.0276474356651306,15.600118041038513,6.1502233147621155,5.6348562240600586,10.963611304759979,7.0668846368789673,12.175948917865753,2.5296032428741455,6.6135987639427185,17.36423671245575,20.791949331760406,14.407432079315186,14.052622020244598,0,22.07963764667511]
[null,null,15,6.7983344197273254,12.180513143539429,9.6066698431968689,4.762113094329834E-2,10.25400310754776,20.984649658203125,6.93083256483078,18.115416169166565,7.1797683835029602,8.0699026584625244,18.337427079677582,22.15857207775116,11.511482298374176,1.941215991973877,0]
[]
[null,null,null,null,null,null,null,null,null,null,null,null,null,null,"ZAU [min]",null,null,240]
[null,null,null,"Verteilung","Gleichverteilung",null,null,null,null,null,null,null,null,null,"Anzahl Rüstklassen (default 10)",null,null,10]
[null,null,null,"min",0,null,null,null,null,null,null,null,null,null,"Anzahl Produktklassen (default 15)",null,null,15]
[null,null,null,"max",25,null,null,null,null,null,null,null,null,null,"hebbares Rüstzeitpotential",null,null,0.79183468804644375]
[null,null,null,"β",5,null,null,null,null,null,null,null,null,null,"Rüstzeitreduzierung",null,null,0.61267335675185775]
[null,null,null,"µ",25,null,null,null,null,null,null,null,null,null,"Rüstzeitersparnis",null,null,0.4625587586542701]
[null,null,null,"σ",10,null,null,null,null,null,null,null,null,null,"Ø gesparte RZ pro Arbeitstag [min]",null,null,18.874983037565745]
[null,null,null,null,null,null,null,null,null,null,null,null,null,null,"ZAU-bezogener Produktivitätsgewinn",null,null,3.9322881328261963E-2]
[null,null,null,null,null,null,null,null,null,null,null,null,null,null,"mittlere Rüstzeit [min]",null,null,11.918512362809409]
[]
[null,null,null,"Rüstklasse",null,1,2,3,4,5,6,7,8,9,{"$f":"R22","v":10},null,null,null,null,null,null,null,null,null,null,null,null,null,null,null,null,null,null,null,null,null,null,null,null,null,null,null,null,null,null,null,null,null,18]
[null,null,null,"Anzahl",null,15,24,20,16,25,26,26,22,15,21,null,null,null,null,null,null,null,null,null,null,null,null,null,null,null,null,null,null,null,null,null,null,null,null,null,null,null,null,null,null,null,null,null,0.8571428571428571]
[null,null,null,"Anteil",null,7.1428571428571423,11.428571428571429,9.5238095238095237,7.6190476190476186,11.904761904761905,12.38095238095238,12.38095238095238,10.476190476190476,7.1428571428571423,10,null,null,null,null,null,null,null,null,null,null,null,null,null,null,null,null,null,null,null,null,null,null,null,null,null,null,null,null,null,null,null,null,null,41.310653421613907]
[null,null,null,"Durchschnitliche Rüstzeit",null,1.1433879534403484,3.5433929413557053,6.0571075975894928,8.1431147642433643,10.488666772842407,12.655861904987923,15.023458920992338,17.617721991105512,20.014963646729786,22.836667086396897]

{"sheet":"Rüstzeitmatrix 2","index":6,"n_rows":34,"n_cols":49,"rows_kept":34,"cut":false,"hidden":true,"merged":[[1,1,1,18],[20,14,20,16],[21,4,21,5],[21,14,21,16],[22,4,22,5],[22,14,22,16],[23,4,23,5],[23,14,23,16],[24,4,24,5],[24,14,24,16],[25,4,25,5],[25,14,25,16],[26,4,26,5],[26,14,26,16],[27,14,27,16],[28,14,28,16],[30,3,30,4]]}
[null,null,null,null,null,null,null,null,null,null,null,null,null,null,null,null,null,null,null,null,null,null,null,null,null,null,null,null,null,null,null,null,null,26,27,28,29,30]
[null,"Rüstzeitmatrix Arbeitssystem 2",null,null,null,null,null,null,null,null,null,null,null,null,null,null,null,null,null,null,null,null,null,null,null,null,null,null,null,null,null,null,null,20,20,20,20,20]
[null,null,null,null,null,null,null,null,null,null,null,null,null,null,null,null,null,null,null,null,null,null,null,null,null,null,null,null,null,null,null,null,null,130,135,140,145,150]
[null,null," ",1,2,3,4,5,6,7,8,9,10,11,12,13,14,15]
[null,null,1,0,22.915527355481025,21.663221160300736,23.691127708585466,24.231652123098169,25.47931908567622,23.458651664830391,24.77374119352146,27.104486797246011,21.460350723610048]
[null,null,2,23.830255342363607,0,24.276053605727785,22.94015431342827,24.323977688936417,27.278667163316697,22.25026114722333,26.08064548825201,26.416726105489861,26.537876208373699]
[null,null,3,24.283187959196262,22.893010319370454,0,27.436861896931319,23.934809699311806,24.233784224606641,26.600097027494353,24.329188081973331,27.422558727896018,26.283119565191409]
[null,null,4,24.47783837873304,24.839984311370614,21.90151028799621,0,21.766796769375375,23.342652446132863,21.826486805659112,25.110279146064606,23.597138550364345,23.095698697178189]
[null,null,5,26.74311031063921,25.293072809070523,25.030151710545205,25.035827249306049,0,25.813946075639386,25.936844284802806,24.370962866762973,24.676650537062372,25.006175585850855]
[null,null,6,25.065536120969504,21.509768062934288,23.36600028246847,22.917361759347479,28.054163422588104,0,27.816058912796354,24.31076251078964,25.150026265943865,24.881560671429085]
[null,null,7,25.012924664901753,23.741084426604331,22.880590164656414,28.177320840968605,24.568784130524023,26.942009835138204,0,26.46329196338862,24.10690330383925,26.375010396222606]
[null,null,8,25.477644196416747,24.501899001900217,27.998893064633165,25.859526643983642,27.83052218163078,24.895282329997151,26.505672441980987,0,23.111671575417439,25.323256218042584]
[null,null,9,24.047233431139411,23.409819882983861,23.639676049148378,24.538526156407531,26.820268920026944,27.089310241638589,22.935006506400676,24.973893726906557,0,24.636841777247874]
[null,null,10,25.888764688333129,31.013711175164371,23.839405472595086,24.129697116182388,24.618797704481416,25.496036151057091,23.01174331673614,27.719570682797432,23.795249414879066,0]
[null,null,11]
[null,null,12]
[null,null,13]
[null,null,14]
[null,null,15]
[]
[null,null,null,null,null,null,null,null,null,null,null,null,null,null,"ZAU [min]",null,null,480]
[null,null,null,"Verteilung","Normalverteilung",null,null,null,null,null,null,null,null,null,"Anzahl Rüstklassen (default 10)",null,null,10]
[null,null,null,"min",0,null,null,null,null,null,null,null,null,null,"Anzahl Produktklassen (default 15)",null,null,10]
[null,null,null,"max",25,null,null,null,null,null,null,null,null,null,"hebbares Rüstzeitpotential",null,null,0.70255829996846475]
[null,null,null,"β",5,null,null,null,null,null,null,null,null,null,"Rüstzeitreduzierung",null,null,5.2161706017632994E-2]
[null,null,null,"µ",25,null,null,null,null,null,null,null,null,null,"Rüstzeitersparnis",null,null,0.68618940390999994]
[null,null,null,"σ",2,null,null,null,null,null,null,null,null,null,"Ø gesparte RZ pro Arbeitstag [min]",null,null,17.473729630721088]
[null,null,null,null,null,null,null,null,null,null,null,null,null,null,"ZAU-bezogener Produktivitätsgewinn",null,null,3.6403603397335595E-2]
[null,null,null,null,null,null,null,null,null,null,null,null,null,null,"mittlere Rüstzeit [min]",null,null,24.871572411151387]
[]
[null,null,null,"Rüstklasse",null,1,2,3,4,5,6,7,8,9,10,null,null,null,null,null,null,null,null,null,null,null,null,null,null,null,null,null,null,null,null,null,null,null,null,null,null,null,null,null,null,null,null,null,18]
[null,null,null,"Anzahl",null,0,0,0,0,0,0,3,44,40,3,null,null,null,null,null,null,null,null,null,null,null,null,null,null,null,null,null,null,null,null,null,null,null,null,null,null,null,null,null,null,null,null,null,0.8571428571428571]
[null,null,null,"Anteil",null,0,0,0,0,0,0,3.333333333333333,48.888888888888886,44.444444444444443,3.333333333333333,null,null,null,null,null,null,null,null,null,null,null,null,null,null,null,null,null,null,null,null,null,null,null,null,null,null,null,null,null,null,null,null,null,41.310653421613907]
[null,null,null,"Durchschnitliche Rüstzeit",null,0,0,0,0,0,0,21.544446648948355,23.671094812515182,26.125870246684769,29.081731812907037]

{"sheet":"Rüstzeitmatrix 3","index":7,"n_rows":34,"n_cols":49,"rows_kept":34,"cut":false,"hidden":true,"merged":[[1,1,1,18],[20,14,20,16],[21,4,21,5],[21,14,21,16],[22,4,22,5],[22,14,22,16],[23,4,23,5],[23,14,23,16],[24,4,24,5],[24,14,24,16],[25,4,25,5],[25,14,25,16],[26,4,26,5],[26,14,26,16],[27,14,27,16],[28,14,28,16],[30,3,30,4]]}
[null,null,null,null,null,null,null,null,null,null,null,null,null,null,null,null,null,null,null,null,null,null,null,null,null,null,null,null,null,null,null,null,null,26,27,28,29,30]
[null,"Rüstzeitmatrix Arbeitssystem 3",null,null,null,null,null,null,null,null,null,null,null,null,null,null,null,null,null,null,null,null,null,null,null,null,null,null,null,null,null,null,null,20,20,20,20,20]
[null,null,null,null,null,null,null,null,null,null,null,null,null,null,null,null,null,null,null,null,null,null,null,null,null,null,null,null,null,null,null,null,null,130,135,140,145,150]
[null,null," ",1,2,3,4,5,6,7,8,9,10,11,12,13,14,15]
[null,null,1,0,20.661528408527374,11.228138208389282,3.0521735548973083,10.44597327709198,19.354356825351715,10.29735803604126,1.6513988375663757,8.4776431322097778,2.1310150623321533E-2,0.26060938835144043,17.119310796260834,12.250909209251404,19.420506060123444,6.1560392379760742]
[null,null,2,13.403968513011932,0,12.734094262123108,6.2094762921333313,12.323552370071411,1.5481576323509216,9.6113413572311401,12.898291647434235,6.5454363822937012,7.2675153613090515,8.5482388734817505,24.052686989307404,5.4369866847991943,19.778655469417572,24.707445502281189]
[null,null,3,20.747186243534088,11.087131500244141,0,21.877293288707733,17.514315247535706,1.2682273983955383,23.94905686378479,1.2663707137107849,6.6725224256515503,8.0672875046730042,11.980831623077393,18.134181201457977,19.429686665534973,10.964007675647736,11.036032438278198]
[null,null,4,3.9824947714805603,19.092997908592224,21.599318087100983,0,6.504368782043457,16.704683005809784,14.794841408729553,14.138562977313995,21.202307939529419,1.9138440489768982,2.5084227323532104,2.2246256470680237,9.513700008392334,10.520927608013153,12.313392758369446]
[null,null,5,22.181053459644318,7.7804028987884521,22.562859952449799,11.911472678184509,0,22.465182840824127,15.942907333374023,2.2806689143180847,16.392078995704651,9.3712642788887024,10.430961847305298,9.4476088881492615,4.2479485273361206,23.983587324619293,13.304197788238525]
[null,null,6,16.947285830974579,14.640763401985168,0.37960559129714966,17.642754316329956,9.6017822623252869,0,0.91677606105804443,5.0830617547035217,19.18790340423584,14.249782264232635,15.372434258460999,7.7671125531196594,4.2326748371124268,11.074696481227875,0.27000606060028076]
[null,null,7,8.2074537873268127,18.762481212615967,1.1827871203422546,10.103204846382141,19.485445320606232,18.84574294090271,0,5.4312929511070251,15.11281430721283,7.4412360787391663,2.2745132446289063,19.506554305553436,11.052313446998596,11.376889050006866,21.455103158950806]
[null,null,8,0.25213807821273804,10.203501582145691,21.009506285190582,2.5487065315246582,8.2469627261161804,13.642123341560364,9.6743538975715637,0,20.862025022506714,6.6334232687950134,14.753493666648865,23.777987062931061,7.4878931045532227,16.195516288280487,8.9981228113174438]
[null,null,9,3.5013750195503235,12.195903062820435,1.6869649291038513,9.9273413419723511,9.7530260682106018,22.5730299949646,14.409343898296356,21.448925137519836,0,7.3721125721931458,14.414256811141968,16.040204465389252,16.34272038936615,4.5815959572792053,8.3631992340087891]
[null,null,10,8.7111994624137878,21.026268601417542,23.691351711750031,7.8027307987213135,21.336208283901215,6.5704315900802612,3.0512943863868713,17.995607852935791,2.189461886882782,0,10.965016484260559,5.2545025944709778,21.475094556808472,17.73366779088974,17.634400725364685]
[null,null,11,6.5903440117835999,9.6855878829956055,7.6981350779533386,15.203157067298889,17.747600376605988,20.873242616653442,21.406899392604828,13.511678576469421,10.767592489719391,9.2265963554382324,0,10.356847941875458,15.881803631782532,2.2473052144050598,20.267194509506226]
[null,null,12,2.0458444952964783,22.63244092464447,17.792512476444244,22.490215301513672,5.0508543848991394,15.845194458961487,12.720902264118195,20.255094766616821,20.356069505214691,0.37998855113983154,24.01520162820816,0,22.926151752471924,8.9310333132743835,1.1406928300857544]
[null,null,13,3.5263016819953918,20.263212919235229,15.558765828609467,16.590747237205505,7.4263826012611389,14.062237739562988,23.91388863325119,3.5187870264053345,16.912038624286652,6.0459434986114502,17.890749871730804,18.054267764091492,0,15.15740305185318,17.004430294036865]
[null,null,14,24.181549251079559,12.933090329170227,20.517273247241974,12.185806035995483,11.104463040828705,16.013225913047791,0.98023563623428345,7.9368114471435547,18.681769073009491,15.040341019630432,19.871790707111359,9.5934450626373291,19.967971742153168,0,23.663422465324402]
[null,null,15,12.807478010654449,5.6215882301330566,13.627927005290985,3.7004023790359497,20.896001160144806,18.007630109786987,22.764967381954193,18.653783202171326,5.192352831363678,8.8990926742553711,24.999026954174042,18.47626268863678,17.400939762592316,18.495255708694458,0]
[]
[null,null,null,null,null,null,null,null,null,null,null,null,null,null,"ZAU [min]",null,null,96]
[null,null,null,"Verteilung","Gleichverteilung",null,null,null,null,null,null,null,null,null,"Anzahl Rüstklassen (default 10)",null,null,10]
[null,null,null,"min",0,null,null,null,null,null,null,null,null,null,"Anzahl Produktklassen (default 15)",null,null,15]
[null,null,null,"max",25,null,null,null,null,null,null,null,null,null,"hebbares Rüstzeitpotential",null,null,0.3364549028672561]
[null,null,null,"β",5,null,null,null,null,null,null,null,null,null,"Rüstzeitreduzierung",null,null,0.28905882450063147]
[null,null,null,"µ",25,null,null,null,null,null,null,null,null,null,"Rüstzeitersparnis",null,null,6.6666666666666707E-2]
[null,null,null,"σ",5,null,null,null,null,null,null,null,null,null,"Ø gesparte RZ pro Arbeitstag [min]",null,null,21.267928187501781]
[null,null,null,null,null,null,null,null,null,null,null,null,null,null,"ZAU-bezogener Produktivitätsgewinn",null,null,4.4308183723962051E-2]
[null,null,null,null,null,null,null,null,null,null,null,null,null,null,"mittlere Rüstzeit [min]",null,null,12.642364849646887]
[]
[null,null,null,"Rüstklasse",null,1,2,3,4,5,6,7,8,9,{"$f":"R22","v":10},null,null,null,null,null,null,null,null,null,null,null,null,null,null,null,null,null,null,null,null,null,null,null,null,null,null,null,null,null,null,null,null,null,18]
[null,null,null,"Anzahl",null,22,12,16,21,27,17,20,22,24,29,null,null,null,null,null,null,null,null,null,null,null,null,null,null,null,null,null,null,null,null,null,null,null,null,null,null,null,null,null,null,null,null,null,0.8571428571428571]
[null,null,null,"Anteil",null,10.476190476190476,5.7142857142857144,7.6190476190476186,10,12.857142857142856,8.0952380952380949,9.5238095238095237,10.476190476190476,11.428571428571429,13.809523809523808,null,null,null,null,null,null,null,null,null,null,null,null,null,null,null,null,null,null,null,null,null,null,null,null,null,null,null,null,null,null,null,null,null,41.310653421613907]
[null,null,null,"Durchschnitliche Rüstzeit",null,1.290069655938582,3.5376814504464469,5.9374140575528145,8.1265315413475037,10.340537296401131,12.749742322108325,15.141352489590645,17.478792775760997,19.822436384856701,22.736828645755505]

{"sheet":"Rüstzeitmatrix 4","index":8,"n_rows":34,"n_cols":49,"rows_kept":34,"cut":false,"hidden":true,"merged":[[1,1,1,18],[20,14,20,16],[21,4,21,5],[21,14,21,16],[22,4,22,5],[22,14,22,16],[23,4,23,5],[23,14,23,16],[24,4,24,5],[24,14,24,16],[25,4,25,5],[25,14,25,16],[26,4,26,5],[26,14,26,16],[27,14,27,16],[28,14,28,16],[30,3,30,4]]}
[null,null,null,null,null,null,null,null,null,null,null,null,null,null,null,null,null,null,null,null,null,null,null,null,null,null,null,null,null,null,null,null,null,26,27,28,29,30]
[null,"Rüstzeitmatrix Arbeitssystem 4",null,null,null,null,null,null,null,null,null,null,null,null,null,null,null,null,null,null,null,null,null,null,null,null,null,null,null,null,null,null,null,20,20,20,20,20]
[null,null,null,null,null,null,null,null,null,null,null,null,null,null,null,null,null,null,null,null,null,null,null,null,null,null,null,null,null,null,null,null,null,130,135,140,145,150]
[null,null," ",1,2,3,4,5,6,7,8,9,10,11,12,13,14,15]
[null,null,1,0,8.039757251739502,9.720606803894043,20.43831205368042,23.504434585571289,21.148352146148682,6.1897439956665039,1.6461348533630371,6.0352630615234375,13.092976093292236,1.7445440292358398,10.815719127655029,21.024557113647461,14.630953311920166,7.6130342483520508]
[null,null,2,15.762982845306396,0,16.524562835693359,3.1055455207824707,3.2654294967651367,7.5772814750671387,14.767213821411133,21.32095193862915,11.789132118225098,14.496407985687256,22.539131164550781,14.417309284210205,13.263731956481934,1.781592845916748,19.556623458862305]
[null,null,3,8.7456917762756348,8.1360063552856445,0,17.592504024505615,24.840686798095703,8.7431111335754395,14.59492015838623,8.8622469902038574,1.0920047760009766,19.807516574859619,23.946625709533691,3.1723647117614746,5.065948486328125,5.1727948188781738,9.9894628524780273]
[null,null,4,8.6278376579284668,7.9475765228271484,16.783770084381104,0,16.388958930969238,15.732083797454834,9.7266349792480469,20.171204090118408,10.052828788757324,5.2619585990905762,15.57255744934082,13.326796054840088,4.5059747695922852,10.142755031585693,18.209465026855469]
[null,null,5,7.5781826972961426,21.265486717224121,15.323203563690186,10.291166305541992,0,14.463938236236572,9.215641975402832,7.6504721641540527,2.7761573791503906,14.608574390411377,9.982905387878418,7.7451663017272949,1.3026218414306641,4.5975403785705566,17.310929298400879]
[null,null,6,11.876328945159912,12.563430786132813,1.8522229194641113,10.435553550720215,11.836440563201904,0,8.6811428070068359,7.504946231842041,17.459805488586426,20.816419124603271,17.583003997802734,23.273972034454346,16.728899955749512,9.2806200981140137,3.3759479522705078]
[null,null,7,2.3384995460510254,12.205239295959473,14.841836452484131,16.721595764160156,22.21366548538208,18.843413352966309,0,18.136298656463623,15.21125602722168,7.6255440711975098,5.9651994705200195,16.69867467880249,1.7409248352050781,11.386147022247314,14.634562492370605]
[null,null,8,8.8370699882507324,24.886285781860352,21.268423557281494,17.032654762268066,7.5080275535583496,17.2777099609375,12.881260395050049,0,21.832816123962402,12.191527843475342,23.975255966186523,8.5444817543029785,17.575573921203613,10.765988826751709,4.8436698913574219]
[null,null,9,22.163849353790283,18.043642997741699,11.383265972137451,2.9273853302001953,10.106062412261963,17.63692569732666,8.3436522483825684,6.8255233764648438,0,20.073757648468018,24.747511863708496,1.9708781242370605,11.066892623901367,9.9805092811584473,5.134678840637207]
[null,null,10,24.487111568450928,10.484989166259766,8.825829029083252,23.299891471862793,3.8879580497741699,24.592996597290039,19.570166110992432,5.8618021011352539,17.817460536956787,0,7.9587860107421875,24.009907245635986,14.93125057220459,1.4430994987487793,6.5799160003662109]
[null,null,11,17.652376651763916,23.486264228820801,13.330792903900146,8.2586326599121094,2.5908360481262207,8.7470579147338867,3.3198962211608887,14.976869583129883,10.3794846534729,3.5510339736938477,0,18.398202419281006,1.2712478637695313,10.908459186553955,9.7277822494506836]
[null,null,12,6.576941967010498,22.608076095581055,19.278833866119385,13.474080085754395,10.765782833099365,17.758350372314453,16.677620410919189,6.7288923263549805,8.6478304862976074,1.1727542877197266,21.252768039703369,0,14.548371315002441,22.554627895355225,21.356658935546875]
[null,null,13,20.988163471221924,8.4808568954467773,19.341155529022217,5.2451229095458984,8.5786309242248535,17.941876411437988,8.260831356048584,16.577892303466797,22.304932117462158,7.5891447067260742,24.840510845184326,16.27440071105957,0,24.908766269683838,24.697564125061035]
[null,null,14,24.755486965179443,12.808769226074219,4.4677700996398926,16.534224510192871,23.704490184783936,2.5848064422607422,9.2705178260803223,13.733403205871582,3.2846884727478027,12.311008453369141,20.691521167755127,7.671565055847168,14.866687297821045,0,3.3755588531494141]
[null,null,15,24.066229343414307,1.8423624038696289,1.4695296287536621,22.221328735351563,13.566029071807861,21.231635093688965,9.6356959342956543,20.720876693725586,3.073244571685791,7.6924104690551758,23.306104183197021,18.551448822021484,19.056137561798096,9.3199033737182617,0]
[]
[null,null,null,null,null,null,null,null,null,null,null,null,null,null,"ZAU [min]",null,null,192]
[null,null,null,"Verteilung","Gleichverteilung",null,null,null,null,null,null,null,null,null,"Anzahl Rüstklassen (default 10)",null,null,10]
[null,null,null,"min",1,null,null,null,null,null,null,null,null,null,"Anzahl Produktklassen (default 15)",null,null,15]
[null,null,null,"max",25,null,null,null,null,null,null,null,null,null,"hebbares Rüstzeitpotential",null,null,0.78083026574601222]
[null,null,null,"β",5,null,null,null,null,null,null,null,null,null,"Rüstzeitreduzierung",null,null,0.5921977745786754]
[null,null,null,"µ",25,null,null,null,null,null,null,null,null,null,"Rüstzeitersparnis",null,null,0.4625587586542701]
[null,null,null,"σ",5,null,null,null,null,null,null,null,null,null,"Ø gesparte RZ pro Arbeitstag [min]",null,null,24.99947455330912]
[null,null,null,null,null,null,null,null,null,null,null,null,null,null,"ZAU-bezogener Produktivitätsgewinn",null,null,5.208223865272734E-2]
[null,null,null,null,null,null,null,null,null,null,null,null,null,null,"mittlere Rüstzeit [min]",null,null,12.806611449377876]
[]
[null,null,null,"Rüstklasse",null,1,2,3,4,5,6,7,8,9,{"$f":"R22","v":10},null,null,null,null,null,null,null,null,null,null,null,null,null,null,null,null,null,null,null,null,null,null,null,null,null,null,null,null,null,null,null,null,null,18]
[null,null,null,"Anzahl",null,13,18,14,33,22,16,19,26,14,35,null,null,null,null,null,null,null,null,null,null,null,null,null,null,null,null,null,null,null,null,null,null,null,null,null,null,null,null,null,null,null,null,null,0.8571428571428571]
[null,null,null,"Anteil",null,6.1904761904761898,8.5714285714285712,6.6666666666666661,15.714285714285714,10.476190476190476,7.6190476190476186,9.0476190476190474,12.38095238095238,6.6666666666666661,16.666666666666664,null,null,null,null,null,null,null,null,null,null,null,null,null,null,null,null,null,null,null,null,null,null,null,null,null,null,null,null,null,null,null,null,null,41.310653421613907]
[null,null,null,"Durchschnitliche Rüstzeit",null,1.5638398390549879,3.3444798787434897,5.8205325603485107,8.2663510495966133,10.321299834684892,12.765684187412262,14.98186206817627,17.369785712315487,19.953864336013794,23.075353036608014]

{"sheet":"Rüstzeitmatrix 5","index":9,"n_rows":34,"n_cols":49,"rows_kept":34,"cut":false,"hidden":true,"merged":[[1,1,1,18],[20,14,20,16],[21,4,21,5],[21,14,21,16],[22,4,22,5],[22,14,22,16],[23,4,23,5],[23,14,23,16],[24,4,24,5],[24,14,24,16],[25,4,25,5],[25,14,25,16],[26,4,26,5],[26,14,26,16],[27,14,27,16],[28,14,28,16],[30,3,30,4]]}
[null,null,null,null,null,null,null,null,null,null,null,null,null,null,null,null,null,null,null,null,null,null,null,null,null,null,null,null,null,null,null,null,null,26,27,28,29,30]
[null,"Rüstzeitmatrix Arbeitssystem 5",null,null,null,null,null,null,null,null,null,null,null,null,null,null,null,null,null,null,null,null,null,null,null,null,null,null,null,null,null,null,null,20,20,20,20,20]
[null,null,null,null,null,null,null,null,null,null,null,null,null,null,null,null,null,null,null,null,null,null,null,null,null,null,null,null,null,null,null,null,null,130,135,140,145,150]
[null,null," ",1,2,3,4,5,6,7,8,9,10,11,12,13,14,15]
[null,null,1,0,8.2314476370811462,18.992623686790466,8.9609876275062561,8.2377195358276367,20.049552619457245,4.1254669427871704,23.050983250141144,13.752156496047974,16.402970254421234,7.6250284910202026,16.122855246067047,5.0748705863952637,12.069837749004364,17.969396710395813]
[null,null,2,24.304838478565216,0,19.133657217025757,10.329268872737885,8.1337302923202515,5.2339568734169006,3.3299446105957031,8.0394789576530457,20.355883240699768,8.7591484189033508,3.4294188022613525,6.9659098982810974,7.1520298719406128,3.8943901658058167,7.7026486396789551]
[null,null,3,6.3593551516532898,3.5822898149490356,0,12.021823227405548,22.315710783004761,1.7840847373008728,5.7663530111312866,21.344877779483795,2.9708147048950195,15.195970237255096,5.6491047143936157,7.5913980603218079,17.796927690505981,6.2706097960472107,7.0162504911422729]
[null,null,4,10.966767370700836,16.490399837493896,14.981453120708466,0,22.759941220283508,19.35703307390213,5.7055890560150146,10.427926480770111,3.3943980932235718,7.7820315957069397,5.6954860687255859,20.913557708263397,21.821537613868713,9.0985134243965149,13.20233941078186]
[null,null,5,20.274101197719574,14.346596598625183,15.953268110752106,20.598280429840088,0,20.455662906169891,2.943757176399231,13.986249268054962,16.275948286056519,20.342825353145599,23.771771788597107,21.283699572086334,16.289114952087402,10.836772620677948,11.939588189125061]
[null,null,6,9.0812757611274719,2.2433102130889893,11.183415353298187,17.521974444389343,3.7171736359596252,0,15.436446666717529,11.551515758037567,2.8251439332962036,19.835253059864044,7.2494447231292725,21.860812604427338,20.902380347251892,24.838162958621979,20.786857604980469]
[null,null,7,1.8601462244987488,0.31966269016265869,9.590466320514679,3.7674963474273682,22.455583512783051,11.171290278434753,0,15.371765196323395,2.6650547981262207,8.2885429263114929,12.345507740974426,17.079825699329376,13.098734617233276,11.563919484615326,5.0401300191879272]
[null,null,8,12.683703005313873,11.473870277404785,17.1282097697258,17.528167366981506,18.926866352558136,17.872554063796997,3.7976369261741638,0,21.173450350761414,23.280324041843414,15.194261074066162,11.936275660991669,2.6962548494338989,17.145748436450958,24.54647421836853]
[null,null,9,17.284177243709564,17.688927054405212,10.308600962162018,11.885309219360352,11.0354945063591,0.381508469581604,1.641257107257843,0.90613961219787598,0,11.166606843471527,4.6573609113693237,6.0561314225196838,17.184221744537354,5.0142452120780945,1.3187915086746216]
[null,null,10,12.70880252122879,13.565319776535034,23.103617131710052,6.6026777029037476,24.451138079166412,1.806330680847168,19.226531684398651,16.946092247962952,3.5344198346138,0,15.465909242630005,6.7695245146751404,1.9282102584838867E-3,23.562468588352203,4.0450930595397949]
[null,null,11,1.2919828295707703,16.904523968696594,2.6947692036628723,8.3779275417327881,19.354270398616791,0.78528821468353271,18.099595606327057,17.272090911865234,8.5958525538444519,16.538324952125549,0,1.6571357846260071,5.3995192050933838,9.0634211897850037,1.836058497428894]
[null,null,12,16.912616789340973,2.4370312690734863,20.789019763469696,14.394858479499817,17.279429733753204,18.456953763961792,2.6181682944297791,10.490664839744568,10.492254793643951,0.56774616241455078,2.2879883646965027,0,4.724612832069397,4.3101862072944641,20.804625749588013]
[null,null,13,17.755328118801117,11.038658022880554,8.4698572754859924,20.270192623138428,14.774887263774872,14.98120129108429,17.888565361499786,9.5250546932220459,0.72734206914901733,2.222713828086853,2.1173968911170959,0.22845268249511719,0,4.6974703669548035,18.321362137794495]
[null,null,14,1.0443523526191711,18.028885126113892,13.80227655172348,9.7386330366134644,1.847471296787262,21.704733371734619,15.769116580486298,21.104958653450012,22.197957336902618,3.5548865795135498,22.763822972774506,23.735341429710388,24.71330314874649,0,21.039366722106934]
[null,null,15,1.4688298106193542,0.39497911930084229,12.660415470600128,9.6699535846710205,9.4112977385520935,11.314889788627625,6.9087401032447815,2.1508097648620605,12.541238963603973,16.457536816596985,4.1333869099617004,3.7691056728363037,9.0596422553062439,4.0324538946151733,0]
[]
[null,null,null,null,null,null,null,null,null,null,null,null,null,null,"ZAU [min]",null,null,96]
[null,null,null,"Verteilung","Gleichverteilung",null,null,null,null,null,null,null,null,null,"Anzahl Rüstklassen (default 10)",null,null,10]
[null,null,null,"min",0,null,null,null,null,null,null,null,null,null,"Anzahl Produktklassen (default 15)",null,null,15]
[null,null,null,"max",25,null,null,null,null,null,null,null,null,null,"hebbares Rüstzeitpotential",null,null,0.82276936562446279]
[null,null,null,"β",5,null,null,null,null,null,null,null,null,null,"Rüstzeitreduzierung",null,null,0.67023253754818068]
[null,null,null,"µ",25,null,null,null,null,null,null,null,null,null,"Rüstzeitersparnis",null,null,0.4625587586542701]
[null,null,null,"σ",5,null,null,null,null,null,null,null,null,null,"Ø gesparte RZ pro Arbeitstag [min]",null,null,47.697465811602584]
[null,null,null,null,null,null,null,null,null,null,null,null,null,null,"ZAU-bezogener Produktivitätsgewinn",null,null,9.9369720440838694E-2]
[null,null,null,null,null,null,null,null,null,null,null,null,null,null,"mittlere Rüstzeit [min]",null,null,11.59437086610567]
[]
[null,null,null,"Rüstklasse",null,1,2,3,4,5,6,7,8,9,{"$f":"R22","v":10},null,null,null,null,null,null,null,null,null,null,null,null,null,null,null,null,null,null,null,null,null,null,null,null,null,null,null,null,null,null,null,null,null,18]
[null,null,null,"Anzahl",null,26,29,17,22,25,14,27,19,20,11,null,null,null,null,null,null,null,null,null,null,null,null,null,null,null,null,null,null,null,null,null,null,null,null,null,null,null,null,null,null,null,null,null,0.8571428571428571]
[null,null,null,"Anteil",null,12.38095238095238,13.809523809523808,8.0952380952380949,10.476190476190476,11.904761904761905,6.6666666666666661,12.857142857142856,9.0476190476190474,9.5238095238095237,5.2380952380952381,null,null,null,null,null,null,null,null,null,null,null,null,null,null,null,null,null,null,null,null,null,null,null,null,null,null,null,null,null,null,null,null,null,41.310653421613907]
[null,null,null,"Durchschnitliche Rüstzeit",null,1.3587976304384379,3.7600138064088493,6.3760047449785118,8.701939068057321,11.417424619197845,14.14179333618709,16.740811754156042,19.092426488274022,21.453841850161552,23.941674828529358]

{"sheet":"Rüstzeitmatrix 6","index":10,"n_rows":34,"n_cols":49,"rows_kept":34,"cut":false,"hidden":true,"merged":[[1,1,1,18],[20,14,20,16],[21,4,21,5],[21,14,21,16],[22,4,22,5],[22,14,22,16],[23,4,23,5],[23,14,23,16],[24,4,24,5],[24,14,24,16],[25,4,25,5],[25,14,25,16],[26,4,26,5],[26,14,26,16],[27,14,27,16],[28,14,28,16],[30,3,30,4]]}
[null,null,null,null,null,null,null,null,null,null,null,null,null,null,null,null,null,null,null,null,null,null,null,null,null,null,null,null,null,null,null,null,null,26,27,28,29,30]
[null,"Rüstzeitmatrix Arbeitssystem 6",null,null,null,null,null,null,null,null,null,null,null,null,null,null,null,null,null,null,null,null,null,null,null,null,null,null,null,null,null,null,null,20,20,20,20,20]
[null,null,null,null,null,null,null,null,null,null,null,null,null,null,null,null,null,null,null,null,null,null,null,null,null,null,null,null,null,null,null,null,null,130,135,140,145,150]
[null,null," ",1,2,3,4,5,6,7,8,9,10,11,12,13,14,15]
[null,null,1,0,8.1051275134086609,5.9377461671829224,7.1771338582038879,5.1847398281097412,23.172114789485931,6.6169112920761108,23.749257624149323,5.8895111083984375,1.0443732142448425,14.290419220924377,8.1078842282295227,11.926180124282837,11.846719682216644,1.3963192701339722]
[null,null,2,19.501365721225739,0,15.862190723419189,16.939322650432587,16.666606068611145,13.29621821641922,21.910494565963745,17.74582713842392,13.642844557762146,5.430246889591217,2.5701761245727539,10.831479728221893,10.441794991493225,18.11567097902298,11.517077684402466]
[null,null,3,24.231253564357758,5.7710379362106323,0,6.7922487854957581,2.7444243431091309,10.027973353862762,1.1945992708206177,18.330402672290802,5.953449010848999,18.180440366268158,4.6485751867294312,5.4843440651893616,8.1940174102783203,1.6015574336051941,15.206757187843323]
[null,null,4,22.595198452472687,16.755253076553345,2.4864539504051208,0,14.096257090568542,2.5441303849220276,3.3061623573303223,19.890610873699188,11.96313202381134,14.955468475818634,4.2862594127655029,8.5579857230186462,2.3880094289779663,5.6498304009437561,2.5461912155151367]
[null,null,5,8.9991375803947449,21.65171205997467,17.347247898578644,15.238362550735474,0,8.8193520903587341,14.750882983207703,16.620291769504547,12.957561016082764,10.296766459941864,7.663610577583313,2.0971968770027161,20.131582021713257,4.2104944586753845,10.865053534507751]
[null,null,6,18.914987146854401,21.661853790283203,24.918751418590546,4.0930658578872681,4.4226005673408508,0,0.81406235694885254,11.686979234218597,2.3638218641281128,15.134014189243317,8.3587765693664551,1.2659713625907898,3.2374411821365356,9.9313691258430481,12.962073087692261]
[null,null,7,1.7199978232383728,15.333613753318787,14.518095552921295,7.8261613845825195,22.504930198192596,18.097224831581116,0,17.122037708759308,23.580008745193481,10.796366631984711,2.8139799833297729,20.448578894138336,22.419965267181396,19.067756831645966,19.876030087471008]
[null,null,8,24.88376647233963,23.500388860702515,3.9185270667076111,7.2975963354110718,17.94743686914444,9.5742702484130859,6.1522051692008972,0,0.48059523105621338,19.996340572834015,14.88385796546936,12.104545533657074,23.230263590812683,11.177267134189606,19.301283359527588]
[null,null,9,21.221654117107391,10.020783543586731,14.630170166492462,23.719185590744019,19.888113439083099,9.5109075307846069,10.941292345523834,6.6913366317749023,0,11.505107581615448,19.309583306312561,8.8462904095649719,12.323266267776489,2.8185471892356873,1.9915789365768433]
[null,null,10,22.183360159397125,19.412887096405029,21.497194468975067,7.3631078004837036,3.0963614583015442,16.841119527816772,14.960788190364838,0.97745358943939209,6.4879432320594788,0,10.212516784667969,5.4581686854362488,23.900595307350159,10.722668468952179,9.7458899021148682]
[null,null,11,1.3954028487205505,8.7268322706222534,19.580139219760895,24.414932727813721,14.913909137248993,1.8444091081619263,20.458121597766876,12.338846921920776,10.718582570552826,16.951140761375427,0,23.825670778751373,12.422966957092285,11.1559197306633,19.820037484169006]
[null,null,12,8.926256000995636,7.2493851184844971,7.5421437621116638,19.314929842948914,0.73088556528091431,17.217576503753662,2.7413293719291687,14.656093716621399,3.1412318348884583,0.93502402305603027,9.9935278296470642,0,23.935875296592712,13.442756235599518,11.857843399047852]
[null,null,13,7.9928919672966003,18.884316086769104,18.007834255695343,11.181408166885376,2.2158011794090271,15.884777903556824,19.248880445957184,11.980974674224854,17.498986423015594,23.239567875862122,18.82147341966629,4.6023070812225342,0,21.867655217647552,19.685563445091248]
[null,null,14,7.0774808526039124,13.302302360534668,6.6136166453361511,14.159837365150452,8.7681844830513,9.1396152973175049,22.62340635061264,11.815282702445984,9.9974051117897034,4.1152834892272949,22.95641154050827,11.286237835884094,16.424627602100372,0,1.5633523464202881]
[null,null,15,11.672995984554291,8.2041114568710327,17.718125879764557,2.7915000915527344,23.912625014781952,4.9630075693130493,8.2580879330635071,19.971662759780884,12.221990525722504,1.735350489616394,14.089740812778473,20.280659198760986,14.133135974407196,18.737509846687317,0]
[]
[null,null,null,null,null,null,null,null,null,null,null,null,null,null,"ZAU [min]",null,null,96]
[null,null,null,"Verteilung","Gleichverteilung",null,null,null,null,null,null,null,null,null,"Anzahl Rüstklassen (default 10)",null,null,10]
[null,null,null,"min",0,null,null,null,null,null,null,null,null,null,"Anzahl Produktklassen (default 15)",null,null,15]
[null,null,null,"max",25,null,null,null,null,null,null,null,null,null,"hebbares Rüstzeitpotential",null,null,0.92676557385445724]
[null,null,null,"β",5,null,null,null,null,null,null,null,null,null,"Rüstzeitreduzierung",null,null,0.61644058824796022]
[null,null,null,"µ",25,null,null,null,null,null,null,null,null,null,"Rüstzeitersparnis",null,null,0.8090662778654828]
[null,null,null,"σ",5,null,null,null,null,null,null,null,null,null,"Ø gesparte RZ pro Arbeitstag [min]",null,null,93.206327160251291]
[null,null,null,null,null,null,null,null,null,null,null,null,null,null,"ZAU-bezogener Produktivitätsgewinn",null,null,0.19417984825052353]
[null,null,null,null,null,null,null,null,null,null,null,null,null,null,"mittlere Rüstzeit [min]",null,null,20.114326597739758]
[]
[null,null,null,"Rüstklasse",null,1,2,3,4,5,6,7,8,9,{"$f":"R22","v":10},null,null,null,null,null,null,null,null,null,null,null,null,null,null,null,null,null,null,null,null,null,null,null,null,null,null,null,null,null,null,null,null,null,18]
[null,null,null,"Anzahl",null,20,21,20,21,30,16,20,22,19,21,null,null,null,null,null,null,null,null,null,null,null,null,null,null,null,null,null,null,null,null,null,null,null,null,null,null,null,null,null,null,null,null,null,0.8571428571428571]
[null,null,null,"Anteil",null,9.5238095238095237,10,9.5238095238095237,10,14.285714285714285,7.6190476190476186,9.5238095238095237,10.476190476190476,9.0476190476190474,10,null,null,null,null,null,null,null,null,null,null,null,null,null,null,null,null,null,null,null,null,null,null,null,null,null,null,null,null,null,null,null,null,null,41.310653421613907]
[null,null,null,"Durchschnitliche Rüstzeit",null,1.4877881109714508,3.3873829813230607,6.1938969790935516,8.4516548684665143,11.00737139582634,13.38739451020956,15.680462419986725,18.379200859503314,20.491545765023481,23.499882363137743]

{"sheet":"Rüstzeitklassen","index":11,"n_rows":18,"n_cols":38,"rows_kept":18,"cut":false,"hidden":true,"merged":[]}
[15,24,20,16,25,26,26,22,15,21,null,null,null,null,null,null,null,null,null,null,null,null,null,null,null,null,null,null,null,null,null,null,null,26,27,28,29,30]
[7.1428571428571423,11.428571428571429,9.5238095238095237,7.6190476190476186,11.904761904761905,12.38095238095238,12.38095238095238,10.476190476190476,7.1428571428571423,10,null,null,null,null,null,null,null,null,null,null,null,null,null,null,null,null,null,null,null,null,null,null,null,20,20,20,20,20]
[1.1433879534403484,3.5433929413557053,6.0571075975894928,8.1431147642433643,10.488666772842407,12.655861904987923,15.023458920992338,17.617721991105512,20.014963646729786,22.836667086396897,null,null,null,null,null,null,null,null,null,null,null,null,null,null,null,null,null,null,null,null,null,null,null,130,135,140,145,150]
[0,0,0,0,0,0,3,44,40,3]
[0,0,0,0,0,0,3.333333333333333,48.888888888888886,44.444444444444443,3.333333333333333]
[0,0,0,0,0,0,21.544446648948355,23.671094812515182,26.125870246684769,29.081731812907037]
[22,12,16,21,27,17,20,22,24,29]
[10.476190476190476,5.7142857142857144,7.6190476190476186,10,12.857142857142856,8.0952380952380949,9.5238095238095237,10.476190476190476,11.428571428571429,13.809523809523808]
[1.290069655938582,3.5376814504464469,5.9374140575528145,8.1265315413475037,10.340537296401131,12.749742322108325,15.141352489590645,17.478792775760997,19.822436384856701,22.736828645755505]
[13,18,14,33,22,16,19,26,14,35]
[6.1904761904761898,8.5714285714285712,6.6666666666666661,15.714285714285714,10.476190476190476,7.6190476190476186,9.0476190476190474,12.38095238095238,6.6666666666666661,16.666666666666664]
[1.5638398390549879,3.3444798787434897,5.8205325603485107,8.2663510495966133,10.321299834684892,12.765684187412262,14.98186206817627,17.369785712315487,19.953864336013794,23.075353036608014]
[26,29,17,22,25,14,27,19,20,11]
[12.38095238095238,13.809523809523808,8.0952380952380949,10.476190476190476,11.904761904761905,6.6666666666666661,12.857142857142856,9.0476190476190474,9.5238095238095237,5.2380952380952381]
[1.3587976304384379,3.7600138064088493,6.3760047449785118,8.701939068057321,11.417424619197845,14.14179333618709,16.740811754156042,19.092426488274022,21.453841850161552,23.941674828529358]
[16,24,32,30,28,20,13,16,4,27]
[7.6190476190476186,11.428571428571429,15.238095238095237,14.285714285714285,13.333333333333332,9.5238095238095237,6.1904761904761898,7.6190476190476186,1.9047619047619047,12.857142857142856]
[2.3994200909984356,6.0912976854708605,9.7070467257592963,13.801593312047833,17.664100750164796,21.934113626781755,26.201897668825406,29.833275238392957,34.293775460607208,52.827561338542417]